Workbook
Name 공사명: [1]기본자료!$I$3
Name 공사명: 기본자료!$I$3
Name 미리가공: #REF!
Name 지목: 기본자료!$E:$F
Name 총갯수: 기본자료!$I$1
Name 코드: 직접데이타입력!$B:$BD
Name 코드tt: #REF!
Name 토지소재지: 기본자료!$A:$C
Name 편입용지: 직접데이타입력!#REF!
Name 편입용지_1: 직접데이타입력!#REF!

Sheet 권리의 명세서(용지조서)
A2: 편입 또는 수용 할 토지 지번·지목과 소유권 이외의 권리의 명세서
A3: 연번 | B3: 소재지 | C3: 지번 | D3: 지목 | E3: 지적 | F3: 편입예정 | G3: 소 유 자 | I3: 이 해 관 계 인 | K3: 소유권 이외의 | M3: 비고
B4: (시· 동) | E4: （㎡） | F4: 면적(㎡) | G4: 주 소 | H4: 성 명 | I4: 주 소 | J4: 성 명 | K4: 권리의종류및내용
A5: =ROW()-4 -> 1 | B5: =VLOOKUP($A5,코드,13,FALSE) -> 의신면 만길리 | C5: =VLOOKUP($A5,코드,3,FALSE) -> 산 99 임 | D5: =VLOOKUP($A5,코드,11,FALSE) -> 임야 | E5: =VLOOKUP($A5,코드,5,FALSE) -> 11204 | F5: =VLOOKUP($A5,코드,10,FALSE) -> 3720 | G5: =VLOOKUP($A5,코드,15,FALSE) -> 광주시 북구 중흥동 335-39 | H5: =VLOOKUP($A5,코드,8,FALSE) -> 조명 외 1인
A6: =ROW()-4 -> 2 | B6: =VLOOKUP($A6,코드,13,FALSE) -> 의신면 만길리 | C6: =VLOOKUP($A6,코드,3,FALSE) -> 산 98 임 | D6: =VLOOKUP($A6,코드,11,FALSE) -> 임야 | E6: =VLOOKUP($A6,코드,5,FALSE) -> 12215 | F6: =VLOOKUP($A6,코드,10,FALSE) -> 70 | G6: =VLOOKUP($A6,코드,15,FALSE) -> 의신면 만길리 145 | H6: =VLOOKUP($A6,코드,8,FALSE) -> 김혈영
A7: =ROW()-4 -> 3 | B7: =VLOOKUP($A7,코드,13,FALSE) | C7: =VLOOKUP($A7,코드,3,FALSE) -> 0 | D7: =VLOOKUP($A7,코드,11,FALSE) | E7: =VLOOKUP($A7,코드,5,FALSE) -> 0 | F7: =VLOOKUP($A7,코드,10,FALSE) -> 0 | G7: =VLOOKUP($A7,코드,15,FALSE) | H7: =VLOOKUP($A7,코드,8,FALSE) -> 0
A8: =ROW()-4 -> 4 | B8: =VLOOKUP($A8,코드,13,FALSE) | C8: =VLOOKUP($A8,코드,3,FALSE) -> 0 | D8: =VLOOKUP($A8,코드,11,FALSE) | E8: =VLOOKUP($A8,코드,5,FALSE) -> 0 | F8: =VLOOKUP($A8,코드,10,FALSE) -> 0 | G8: =VLOOKUP($A8,코드,15,FALSE) | H8: =VLOOKUP($A8,코드,8,FALSE) -> 0
A9: =ROW()-4 -> 5 | B9: =VLOOKUP($A9,코드,13,FALSE) | C9: =VLOOKUP($A9,코드,3,FALSE) -> 0 | D9: =VLOOKUP($A9,코드,11,FALSE) | E9: =VLOOKUP($A9,코드,5,FALSE) -> 0 | F9: =VLOOKUP($A9,코드,10,FALSE) -> 0 | G9: =VLOOKUP($A9,코드,15,FALSE) | H9: =VLOOKUP($A9,코드,8,FALSE) -> 0
A10: =ROW()-4 -> 6 | B10: =VLOOKUP($A10,코드,13,FALSE) | C10: =VLOOKUP($A10,코드,3,FALSE) -> 0 | D10: =VLOOKUP($A10,코드,11,FALSE) | E10: =VLOOKUP($A10,코드,5,FALSE) -> 0 | F10: =VLOOKUP($A10,코드,10,FALSE) -> 0 | G10: =VLOOKUP($A10,코드,15,FALSE) | H10: =VLOOKUP($A10,코드,8,FALSE) -> 0
A11: =ROW()-4 -> 7 | B11: =VLOOKUP($A11,코드,13,FALSE) | C11: =VLOOKUP($A11,코드,3,FALSE) -> 0 | D11: =VLOOKUP($A11,코드,11,FALSE) | E11: =VLOOKUP($A11,코드,5,FALSE) -> 0 | F11: =VLOOKUP($A11,코드,10,FALSE) -> 0 | G11: =VLOOKUP($A11,코드,15,FALSE) | H11: =VLOOKUP($A11,코드,8,FALSE) -> 0
A12: =ROW()-4 -> 8 | B12: =VLOOKUP($A12,코드,13,FALSE) | C12: =VLOOKUP($A12,코드,3,FALSE) -> 0 | D12: =VLOOKUP($A12,코드,11,FALSE) | E12: =VLOOKUP($A12,코드,5,FALSE) -> 0 | F12: =VLOOKUP($A12,코드,10,FALSE) -> 0 | G12: =VLOOKUP($A12,코드,15,FALSE) | H12: =VLOOKUP($A12,코드,8,FALSE) -> 0
A13: =ROW()-4 -> 9 | B13: =VLOOKUP($A13,코드,13,FALSE) | C13: =VLOOKUP($A13,코드,3,FALSE) -> 0 | D13: =VLOOKUP($A13,코드,11,FALSE) | E13: =VLOOKUP($A13,코드,5,FALSE) -> 0 | F13: =VLOOKUP($A13,코드,10,FALSE) -> 0 | G13: =VLOOKUP($A13,코드,15,FALSE) | H13: =VLOOKUP($A13,코드,8,FALSE) -> 0
A14: =ROW()-4 -> 10 | B14: =VLOOKUP($A14,코드,13,FALSE) | C14: =VLOOKUP($A14,코드,3,FALSE) -> 0 | D14: =VLOOKUP($A14,코드,11,FALSE) | E14: =VLOOKUP($A14,코드,5,FALSE) -> 0 | F14: =VLOOKUP($A14,코드,10,FALSE) -> 0 | G14: =VLOOKUP($A14,코드,15,FALSE) | H14: =VLOOKUP($A14,코드,8,FALSE) -> 0
A15: =ROW()-4 -> 11 | B15: =VLOOKUP($A15,코드,13,FALSE) | C15: =VLOOKUP($A15,코드,3,FALSE) -> 0 | D15: =VLOOKUP($A15,코드,11,FALSE) | E15: =VLOOKUP($A15,코드,5,FALSE) -> 0 | F15: =VLOOKUP($A15,코드,10,FALSE) -> 0 | H15: =VLOOKUP($A15,코드,8,FALSE) -> 0
A16: =ROW()-4 -> 12 | B16: =VLOOKUP($A16,코드,13,FALSE) | C16: =VLOOKUP($A16,코드,3,FALSE) -> 0 | D16: =VLOOKUP($A16,코드,11,FALSE) | E16: =VLOOKUP($A16,코드,5,FALSE) -> 0 | F16: =VLOOKUP($A16,코드,10,FALSE) -> 0 | G16: =VLOOKUP($A16,코드,15,FALSE) | H16: =VLOOKUP($A16,코드,8,FALSE) -> 0
A17: =ROW()-4 -> 13 | B17: =VLOOKUP($A17,코드,13,FALSE) | C17: =VLOOKUP($A17,코드,3,FALSE) -> 0 | D17: =VLOOKUP($A17,코드,11,FALSE) | E17: =VLOOKUP($A17,코드,5,FALSE) -> 0 | F17: =VLOOKUP($A17,코드,10,FALSE) -> 0 | G17: =VLOOKUP($A17,코드,15,FALSE) | H17: =VLOOKUP($A17,코드,8,FALSE) -> 0
A18: =ROW()-4 -> 14 | B18: =VLOOKUP($A18,코드,13,FALSE) | C18: =VLOOKUP($A18,코드,3,FALSE) -> 0 | D18: =VLOOKUP($A18,코드,11,FALSE) | E18: =VLOOKUP($A18,코드,5,FALSE) -> 0 | F18: =VLOOKUP($A18,코드,10,FALSE) -> 0 | G18: =VLOOKUP($A18,코드,15,FALSE) | H18: =VLOOKUP($A18,코드,8,FALSE) -> 0
A19: =ROW()-4 -> 15 | B19: =VLOOKUP($A19,코드,13,FALSE) | C19: =VLOOKUP($A19,코드,3,FALSE) -> 0 | D19: =VLOOKUP($A19,코드,11,FALSE) | E19: =VLOOKUP($A19,코드,5,FALSE) -> 0 | F19: =VLOOKUP($A19,코드,10,FALSE) -> 0 | G19: =VLOOKUP($A19,코드,15,FALSE) | H19: =VLOOKUP($A19,코드,8,FALSE) -> 0
A20: =ROW()-4 -> 16 | B20: =VLOOKUP($A20,코드,13,FALSE) | C20: =VLOOKUP($A20,코드,3,FALSE) -> 0 | D20: =VLOOKUP($A20,코드,11,FALSE) | E20: =VLOOKUP($A20,코드,5,FALSE) -> 0 | F20: =VLOOKUP($A20,코드,10,FALSE) -> 0 | G20: =VLOOKUP($A20,코드,15,FALSE) | H20: =VLOOKUP($A20,코드,8,FALSE) -> 0
A21: =ROW()-4 -> 17 | B21: =VLOOKUP($A21,코드,13,FALSE) | C21: =VLOOKUP($A21,코드,3,FALSE) -> 0 | D21: =VLOOKUP($A21,코드,11,FALSE) | E21: =VLOOKUP($A21,코드,5,FALSE) -> 0 | F21: =VLOOKUP($A21,코드,10,FALSE) -> 0 | G21: =VLOOKUP($A21,코드,15,FALSE) | H21: =VLOOKUP($A21,코드,8,FALSE) -> 0
A22: =ROW()-4 -> 18 | B22: =VLOOKUP($A22,코드,13,FALSE) | C22: =VLOOKUP($A22,코드,3,FALSE) -> 0 | D22: =VLOOKUP($A22,코드,11,FALSE) | E22: =VLOOKUP($A22,코드,5,FALSE) -> 0 | F22: =VLOOKUP($A22,코드,10,FALSE) -> 0 | G22: =VLOOKUP($A22,코드,15,FALSE) | H22: =VLOOKUP($A22,코드,8,FALSE) -> 0
A23: =ROW()-4 -> 19 | B23: =VLOOKUP($A23,코드,13,FALSE) | C23: =VLOOKUP($A23,코드,3,FALSE) -> 0 | D23: =VLOOKUP($A23,코드,11,FALSE) | E23: =VLOOKUP($A23,코드,5,FALSE) -> 0 | F23: =VLOOKUP($A23,코드,10,FALSE) -> 0 | G23: =VLOOKUP($A23,코드,15,FALSE) | H23: =VLOOKUP($A23,코드,8,FALSE) -> 0
A24: =ROW()-4 -> 20 | B24: =VLOOKUP($A24,코드,13,FALSE) | C24: =VLOOKUP($A24,코드,3,FALSE) -> 0 | D24: =VLOOKUP($A24,코드,11,FALSE) | E24: =VLOOKUP($A24,코드,5,FALSE) -> 0 | F24: =VLOOKUP($A24,코드,10,FALSE) -> 0 | G24: =VLOOKUP($A24,코드,15,FALSE) | H24: =VLOOKUP($A24,코드,8,FALSE) -> 0
A25: 소 계 | F25: =SUM(F5:F24) -> 3790
A26: 총 계 | F26: =SUM(F25) -> 3790

Sheet 기본자료
A1: KEY | B1: 토지소재지 | E1: KEY | F1: 지목 | H1: 총갯수 | I1: =COUNT(직접데이타입력!C7:C122) -> 2
B2: 시 | C2: 리,동 | E2: 1 | F2: 전
A3: 1 | B3: 의신면 | C3: 만길리 | E3: 2 | F3: 답 | H3: 공사명 | I3: 만길지구 급경사지 붕괴위험지역 정비사업
A4: 2 | E4: 3 | F4: 임야
A5: 3 | E5: 4 | F5: 대지 | H5: 전라남도도청싸이트
A6: 4 | E6: 5 | F6: 도로 | H6: www.provin.chonnam.kr
A7: 5 | E7: 6 | F7: 하천 | H7: 전라남도내 군싸이트가 있음.
A8: 6 | E8: 7 | F8: 구거 | H8: 전화번호찾을때사용
A9: 7 | E9: 8 | F9: 묘지
E10: 9 | F10: 제방
E11: 10 | F11: 유지
E12: 11 | F12: 공원
E13: 12 | F13: 체육용지
E14: 13 | F14: 잡종지
E15: 14 | F15: 철도용지
E16: 15 | F16: 종교용지
E17: 16 | F17: 학교용지
E18: 17 | F18: 목장
E19: 18 | F19: 주차장
E20: 19 | F20: 창고

Sheet 직접데이타입력
C1: @ 국유지는 소유지 주소의 마지막글자가 부 , 시, 군 , 청, 도, 사으로 끝날경우 국유지로 판단 | S1: =IF(R1="전","1",IF(R1="답","2",IF(R1="임","3",IF(R1="대","4",IF(R1="도","5",IF(R1="천","6",IF(R1="구","7",IF(R1="묘","8")))))))) -> FALSE
C2: 지목코드 : [전 : 1] [답 : 2] [임야 : 3] [대지 : 4] [도로 : 5] [하천 : 6] [구거 : 7] [묘지 : 8] [제방 : 9] [유지 : 10] [공원 : 11] [체육용지 : 12] [잡종지 : 13] [철도용지: 14] [종교용지 : 15]
A4: A | B4: B | C4: 2 | D4: 3 | E4: 4 | F4: 5 | G4: 6 | H4: 7 | I4: 8 | J4: 9 | K4: 10 | L4: 11 | M4: 12 | N4: 13 | O4: 14 | P4: 15 | Q4: 16 | R4: 17 | S4: 18 | T4: 19
A5: Code | B5: NO. | C5: 토지소재지 | E5: 지목 | F5: 지적(m2) | G5: 소유지 주소 | I5: 성명 | J5: 편입지적(m2) | L5: 지목 | M5: 소유지 | N5: 토지소재지 | O5: 구분1 | P5: 소유지 주소 | Q5: 토지코드자동구분 | R5: 성명가공
C6: 코드 | D6: 지번 | F6: 면적 | H6: 번지수 | J6: 구역내 | K6: 자동입력 | M6: 구분 | S6: 공시지가 | T6: 지목 | V6: 일/전
A7: =M7&"-"&IF(LENB(E7)=1,0&E7,E7) -> 1-03 | B7: =ROW()-6 -> 1 | C7: 1 | D7: 산 99 임 | E7: =IF(T7="전","1",IF(T7="답","2",IF(T7="임","3",IF(T7="대","4",IF(T7="도","5",IF(T7="유","10",IF(T7="구","7",IF(T7="종","15")))))))) -> 3 | F7: 11204 | G7: 광주시 북구 중흥동 | H7: 335-39 | I7: 조명 외 1인 | J7: 3720 | K7: =J7 -> 3720 | L7: =IF(C7="","",VLOOKUP(E7,지목,2,FALSE)) -> 임야 | M7: =IF(C7="","",IF(O7="부",2,IF(O7="시",2,IF(O7="군",2,IF(O7="청",2,IF(O7="도",2,IF(O7="사",2,1))))))) -> 1 | N7: =IF(C7="","",VLOOKUP(Q7,토지소재지,2,FALSE)&" "&VLOOKUP(Q7,토지소재지,3,FALSE)) -> 의신면 만길리 | O7: =IF(ISBLANK(N7),"",IF(G7=0,"",RIGHT(G7,1))) | P7: =IF(C7="","",IF(OR(ISBLANK(G7),G7=""),VLOOKUP(C7,토지소재지,2,FALSE)&" "&VLOOKUP(C7,토지소재지,3,FALSE)&" "&H7,G7&" "&H7)) -> 광주시 북구 중흥동 335-39 | Q7: =IF(ISBLANK(C7),#REF!,C7) -> 1 | R7: =IF(M7=2,"국유지",IF(LEN(I7)=3,LEFT(I7,1)&" "&RIGHT(I7,2),I7)) -> 조명 외 1인 | T7: 임 | U7: =IF(F7>=K7,"OK","NO") -> OK
A8: =M8&"-"&IF(LENB(E8)=1,0&E8,E8) -> 1-03 | B8: =ROW()-6 -> 2 | C8: 1 | D8: 산 98 임 | E8: =IF(T8="전","1",IF(T8="답","2",IF(T8="임","3",IF(T8="대","4",IF(T8="도","5",IF(T8="유","10",IF(T8="구","7",IF(T8="종","15")))))))) -> 3 | F8: 12215 | G8: 의신면 만길리 | H8: 145 | I8: 김혈영 | J8: 70 | K8: =J8 -> 70 | L8: =IF(C8="","",VLOOKUP(E8,지목,2,FALSE)) -> 임야 | M8: =IF(C8="","",IF(O8="부",2,IF(O8="시",2,IF(O8="군",2,IF(O8="청",2,IF(O8="도",2,IF(O8="사",2,1))))))) -> 1 | N8: =IF(C8="","",VLOOKUP(Q8,토지소재지,2,FALSE)&" "&VLOOKUP(Q8,토지소재지,3,FALSE)) -> 의신면 만길리 | O8: =IF(ISBLANK(N8),"",IF(G8=0,"",RIGHT(G8,1))) -> 리 | P8: =IF(C8="","",IF(OR(ISBLANK(G8),G8=""),VLOOKUP(C8,토지소재지,2,FALSE)&" "&VLOOKUP(C8,토지소재지,3,FALSE)&" "&H8,G8&" "&H8)) -> 의신면 만길리 145 | Q8: =IF(ISBLANK(C8),#REF!,C8) -> 1 | R8: =IF(M8=2,"국유지",IF(LEN(I8)=3,LEFT(I8,1)&" "&RIGHT(I8,2),I8)) -> 김 혈영 | T8: 임 | U8: =IF(F8>=K8,"OK","NO") -> OK
A9: =M9&"-"&IF(LENB(E9)=1,0&E9,E9) -> -05 | B9: =ROW()-6 -> 3 | E9: =IF(T9="전","1",IF(T9="답","2",IF(T9="임","3",IF(T9="대","4",IF(T9="도","5",IF(T9="유","10",IF(T9="구","7",IF(T9="종","15")))))))) -> 5 | K9: =J9 -> 0 | L9: =IF(C9="","",VLOOKUP(E9,지목,2,FALSE)) | M9: =IF(C9="","",IF(O9="부",2,IF(O9="시",2,IF(O9="군",2,IF(O9="청",2,IF(O9="도",2,IF(O9="사",2,1))))))) | N9: =IF(C9="","",VLOOKUP(Q9,토지소재지,2,FALSE)&" "&VLOOKUP(Q9,토지소재지,3,FALSE)) | O9: =IF(ISBLANK(N9),"",IF(G9=0,"",RIGHT(G9,1))) | P9: =IF(C9="","",IF(OR(ISBLANK(G9),G9=""),VLOOKUP(C9,토지소재지,2,FALSE)&" "&VLOOKUP(C9,토지소재지,3,FALSE)&" "&H9,G9&" "&H9)) | Q9: =IF(ISBLANK(C9),#REF!,C9) -> #REF! | R9: =IF(M9=2,"국유지",IF(LEN(I9)=3,LEFT(I9,1)&" "&RIGHT(I9,2),I9)) -> 0 | T9: 도 | U9: =IF(F9>=K9,"OK","NO") -> OK
A10: =M10&"-"&IF(LENB(E10)=1,0&E10,E10) -> -01 | B10: =ROW()-6 -> 4 | E10: =IF(T10="전","1",IF(T10="답","2",IF(T10="임","3",IF(T10="대","4",IF(T10="도","5",IF(T10="유","10",IF(T10="구","7",IF(T10="종","15")))))))) -> 1 | K10: =J10 -> 0 | L10: =IF(C10="","",VLOOKUP(E10,지목,2,FALSE)) | M10: =IF(C10="","",IF(O10="부",2,IF(O10="시",2,IF(O10="군",2,IF(O10="청",2,IF(O10="도",2,IF(O10="사",2,1))))))) | N10: =IF(C10="","",VLOOKUP(Q10,토지소재지,2,FALSE)&" "&VLOOKUP(Q10,토지소재지,3,FALSE)) | O10: =IF(ISBLANK(N10),"",IF(G10=0,"",RIGHT(G10,1))) | P10: =IF(C10="","",IF(OR(ISBLANK(G10),G10=""),VLOOKUP(C10,토지소재지,2,FALSE)&" "&VLOOKUP(C10,토지소재지,3,FALSE)&" "&H10,G10&" "&H10)) | Q10: =IF(ISBLANK(C10),#REF!,C10) -> #REF! | R10: =IF(M10=2,"국유지",IF(LEN(I10)=3,LEFT(I10,1)&" "&RIGHT(I10,2),I10)) -> 0 | T10: 전 | U10: =IF(F10>=K10,"OK","NO") -> OK
A11: =M11&"-"&IF(LENB(E11)=1,0&E11,E11) -> -05 | B11: =ROW()-6 -> 5 | E11: =IF(T11="전","1",IF(T11="답","2",IF(T11="임","3",IF(T11="대","4",IF(T11="도","5",IF(T11="유","10",IF(T11="구","7",IF(T11="종","15")))))))) -> 5 | K11: =J11 -> 0 | L11: =IF(C11="","",VLOOKUP(E11,지목,2,FALSE)) | M11: =IF(C11="","",IF(O11="부",2,IF(O11="시",2,IF(O11="군",2,IF(O11="청",2,IF(O11="도",2,IF(O11="사",2,1))))))) | N11: =IF(C11="","",VLOOKUP(Q11,토지소재지,2,FALSE)&" "&VLOOKUP(Q11,토지소재지,3,FALSE)) | O11: =IF(ISBLANK(N11),"",IF(G11=0,"",RIGHT(G11,1))) | P11: =IF(C11="","",IF(OR(ISBLANK(G11),G11=""),VLOOKUP(C11,토지소재지,2,FALSE)&" "&VLOOKUP(C11,토지소재지,3,FALSE)&" "&H11,G11&" "&H11)) | Q11: =IF(ISBLANK(C11),#REF!,C11) -> #REF! | R11: =IF(M11=2,"국유지",IF(LEN(I11)=3,LEFT(I11,1)&" "&RIGHT(I11,2),I11)) -> 0 | T11: 도 | U11: =IF(F11>=K11,"OK","NO") -> OK
A12: =M12&"-"&IF(LENB(E12)=1,0&E12,E12) -> -01 | B12: =ROW()-6 -> 6 | E12: =IF(T12="전","1",IF(T12="답","2",IF(T12="임","3",IF(T12="대","4",IF(T12="도","5",IF(T12="유","10",IF(T12="구","7",IF(T12="종","15")))))))) -> 1 | K12: =J12 -> 0 | L12: =IF(C12="","",VLOOKUP(E12,지목,2,FALSE)) | M12: =IF(C12="","",IF(O12="부",2,IF(O12="시",2,IF(O12="군",2,IF(O12="청",2,IF(O12="도",2,IF(O12="사",2,1))))))) | N12: =IF(C12="","",VLOOKUP(Q12,토지소재지,2,FALSE)&" "&VLOOKUP(Q12,토지소재지,3,FALSE)) | O12: =IF(ISBLANK(N12),"",IF(G12=0,"",RIGHT(G12,1))) | P12: =IF(C12="","",IF(OR(ISBLANK(G12),G12=""),VLOOKUP(C12,토지소재지,2,FALSE)&" "&VLOOKUP(C12,토지소재지,3,FALSE)&" "&H12,G12&" "&H12)) | Q12: =IF(ISBLANK(C12),#REF!,C12) -> #REF! | R12: =IF(M12=2,"국유지",IF(LEN(I12)=3,LEFT(I12,1)&" "&RIGHT(I12,2),I12)) -> 0 | T12: 전 | U12: =IF(F12>=K12,"OK","NO") -> OK
A13: =M13&"-"&IF(LENB(E13)=1,0&E13,E13) -> -05 | B13: =ROW()-6 -> 7 | E13: =IF(T13="전","1",IF(T13="답","2",IF(T13="임","3",IF(T13="대","4",IF(T13="도","5",IF(T13="유","10",IF(T13="구","7",IF(T13="종","15")))))))) -> 5 | K13: =J13 -> 0 | L13: =IF(C13="","",VLOOKUP(E13,지목,2,FALSE)) | M13: =IF(C13="","",IF(O13="부",2,IF(O13="시",2,IF(O13="군",2,IF(O13="청",2,IF(O13="도",2,IF(O13="사",2,1))))))) | N13: =IF(C13="","",VLOOKUP(Q13,토지소재지,2,FALSE)&" "&VLOOKUP(Q13,토지소재지,3,FALSE)) | O13: =IF(ISBLANK(N13),"",IF(G13=0,"",RIGHT(G13,1))) | P13: =IF(C13="","",IF(OR(ISBLANK(G13),G13=""),VLOOKUP(C13,토지소재지,2,FALSE)&" "&VLOOKUP(C13,토지소재지,3,FALSE)&" "&H13,G13&" "&H13)) | Q13: =IF(ISBLANK(C13),#REF!,C13) -> #REF! | R13: =IF(M13=2,"국유지",IF(LEN(I13)=3,LEFT(I13,1)&" "&RIGHT(I13,2),I13)) -> 0 | T13: 도 | U13: =IF(F13>=K13,"OK","NO") -> OK
A14: =M14&"-"&IF(LENB(E14)=1,0&E14,E14) -> -05 | B14: =ROW()-6 -> 8 | E14: =IF(T14="전","1",IF(T14="답","2",IF(T14="임","3",IF(T14="대","4",IF(T14="도","5",IF(T14="유","10",IF(T14="구","7",IF(T14="종","15")))))))) -> 5 | K14: =J14 -> 0 | L14: =IF(C14="","",VLOOKUP(E14,지목,2,FALSE)) | M14: =IF(C14="","",IF(O14="부",2,IF(O14="시",2,IF(O14="군",2,IF(O14="청",2,IF(O14="도",2,IF(O14="사",2,1))))))) | N14: =IF(C14="","",VLOOKUP(Q14,토지소재지,2,FALSE)&" "&VLOOKUP(Q14,토지소재지,3,FALSE)) | O14: =IF(ISBLANK(N14),"",IF(G14=0,"",RIGHT(G14,1))) | P14: =IF(C14="","",IF(OR(ISBLANK(G14),G14=""),VLOOKUP(C14,토지소재지,2,FALSE)&" "&VLOOKUP(C14,토지소재지,3,FALSE)&" "&H14,G14&" "&H14)) | Q14: =IF(ISBLANK(C14),#REF!,C14) -> #REF! | R14: =IF(M14=2,"국유지",IF(LEN(I14)=3,LEFT(I14,1)&" "&RIGHT(I14,2),I14)) -> 0 | T14: 도 | U14: =IF(F14>=K14,"OK","NO") -> OK
A15: =M15&"-"&IF(LENB(E15)=1,0&E15,E15) -> -01 | B15: =ROW()-6 -> 9 | E15: =IF(T15="전","1",IF(T15="답","2",IF(T15="임","3",IF(T15="대","4",IF(T15="도","5",IF(T15="유","10",IF(T15="구","7",IF(T15="종","15")))))))) -> 1 | K15: =J15 -> 0 | L15: =IF(C15="","",VLOOKUP(E15,지목,2,FALSE)) | M15: =IF(C15="","",IF(O15="부",2,IF(O15="시",2,IF(O15="군",2,IF(O15="청",2,IF(O15="도",2,IF(O15="사",2,1))))))) | N15: =IF(C15="","",VLOOKUP(Q15,토지소재지,2,FALSE)&" "&VLOOKUP(Q15,토지소재지,3,FALSE)) | O15: =IF(ISBLANK(N15),"",IF(G15=0,"",RIGHT(G15,1))) | P15: =IF(C15="","",IF(OR(ISBLANK(G15),G15=""),VLOOKUP(C15,토지소재지,2,FALSE)&" "&VLOOKUP(C15,토지소재지,3,FALSE)&" "&H15,G15&" "&H15)) | Q15: =IF(ISBLANK(C15),#REF!,C15) -> #REF! | R15: =IF(M15=2,"국유지",IF(LEN(I15)=3,LEFT(I15,1)&" "&RIGHT(I15,2),I15)) -> 0 | S15: 16500 | T15: 전 | U15: =IF(F15>=K15,"OK","NO") -> OK
A16: =M16&"-"&IF(LENB(E16)=1,0&E16,E16) -> -01 | B16: =ROW()-6 -> 10 | E16: =IF(T16="전","1",IF(T16="답","2",IF(T16="임","3",IF(T16="대","4",IF(T16="도","5",IF(T16="유","10",IF(T16="구","7",IF(T16="종","15")))))))) -> 1 | K16: =J16 -> 0 | L16: =IF(C16="","",VLOOKUP(E16,지목,2,FALSE)) | M16: =IF(C16="","",IF(O16="부",2,IF(O16="시",2,IF(O16="군",2,IF(O16="청",2,IF(O16="도",2,IF(O16="사",2,1))))))) | N16: =IF(C16="","",VLOOKUP(Q16,토지소재지,2,FALSE)&" "&VLOOKUP(Q16,토지소재지,3,FALSE)) | O16: =IF(ISBLANK(N16),"",IF(G16=0,"",RIGHT(G16,1))) | P16: =IF(C16="","",IF(OR(ISBLANK(G16),G16=""),VLOOKUP(C16,토지소재지,2,FALSE)&" "&VLOOKUP(C16,토지소재지,3,FALSE)&" "&H16,G16&" "&H16)) | Q16: =IF(ISBLANK(C16),#REF!,C16) -> #REF! | R16: =IF(M16=2,"국유지",IF(LEN(I16)=3,LEFT(I16,1)&" "&RIGHT(I16,2),I16)) -> 0 | S16: 16500 | T16: 전 | U16: =IF(F16>=K16,"OK","NO") -> OK
A17: =M17&"-"&IF(LENB(E17)=1,0&E17,E17) -> -03 | B17: =ROW()-6 -> 11 | E17: =IF(T17="전","1",IF(T17="답","2",IF(T17="임","3",IF(T17="대","4",IF(T17="도","5",IF(T17="유","10",IF(T17="구","7",IF(T17="종","15")))))))) -> 3 | K17: =J17 -> 0 | L17: =IF(C17="","",VLOOKUP(E17,지목,2,FALSE)) | M17: =IF(C17="","",IF(O17="부",2,IF(O17="시",2,IF(O17="군",2,IF(O17="청",2,IF(O17="도",2,IF(O17="사",2,1))))))) | N17: =IF(C17="","",VLOOKUP(Q17,토지소재지,2,FALSE)&" "&VLOOKUP(Q17,토지소재지,3,FALSE)) | O17: =IF(ISBLANK(N17),"",IF(G17=0,"",RIGHT(G17,1))) | P17: =IF(C17="","",IF(OR(ISBLANK(G17),G17=""),VLOOKUP(C17,토지소재지,2,FALSE)&" "&VLOOKUP(C17,토지소재지,3,FALSE)&" "&H17,G17&" "&H17)) | Q17: =IF(ISBLANK(C17),#REF!,C17) -> #REF! | R17: =IF(M17=2,"국유지",IF(LEN(I17)=3,LEFT(I17,1)&" "&RIGHT(I17,2),I17)) -> 0 | S17: 20000 | T17: 임 | U17: =IF(F17>=K17,"OK","NO") -> OK
A18: =M18&"-"&IF(LENB(E18)=1,0&E18,E18) -> -01 | B18: =ROW()-6 -> 12 | E18: =IF(T18="전","1",IF(T18="답","2",IF(T18="임","3",IF(T18="대","4",IF(T18="도","5",IF(T18="유","10",IF(T18="구","7",IF(T18="종","15")))))))) -> 1 | K18: =J18 -> 0 | L18: =IF(C18="","",VLOOKUP(E18,지목,2,FALSE)) | M18: =IF(C18="","",IF(O18="부",2,IF(O18="시",2,IF(O18="군",2,IF(O18="청",2,IF(O18="도",2,IF(O18="사",2,1))))))) | N18: =IF(C18="","",VLOOKUP(Q18,토지소재지,2,FALSE)&" "&VLOOKUP(Q18,토지소재지,3,FALSE)) | O18: =IF(ISBLANK(N18),"",IF(G18=0,"",RIGHT(G18,1))) | P18: =IF(C18="","",IF(OR(ISBLANK(G18),G18=""),VLOOKUP(C18,토지소재지,2,FALSE)&" "&VLOOKUP(C18,토지소재지,3,FALSE)&" "&H18,G18&" "&H18)) | Q18: =IF(ISBLANK(C18),#REF!,C18) -> #REF! | R18: =IF(M18=2,"국유지",IF(LEN(I18)=3,LEFT(I18,1)&" "&RIGHT(I18,2),I18)) -> 0 | S18: 19600 | T18: 전 | U18: =IF(F18>=K18,"OK","NO") -> OK
A19: =M19&"-"&IF(LENB(E19)=1,0&E19,E19) -> -05 | B19: =ROW()-6 -> 13 | E19: =IF(T19="전","1",IF(T19="답","2",IF(T19="임","3",IF(T19="대","4",IF(T19="도","5",IF(T19="유","10",IF(T19="구","7",IF(T19="종","15")))))))) -> 5 | K19: =J19 -> 0 | L19: =IF(C19="","",VLOOKUP(E19,지목,2,FALSE)) | M19: =IF(C19="","",IF(O19="부",2,IF(O19="시",2,IF(O19="군",2,IF(O19="청",2,IF(O19="도",2,IF(O19="사",2,1))))))) | N19: =IF(C19="","",VLOOKUP(Q19,토지소재지,2,FALSE)&" "&VLOOKUP(Q19,토지소재지,3,FALSE)) | O19: =IF(ISBLANK(N19),"",IF(G19=0,"",RIGHT(G19,1))) | P19: =IF(C19="","",IF(OR(ISBLANK(G19),G19=""),VLOOKUP(C19,토지소재지,2,FALSE)&" "&VLOOKUP(C19,토지소재지,3,FALSE)&" "&H19,G19&" "&H19)) | Q19: =IF(ISBLANK(C19),#REF!,C19) -> #REF! | R19: =IF(M19=2,"국유지",IF(LEN(I19)=3,LEFT(I19,1)&" "&RIGHT(I19,2),I19)) -> 0 | T19: 도 | U19: =IF(F19>=K19,"OK","NO") -> OK
A20: =M20&"-"&IF(LENB(E20)=1,0&E20,E20) -> -01 | B20: =ROW()-6 -> 14 | E20: =IF(T20="전","1",IF(T20="답","2",IF(T20="임","3",IF(T20="대","4",IF(T20="도","5",IF(T20="유","10",IF(T20="구","7",IF(T20="종","15")))))))) -> 1 | K20: =J20 -> 0 | L20: =IF(C20="","",VLOOKUP(E20,지목,2,FALSE)) | M20: =IF(C20="","",IF(O20="부",2,IF(O20="시",2,IF(O20="군",2,IF(O20="청",2,IF(O20="도",2,IF(O20="사",2,1))))))) | N20: =IF(C20="","",VLOOKUP(Q20,토지소재지,2,FALSE)&" "&VLOOKUP(Q20,토지소재지,3,FALSE)) | O20: =IF(ISBLANK(N20),"",IF(G20=0,"",RIGHT(G20,1))) | P20: =IF(C20="","",IF(OR(ISBLANK(G20),G20=""),VLOOKUP(C20,토지소재지,2,FALSE)&" "&VLOOKUP(C20,토지소재지,3,FALSE)&" "&H20,G20&" "&H20)) | Q20: =IF(ISBLANK(C20),#REF!,C20) -> #REF! | R20: =IF(M20=2,"국유지",IF(LEN(I20)=3,LEFT(I20,1)&" "&RIGHT(I20,2),I20)) -> 0 | S20: 51100 | T20: 전 | U20: =IF(F20>=K20,"OK","NO") -> OK
A21: =M21&"-"&IF(LENB(E21)=1,0&E21,E21) -> -05 | B21: =ROW()-6 -> 15 | E21: =IF(T21="전","1",IF(T21="답","2",IF(T21="임","3",IF(T21="대","4",IF(T21="도","5",IF(T21="유","10",IF(T21="구","7",IF(T21="종","15")))))))) -> 5 | K21: =J21 -> 0 | L21: =IF(C21="","",VLOOKUP(E21,지목,2,FALSE)) | M21: =IF(C21="","",IF(O21="부",2,IF(O21="시",2,IF(O21="군",2,IF(O21="청",2,IF(O21="도",2,IF(O21="사",2,1))))))) | N21: =IF(C21="","",VLOOKUP(Q21,토지소재지,2,FALSE)&" "&VLOOKUP(Q21,토지소재지,3,FALSE)) | O21: =IF(ISBLANK(N21),"",IF(G21=0,"",RIGHT(G21,1))) | P21: =IF(C21="","",IF(OR(ISBLANK(G21),G21=""),VLOOKUP(C21,토지소재지,2,FALSE)&" "&VLOOKUP(C21,토지소재지,3,FALSE)&" "&H21,G21&" "&H21)) | Q21: =IF(ISBLANK(C21),#REF!,C21) -> #REF! | R21: =IF(M21=2,"국유지",IF(LEN(I21)=3,LEFT(I21,1)&" "&RIGHT(I21,2),I21)) -> 0 | T21: 도 | U21: =IF(F21>=K21,"OK","NO") -> OK
A22: =M22&"-"&IF(LENB(E22)=1,0&E22,E22) -> -05 | B22: =ROW()-6 -> 16 | E22: =IF(T22="전","1",IF(T22="답","2",IF(T22="임","3",IF(T22="대","4",IF(T22="도","5",IF(T22="유","10",IF(T22="구","7",IF(T22="종","15")))))))) -> 5 | K22: =J22 -> 0 | L22: =IF(C22="","",VLOOKUP(E22,지목,2,FALSE)) | M22: =IF(C22="","",IF(O22="부",2,IF(O22="시",2,IF(O22="군",2,IF(O22="청",2,IF(O22="도",2,IF(O22="사",2,1))))))) | N22: =IF(C22="","",VLOOKUP(Q22,토지소재지,2,FALSE)&" "&VLOOKUP(Q22,토지소재지,3,FALSE)) | O22: =IF(ISBLANK(N22),"",IF(G22=0,"",RIGHT(G22,1))) | P22: =IF(C22="","",IF(OR(ISBLANK(G22),G22=""),VLOOKUP(C22,토지소재지,2,FALSE)&" "&VLOOKUP(C22,토지소재지,3,FALSE)&" "&H22,G22&" "&H22)) | Q22: =IF(ISBLANK(C22),#REF!,C22) -> #REF! | R22: =IF(M22=2,"국유지",IF(LEN(I22)=3,LEFT(I22,1)&" "&RIGHT(I22,2),I22)) -> 0 | T22: 도 | U22: =IF(F22>=K22,"OK","NO") -> OK
A23: =M23&"-"&IF(LENB(E23)=1,0&E23,E23) -> -08 | B23: =ROW()-6 -> 17 | E23: =IF(T23="전","1",IF(T23="답","2",IF(T23="임","3",IF(T23="대","4",IF(T23="도","5",IF(T23="유","10",IF(T23="구","7",IF(T23="묘","8")))))))) -> 8 | K23: =J23 -> 0 | L23: =IF(C23="","",VLOOKUP(E23,지목,2,FALSE)) | M23: =IF(C23="","",IF(O23="부",2,IF(O23="시",2,IF(O23="군",2,IF(O23="청",2,IF(O23="도",2,IF(O23="사",2,1))))))) | N23: =IF(C23="","",VLOOKUP(Q23,토지소재지,2,FALSE)&" "&VLOOKUP(Q23,토지소재지,3,FALSE)) | O23: =IF(ISBLANK(N23),"",IF(G23=0,"",RIGHT(G23,1))) | P23: =IF(C23="","",IF(OR(ISBLANK(G23),G23=""),VLOOKUP(C23,토지소재지,2,FALSE)&" "&VLOOKUP(C23,토지소재지,3,FALSE)&" "&H23,G23&" "&H23)) | Q23: =IF(ISBLANK(C23),#REF!,C23) -> #REF! | R23: =IF(M23=2,"국유지",IF(LEN(I23)=3,LEFT(I23,1)&" "&RIGHT(I23,2),I23)) -> 0 | S23: 27300 | T23: 묘 | U23: =IF(F23>=K23,"OK","NO") -> OK
A24: =M24&"-"&IF(LENB(E24)=1,0&E24,E24) -> -05 | B24: =ROW()-6 -> 18 | E24: =IF(T24="전","1",IF(T24="답","2",IF(T24="임","3",IF(T24="대","4",IF(T24="도","5",IF(T24="유","10",IF(T24="구","7",IF(T24="종","15")))))))) -> 5 | K24: =J24 -> 0 | L24: =IF(C24="","",VLOOKUP(E24,지목,2,FALSE)) | M24: =IF(C24="","",IF(O24="부",2,IF(O24="시",2,IF(O24="군",2,IF(O24="청",2,IF(O24="도",2,IF(O24="사",2,1))))))) | N24: =IF(C24="","",VLOOKUP(Q24,토지소재지,2,FALSE)&" "&VLOOKUP(Q24,토지소재지,3,FALSE)) | O24: =IF(ISBLANK(N24),"",IF(G24=0,"",RIGHT(G24,1))) | P24: =IF(C24="","",IF(OR(ISBLANK(G24),G24=""),VLOOKUP(C24,토지소재지,2,FALSE)&" "&VLOOKUP(C24,토지소재지,3,FALSE)&" "&H24,G24&" "&H24)) | Q24: =IF(ISBLANK(C24),#REF!,C24) -> #REF! | R24: =IF(M24=2,"국유지",IF(LEN(I24)=3,LEFT(I24,1)&" "&RIGHT(I24,2),I24)) -> 0 | T24: 도 | U24: =IF(F24>=K24,"OK","NO") -> OK
A25: =M25&"-"&IF(LENB(E25)=1,0&E25,E25) -> -05 | B25: =ROW()-6 -> 19 | E25: =IF(T25="전","1",IF(T25="답","2",IF(T25="임","3",IF(T25="대","4",IF(T25="도","5",IF(T25="유","10",IF(T25="구","7",IF(T25="종","15")))))))) -> 5 | K25: =J25 -> 0 | L25: =IF(C25="","",VLOOKUP(E25,지목,2,FALSE)) | M25: =IF(C25="","",IF(O25="부",2,IF(O25="시",2,IF(O25="군",2,IF(O25="청",2,IF(O25="도",2,IF(O25="사",2,1))))))) | N25: =IF(C25="","",VLOOKUP(Q25,토지소재지,2,FALSE)&" "&VLOOKUP(Q25,토지소재지,3,FALSE)) | O25: =IF(ISBLANK(N25),"",IF(G25=0,"",RIGHT(G25,1))) | P25: =IF(C25="","",IF(OR(ISBLANK(G25),G25=""),VLOOKUP(C25,토지소재지,2,FALSE)&" "&VLOOKUP(C25,토지소재지,3,FALSE)&" "&H25,G25&" "&H25)) | Q25: =IF(ISBLANK(C25),#REF!,C25) -> #REF! | R25: =IF(M25=2,"국유지",IF(LEN(I25)=3,LEFT(I25,1)&" "&RIGHT(I25,2),I25)) -> 0 | S25: 7090 | T25: 도 | U25: =IF(F25>=K25,"OK","NO") -> OK
A26: =M26&"-"&IF(LENB(E26)=1,0&E26,E26) -> -05 | B26: =ROW()-6 -> 20 | E26: =IF(T26="전","1",IF(T26="답","2",IF(T26="임","3",IF(T26="대","4",IF(T26="도","5",IF(T26="유","10",IF(T26="구","7",IF(T26="종","15")))))))) -> 5 | K26: =J26 -> 0 | L26: =IF(C26="","",VLOOKUP(E26,지목,2,FALSE)) | M26: =IF(C26="","",IF(O26="부",2,IF(O26="시",2,IF(O26="군",2,IF(O26="청",2,IF(O26="도",2,IF(O26="사",2,1))))))) | N26: =IF(C26="","",VLOOKUP(Q26,토지소재지,2,FALSE)&" "&VLOOKUP(Q26,토지소재지,3,FALSE)) | O26: =IF(ISBLANK(N26),"",IF(G26=0,"",RIGHT(G26,1))) | P26: =IF(C26="","",IF(OR(ISBLANK(G26),G26=""),VLOOKUP(C26,토지소재지,2,FALSE)&" "&VLOOKUP(C26,토지소재지,3,FALSE)&" "&H26,G26&" "&H26)) | Q26: =IF(ISBLANK(C26),#REF!,C26) -> #REF! | R26: =IF(M26=2,"국유지",IF(LEN(I26)=3,LEFT(I26,1)&" "&RIGHT(I26,2),I26)) -> 0 | T26: 도 | U26: =IF(F26>=K26,"OK","NO") -> OK
A27: =M27&"-"&IF(LENB(E27)=1,0&E27,E27) -> -05 | B27: =ROW()-6 -> 21 | E27: =IF(T27="전","1",IF(T27="답","2",IF(T27="임","3",IF(T27="대","4",IF(T27="도","5",IF(T27="유","10",IF(T27="구","7",IF(T27="종","15")))))))) -> 5 | K27: =J27 -> 0 | L27: =IF(C27="","",VLOOKUP(E27,지목,2,FALSE)) | M27: =IF(C27="","",IF(O27="부",2,IF(O27="시",2,IF(O27="군",2,IF(O27="청",2,IF(O27="도",2,IF(O27="사",2,1))))))) | N27: =IF(C27="","",VLOOKUP(Q27,토지소재지,2,FALSE)&" "&VLOOKUP(Q27,토지소재지,3,FALSE)) | O27: =IF(ISBLANK(N27),"",IF(G27=0,"",RIGHT(G27,1))) | P27: =IF(C27="","",IF(OR(ISBLANK(G27),G27=""),VLOOKUP(C27,토지소재지,2,FALSE)&" "&VLOOKUP(C27,토지소재지,3,FALSE)&" "&H27,G27&" "&H27)) | Q27: =IF(ISBLANK(C27),#REF!,C27) -> #REF! | R27: =IF(M27=2,"국유지",IF(LEN(I27)=3,LEFT(I27,1)&" "&RIGHT(I27,2),I27)) -> 0 | S27: 7090 | T27: 도 | U27: =IF(F27>=K27,"OK","NO") -> OK
A28: =M28&"-"&IF(LENB(E28)=1,0&E28,E28) -> -05 | B28: =ROW()-6 -> 22 | E28: =IF(T28="전","1",IF(T28="답","2",IF(T28="임","3",IF(T28="대","4",IF(T28="도","5",IF(T28="유","10",IF(T28="구","7",IF(T28="종","15")))))))) -> 5 | K28: =J28 -> 0 | L28: =IF(C28="","",VLOOKUP(E28,지목,2,FALSE)) | M28: =IF(C28="","",IF(O28="부",2,IF(O28="시",2,IF(O28="군",2,IF(O28="청",2,IF(O28="도",2,IF(O28="사",2,1))))))) | N28: =IF(C28="","",VLOOKUP(Q28,토지소재지,2,FALSE)&" "&VLOOKUP(Q28,토지소재지,3,FALSE)) | O28: =IF(ISBLANK(N28),"",IF(G28=0,"",RIGHT(G28,1))) | P28: =IF(C28="","",IF(OR(ISBLANK(G28),G28=""),VLOOKUP(C28,토지소재지,2,FALSE)&" "&VLOOKUP(C28,토지소재지,3,FALSE)&" "&H28,G28&" "&H28)) | Q28: =IF(ISBLANK(C28),#REF!,C28) -> #REF! | R28: =IF(M28=2,"국유지",IF(LEN(I28)=3,LEFT(I28,1)&" "&RIGHT(I28,2),I28)) -> 0 | T28: 도 | U28: =IF(F28>=K28,"OK","NO") -> OK
A29: =M29&"-"&IF(LENB(E29)=1,0&E29,E29) -> -05 | B29: =ROW()-6 -> 23 | E29: =IF(T29="전","1",IF(T29="답","2",IF(T29="임","3",IF(T29="대","4",IF(T29="도","5",IF(T29="유","10",IF(T29="구","7",IF(T29="종","15")))))))) -> 5 | K29: =J29 -> 0 | L29: =IF(C29="","",VLOOKUP(E29,지목,2,FALSE)) | M29: =IF(C29="","",IF(O29="부",2,IF(O29="시",2,IF(O29="군",2,IF(O29="청",2,IF(O29="도",2,IF(O29="사",2,1))))))) | N29: =IF(C29="","",VLOOKUP(Q29,토지소재지,2,FALSE)&" "&VLOOKUP(Q29,토지소재지,3,FALSE)) | O29: =IF(ISBLANK(N29),"",IF(G29=0,"",RIGHT(G29,1))) | P29: =IF(C29="","",IF(OR(ISBLANK(G29),G29=""),VLOOKUP(C29,토지소재지,2,FALSE)&" "&VLOOKUP(C29,토지소재지,3,FALSE)&" "&H29,G29&" "&H29)) | Q29: =IF(ISBLANK(C29),#REF!,C29) -> #REF! | R29: =IF(M29=2,"국유지",IF(LEN(I29)=3,LEFT(I29,1)&" "&RIGHT(I29,2),I29)) -> 0 | T29: 도 | U29: =IF(F29>=K29,"OK","NO") -> OK
A30: =M30&"-"&IF(LENB(E30)=1,0&E30,E30) -> -01 | B30: =ROW()-6 -> 24 | E30: =IF(T30="전","1",IF(T30="답","2",IF(T30="임","3",IF(T30="대","4",IF(T30="도","5",IF(T30="유","10",IF(T30="구","7",IF(T30="종","15")))))))) -> 1 | K30: =J30 -> 0 | L30: =IF(C30="","",VLOOKUP(E30,지목,2,FALSE)) | M30: =IF(C30="","",IF(O30="부",2,IF(O30="시",2,IF(O30="군",2,IF(O30="청",2,IF(O30="도",2,IF(O30="사",2,1))))))) | N30: =IF(C30="","",VLOOKUP(Q30,토지소재지,2,FALSE)&" "&VLOOKUP(Q30,토지소재지,3,FALSE)) | O30: =IF(ISBLANK(N30),"",IF(G30=0,"",RIGHT(G30,1))) | P30: =IF(C30="","",IF(OR(ISBLANK(G30),G30=""),VLOOKUP(C30,토지소재지,2,FALSE)&" "&VLOOKUP(C30,토지소재지,3,FALSE)&" "&H30,G30&" "&H30)) | Q30: =IF(ISBLANK(C30),#REF!,C30) -> #REF! | R30: =IF(M30=2,"국유지",IF(LEN(I30)=3,LEFT(I30,1)&" "&RIGHT(I30,2),I30)) -> 0 | S30: 28800 | T30: 전 | U30: =IF(F30>=K30,"OK","NO") -> OK
A31: =M31&"-"&IF(LENB(E31)=1,0&E31,E31) -> -05 | B31: =ROW()-6 -> 25 | E31: =IF(T31="전","1",IF(T31="답","2",IF(T31="임","3",IF(T31="대","4",IF(T31="도","5",IF(T31="유","10",IF(T31="구","7",IF(T31="종","15")))))))) -> 5 | K31: =J31 -> 0 | L31: =IF(C31="","",VLOOKUP(E31,지목,2,FALSE)) | M31: =IF(C31="","",IF(O31="부",2,IF(O31="시",2,IF(O31="군",2,IF(O31="청",2,IF(O31="도",2,IF(O31="사",2,1))))))) | N31: =IF(C31="","",VLOOKUP(Q31,토지소재지,2,FALSE)&" "&VLOOKUP(Q31,토지소재지,3,FALSE)) | O31: =IF(ISBLANK(N31),"",IF(G31=0,"",RIGHT(G31,1))) | P31: =IF(C31="","",IF(OR(ISBLANK(G31),G31=""),VLOOKUP(C31,토지소재지,2,FALSE)&" "&VLOOKUP(C31,토지소재지,3,FALSE)&" "&H31,G31&" "&H31)) | Q31: =IF(ISBLANK(C31),#REF!,C31) -> #REF! | R31: =IF(M31=2,"국유지",IF(LEN(I31)=3,LEFT(I31,1)&" "&RIGHT(I31,2),I31)) -> 0 | T31: 도 | U31: =IF(F31>=K31,"OK","NO") -> OK
A32: =M32&"-"&IF(LENB(E32)=1,0&E32,E32) -> -05 | B32: =ROW()-6 -> 26 | E32: =IF(T32="전","1",IF(T32="답","2",IF(T32="임","3",IF(T32="대","4",IF(T32="도","5",IF(T32="유","10",IF(T32="구","7",IF(T32="종","15")))))))) -> 5 | K32: =J32 -> 0 | L32: =IF(C32="","",VLOOKUP(E32,지목,2,FALSE)) | M32: =IF(C32="","",IF(O32="부",2,IF(O32="시",2,IF(O32="군",2,IF(O32="청",2,IF(O32="도",2,IF(O32="사",2,1))))))) | N32: =IF(C32="","",VLOOKUP(Q32,토지소재지,2,FALSE)&" "&VLOOKUP(Q32,토지소재지,3,FALSE)) | O32: =IF(ISBLANK(N32),"",IF(G32=0,"",RIGHT(G32,1))) | P32: =IF(C32="","",IF(OR(ISBLANK(G32),G32=""),VLOOKUP(C32,토지소재지,2,FALSE)&" "&VLOOKUP(C32,토지소재지,3,FALSE)&" "&H32,G32&" "&H32)) | Q32: =IF(ISBLANK(C32),#REF!,C32) -> #REF! | R32: =IF(M32=2,"국유지",IF(LEN(I32)=3,LEFT(I32,1)&" "&RIGHT(I32,2),I32)) -> 0 | S32: 3630 | T32: 도 | U32: =IF(F32>=K32,"OK","NO") -> OK
A33: =M33&"-"&IF(LENB(E33)=1,0&E33,E33) -> -05 | B33: =ROW()-6 -> 27 | E33: =IF(T33="전","1",IF(T33="답","2",IF(T33="임","3",IF(T33="대","4",IF(T33="도","5",IF(T33="유","10",IF(T33="구","7",IF(T33="종","15")))))))) -> 5 | K33: =J33 -> 0 | L33: =IF(C33="","",VLOOKUP(E33,지목,2,FALSE)) | M33: =IF(C33="","",IF(O33="부",2,IF(O33="시",2,IF(O33="군",2,IF(O33="청",2,IF(O33="도",2,IF(O33="사",2,1))))))) | N33: =IF(C33="","",VLOOKUP(Q33,토지소재지,2,FALSE)&" "&VLOOKUP(Q33,토지소재지,3,FALSE)) | O33: =IF(ISBLANK(N33),"",IF(G33=0,"",RIGHT(G33,1))) | P33: =IF(C33="","",IF(OR(ISBLANK(G33),G33=""),VLOOKUP(C33,토지소재지,2,FALSE)&" "&VLOOKUP(C33,토지소재지,3,FALSE)&" "&H33,G33&" "&H33)) | Q33: =IF(ISBLANK(C33),#REF!,C33) -> #REF! | R33: =IF(M33=2,"국유지",IF(LEN(I33)=3,LEFT(I33,1)&" "&RIGHT(I33,2),I33)) -> 0 | T33: 도 | U33: =IF(F33>=K33,"OK","NO") -> OK
A34: =M34&"-"&IF(LENB(E34)=1,0&E34,E34) -> -05 | B34: =ROW()-6 -> 28 | E34: =IF(T34="전","1",IF(T34="답","2",IF(T34="임","3",IF(T34="대","4",IF(T34="도","5",IF(T34="유","10",IF(T34="구","7",IF(T34="종","15")))))))) -> 5 | K34: =J34 -> 0 | L34: =IF(C34="","",VLOOKUP(E34,지목,2,FALSE)) | M34: =IF(C34="","",IF(O34="부",2,IF(O34="시",2,IF(O34="군",2,IF(O34="청",2,IF(O34="도",2,IF(O34="사",2,1))))))) | N34: =IF(C34="","",VLOOKUP(Q34,토지소재지,2,FALSE)&" "&VLOOKUP(Q34,토지소재지,3,FALSE)) | O34: =IF(ISBLANK(N34),"",IF(G34=0,"",RIGHT(G34,1))) | P34: =IF(C34="","",IF(OR(ISBLANK(G34),G34=""),VLOOKUP(C34,토지소재지,2,FALSE)&" "&VLOOKUP(C34,토지소재지,3,FALSE)&" "&H34,G34&" "&H34)) | Q34: =IF(ISBLANK(C34),#REF!,C34) -> #REF! | R34: =IF(M34=2,"국유지",IF(LEN(I34)=3,LEFT(I34,1)&" "&RIGHT(I34,2),I34)) -> 0 | T34: 도 | U34: =IF(F34>=K34,"OK","NO") -> OK
A35: =M35&"-"&IF(LENB(E35)=1,0&E35,E35) -> -03 | B35: =ROW()-6 -> 29 | E35: =IF(T35="전","1",IF(T35="답","2",IF(T35="임","3",IF(T35="대","4",IF(T35="도","5",IF(T35="유","10",IF(T35="구","7",IF(T35="종","15")))))))) -> 3 | K35: =J35 -> 0 | L35: =IF(C35="","",VLOOKUP(E35,지목,2,FALSE)) | M35: =IF(C35="","",IF(O35="부",2,IF(O35="시",2,IF(O35="군",2,IF(O35="청",2,IF(O35="도",2,IF(O35="사",2,1))))))) | N35: =IF(C35="","",VLOOKUP(Q35,토지소재지,2,FALSE)&" "&VLOOKUP(Q35,토지소재지,3,FALSE)) | O35: =IF(ISBLANK(N35),"",IF(G35=0,"",RIGHT(G35,1))) | P35: =IF(C35="","",IF(OR(ISBLANK(G35),G35=""),VLOOKUP(C35,토지소재지,2,FALSE)&" "&VLOOKUP(C35,토지소재지,3,FALSE)&" "&H35,G35&" "&H35)) | Q35: =IF(ISBLANK(C35),#REF!,C35) -> #REF! | R35: =IF(M35=2,"국유지",IF(LEN(I35)=3,LEFT(I35,1)&" "&RIGHT(I35,2),I35)) -> 0 | T35: 임 | U35: =IF(F35>=K35,"OK","NO") -> OK
A36: =M36&"-"&IF(LENB(E36)=1,0&E36,E36) -> -05 | B36: =ROW()-6 -> 30 | E36: =IF(T36="전","1",IF(T36="답","2",IF(T36="임","3",IF(T36="대","4",IF(T36="도","5",IF(T36="유","10",IF(T36="구","7",IF(T36="종","15")))))))) -> 5 | K36: =J36 -> 0 | L36: =IF(C36="","",VLOOKUP(E36,지목,2,FALSE)) | M36: =IF(C36="","",IF(O36="부",2,IF(O36="시",2,IF(O36="군",2,IF(O36="청",2,IF(O36="도",2,IF(O36="사",2,1))))))) | N36: =IF(C36="","",VLOOKUP(Q36,토지소재지,2,FALSE)&" "&VLOOKUP(Q36,토지소재지,3,FALSE)) | O36: =IF(ISBLANK(N36),"",IF(G36=0,"",RIGHT(G36,1))) | P36: =IF(C36="","",IF(OR(ISBLANK(G36),G36=""),VLOOKUP(C36,토지소재지,2,FALSE)&" "&VLOOKUP(C36,토지소재지,3,FALSE)&" "&H36,G36&" "&H36)) | Q36: =IF(ISBLANK(C36),#REF!,C36) -> #REF! | R36: =IF(M36=2,"국유지",IF(LEN(I36)=3,LEFT(I36,1)&" "&RIGHT(I36,2),I36)) -> 0 | T36: 도 | U36: =IF(F36>=K36,"OK","NO") -> OK
A37: =M37&"-"&IF(LENB(E37)=1,0&E37,E37) -> -05 | B37: =ROW()-6 -> 31 | E37: =IF(T37="전","1",IF(T37="답","2",IF(T37="임","3",IF(T37="대","4",IF(T37="도","5",IF(T37="유","10",IF(T37="구","7",IF(T37="종","15")))))))) -> 5 | K37: =J37 -> 0 | L37: =IF(C37="","",VLOOKUP(E37,지목,2,FALSE)) | M37: =IF(C37="","",IF(O37="부",2,IF(O37="시",2,IF(O37="군",2,IF(O37="청",2,IF(O37="도",2,IF(O37="사",2,1))))))) | N37: =IF(C37="","",VLOOKUP(Q37,토지소재지,2,FALSE)&" "&VLOOKUP(Q37,토지소재지,3,FALSE)) | O37: =IF(ISBLANK(N37),"",IF(G37=0,"",RIGHT(G37,1))) | P37: =IF(C37="","",IF(OR(ISBLANK(G37),G37=""),VLOOKUP(C37,토지소재지,2,FALSE)&" "&VLOOKUP(C37,토지소재지,3,FALSE)&" "&H37,G37&" "&H37)) | Q37: =IF(ISBLANK(C37),#REF!,C37) -> #REF! | R37: =IF(M37=2,"국유지",IF(LEN(I37)=3,LEFT(I37,1)&" "&RIGHT(I37,2),I37)) -> 0 | T37: 도 | U37: =IF(F37>=K37,"OK","NO") -> OK
A38: =M38&"-"&IF(LENB(E38)=1,0&E38,E38) -> -05 | B38: =ROW()-6 -> 32 | E38: =IF(T38="전","1",IF(T38="답","2",IF(T38="임","3",IF(T38="대","4",IF(T38="도","5",IF(T38="유","10",IF(T38="구","7",IF(T38="종","15")))))))) -> 5 | K38: =J38 -> 0 | L38: =IF(C38="","",VLOOKUP(E38,지목,2,FALSE)) | M38: =IF(C38="","",IF(O38="부",2,IF(O38="시",2,IF(O38="군",2,IF(O38="청",2,IF(O38="도",2,IF(O38="사",2,1))))))) | N38: =IF(C38="","",VLOOKUP(Q38,토지소재지,2,FALSE)&" "&VLOOKUP(Q38,토지소재지,3,FALSE)) | O38: =IF(ISBLANK(N38),"",IF(G38=0,"",RIGHT(G38,1))) | P38: =IF(C38="","",IF(OR(ISBLANK(G38),G38=""),VLOOKUP(C38,토지소재지,2,FALSE)&" "&VLOOKUP(C38,토지소재지,3,FALSE)&" "&H38,G38&" "&H38)) | Q38: =IF(ISBLANK(C38),#REF!,C38) -> #REF! | R38: =IF(M38=2,"국유지",IF(LEN(I38)=3,LEFT(I38,1)&" "&RIGHT(I38,2),I38)) -> 0 | T38: 도 | U38: =IF(F38>=K38,"OK","NO") -> OK
A39: =M39&"-"&IF(LENB(E39)=1,0&E39,E39) -> -05 | B39: =ROW()-6 -> 33 | E39: =IF(T39="전","1",IF(T39="답","2",IF(T39="임","3",IF(T39="대","4",IF(T39="도","5",IF(T39="유","10",IF(T39="구","7",IF(T39="종","15")))))))) -> 5 | K39: =J39 -> 0 | L39: =IF(C39="","",VLOOKUP(E39,지목,2,FALSE)) | M39: =IF(C39="","",IF(O39="부",2,IF(O39="시",2,IF(O39="군",2,IF(O39="청",2,IF(O39="도",2,IF(O39="사",2,1))))))) | N39: =IF(C39="","",VLOOKUP(Q39,토지소재지,2,FALSE)&" "&VLOOKUP(Q39,토지소재지,3,FALSE)) | O39: =IF(ISBLANK(N39),"",IF(G39=0,"",RIGHT(G39,1))) | P39: =IF(C39="","",IF(OR(ISBLANK(G39),G39=""),VLOOKUP(C39,토지소재지,2,FALSE)&" "&VLOOKUP(C39,토지소재지,3,FALSE)&" "&H39,G39&" "&H39)) | Q39: =IF(ISBLANK(C39),#REF!,C39) -> #REF! | R39: =IF(M39=2,"국유지",IF(LEN(I39)=3,LEFT(I39,1)&" "&RIGHT(I39,2),I39)) -> 0 | T39: 도 | U39: =IF(F39>=K39,"OK","NO") -> OK
A40: =M40&"-"&IF(LENB(E40)=1,0&E40,E40) -> -01 | B40: =ROW()-6 -> 34 | E40: =IF(T40="전","1",IF(T40="답","2",IF(T40="임","3",IF(T40="대","4",IF(T40="도","5",IF(T40="유","10",IF(T40="구","7",IF(T40="종","15")))))))) -> 1 | K40: =J40 -> 0 | L40: =IF(C40="","",VLOOKUP(E40,지목,2,FALSE)) | M40: =IF(C40="","",IF(O40="부",2,IF(O40="시",2,IF(O40="군",2,IF(O40="청",2,IF(O40="도",2,IF(O40="사",2,1))))))) | N40: =IF(C40="","",VLOOKUP(Q40,토지소재지,2,FALSE)&" "&VLOOKUP(Q40,토지소재지,3,FALSE)) | O40: =IF(ISBLANK(N40),"",IF(G40=0,"",RIGHT(G40,1))) | P40: =IF(C40="","",IF(OR(ISBLANK(G40),G40=""),VLOOKUP(C40,토지소재지,2,FALSE)&" "&VLOOKUP(C40,토지소재지,3,FALSE)&" "&H40,G40&" "&H40)) | Q40: =IF(ISBLANK(C40),#REF!,C40) -> #REF! | R40: =IF(M40=2,"국유지",IF(LEN(I40)=3,LEFT(I40,1)&" "&RIGHT(I40,2),I40)) -> 0 | S40: 27300 | T40: 전 | U40: =IF(F40>=K40,"OK","NO") -> OK
A41: =M41&"-"&IF(LENB(E41)=1,0&E41,E41) -> -05 | B41: =ROW()-6 -> 35 | E41: =IF(T41="전","1",IF(T41="답","2",IF(T41="임","3",IF(T41="대","4",IF(T41="도","5",IF(T41="유","10",IF(T41="구","7",IF(T41="종","15")))))))) -> 5 | K41: =J41 -> 0 | L41: =IF(C41="","",VLOOKUP(E41,지목,2,FALSE)) | M41: =IF(C41="","",IF(O41="부",2,IF(O41="시",2,IF(O41="군",2,IF(O41="청",2,IF(O41="도",2,IF(O41="사",2,1))))))) | N41: =IF(C41="","",VLOOKUP(Q41,토지소재지,2,FALSE)&" "&VLOOKUP(Q41,토지소재지,3,FALSE)) | O41: =IF(ISBLANK(N41),"",IF(G41=0,"",RIGHT(G41,1))) | P41: =IF(C41="","",IF(OR(ISBLANK(G41),G41=""),VLOOKUP(C41,토지소재지,2,FALSE)&" "&VLOOKUP(C41,토지소재지,3,FALSE)&" "&H41,G41&" "&H41)) | Q41: =IF(ISBLANK(C41),#REF!,C41) -> #REF! | R41: =IF(M41=2,"국유지",IF(LEN(I41)=3,LEFT(I41,1)&" "&RIGHT(I41,2),I41)) -> 0 | T41: 도 | U41: =IF(F41>=K41,"OK","NO") -> OK
A42: =M42&"-"&IF(LENB(E42)=1,0&E42,E42) -> -01 | B42: =ROW()-6 -> 36 | E42: =IF(T42="전","1",IF(T42="답","2",IF(T42="임","3",IF(T42="대","4",IF(T42="도","5",IF(T42="유","10",IF(T42="구","7",IF(T42="종","15")))))))) -> 1 | K42: =J42 -> 0 | L42: =IF(C42="","",VLOOKUP(E42,지목,2,FALSE)) | M42: =IF(C42="","",IF(O42="부",2,IF(O42="시",2,IF(O42="군",2,IF(O42="청",2,IF(O42="도",2,IF(O42="사",2,1))))))) | N42: =IF(C42="","",VLOOKUP(Q42,토지소재지,2,FALSE)&" "&VLOOKUP(Q42,토지소재지,3,FALSE)) | O42: =IF(ISBLANK(N42),"",IF(G42=0,"",RIGHT(G42,1))) | P42: =IF(C42="","",IF(OR(ISBLANK(G42),G42=""),VLOOKUP(C42,토지소재지,2,FALSE)&" "&VLOOKUP(C42,토지소재지,3,FALSE)&" "&H42,G42&" "&H42)) | Q42: =IF(ISBLANK(C42),#REF!,C42) -> #REF! | R42: =IF(M42=2,"국유지",IF(LEN(I42)=3,LEFT(I42,1)&" "&RIGHT(I42,2),I42)) -> 0 | S42: 27300 | T42: 전 | U42: =IF(F42>=K42,"OK","NO") -> OK
T93: =RIGHT(D93,1) | U93: =IF(F93>=K93,"OK","NO") -> OK | W93: 2016
T94: =RIGHT(D94,1) | U94: =IF(F94>=K94,"OK","NO") -> OK | W94: 2016
T95: =RIGHT(D95,1) | U95: =IF(F95>=K95,"OK","NO") -> OK
T96: =RIGHT(D96,1) | U96: =IF(F96>=K96,"OK","NO") -> OK
T97: =RIGHT(D97,1) | U97: =IF(F97>=K97,"OK","NO") -> OK
T98: =RIGHT(D98,1) | U98: =IF(F98>=K98,"OK","NO") -> OK
T99: =RIGHT(D99,1) | U99: =IF(F99>=K99,"OK","NO") -> OK | W99: 2016
T100: =RIGHT(D100,1) | U100: =IF(F100>=K100,"OK","NO") -> OK
T101: =RIGHT(D101,1) | U101: =IF(F101>=K101,"OK","NO") -> OK
T102: =RIGHT(D102,1) | U102: =IF(F102>=K102,"OK","NO") -> OK | W102: 2016
T103: =RIGHT(D103,1) | U103: =IF(F103>=K103,"OK","NO") -> OK | W103: 2016
T104: =RIGHT(D104,1) | U104: =IF(F104>=K104,"OK","NO") -> OK | W104: 2016
T105: =RIGHT(D105,1) | U105: =IF(F105>=K105,"OK","NO") -> OK
T106: =RIGHT(D106,1) | U106: =IF(F106>=K106,"OK","NO") -> OK
T107: =RIGHT(D107,1) | U107: =IF(F107>=K107,"OK","NO") -> OK
T108: =RIGHT(D108,1) | U108: =IF(F108>=K108,"OK","NO") -> OK | W108: 2016
T109: =RIGHT(D109,1) | U109: =IF(F109>=K109,"OK","NO") -> OK | W109: 2015
T110: =RIGHT(D110,1) | U110: =IF(F110>=K110,"OK","NO") -> OK
T111: =RIGHT(D111,1) | U111: =IF(F111>=K111,"OK","NO") -> OK
T112: =RIGHT(D112,1) | U112: =IF(F112>=K112,"OK","NO") -> OK | W112: 2016
T113: =RIGHT(D113,1) | U113: =IF(F113>=K113,"OK","NO") -> OK | W113: 2016
T114: =RIGHT(D114,1) | U114: =IF(F114>=K114,"OK","NO") -> OK | W114: 2016
T115: =RIGHT(D115,1) | U115: =IF(F115>=K115,"OK","NO") -> OK | W115: 2016
T116: =RIGHT(D116,1) | U116: =IF(F116>=K116,"OK","NO") -> OK | W116: 2016
T117: =RIGHT(D117,1) | U117: =IF(F117>=K117,"OK","NO") -> OK
T118: =RIGHT(D118,1) | U118: =IF(F118>=K118,"OK","NO") -> OK | W118: 2016
T119: =RIGHT(D119,1) | U119: =IF(F119>=K119,"OK","NO") -> OK | W119: 2016
T120: =RIGHT(D120,1) | U120: =IF(F120>=K120,"OK","NO") -> OK | W120: 2016
T121: =RIGHT(D121,1) | U121: =IF(F121>=K121,"OK","NO") -> OK | W121: 2016
T122: =RIGHT(D122,1) | U122: =IF(F122>=K122,"OK","NO") -> OK | W122: 2016
T123: =RIGHT(D123,1) | U123: =IF(F123>=K123,"OK","NO") -> OK
T124: =RIGHT(D124,1) | U124: =IF(F124>=K124,"OK","NO") -> OK | W124: 2016
T125: =RIGHT(D125,1) | U125: =IF(F125>=K125,"OK","NO") -> OK
T126: =RIGHT(D126,1) | U126: =IF(F126>=K126,"OK","NO") -> OK
T127: =RIGHT(D127,1) | U127: =IF(F127>=K127,"OK","NO") -> OK | W127: 2016
T128: =RIGHT(D128,1) | U128: =IF(F128>=K128,"OK","NO") -> OK | W128: 2016
T129: =RIGHT(D129,1) | U129: =IF(F129>=K129,"OK","NO") -> OK
T130: =RIGHT(D130,1) | U130: =IF(F130>=K130,"OK","NO") -> OK | W130: 2016
T131: =RIGHT(D131,1) | U131: =IF(F131>=K131,"OK","NO") -> OK
T132: =RIGHT(D132,1) | U132: =IF(F132>=K132,"OK","NO") -> OK
T133: =RIGHT(D133,1) | U133: =IF(F133>=K133,"OK","NO") -> OK | W133: 2016
T134: =RIGHT(D134,1) | U134: =IF(F134>=K134,"OK","NO") -> OK | W134: 2016
T135: =RIGHT(D135,1) | U135: =IF(F135>=K135,"OK","NO") -> OK
T136: =RIGHT(D136,1) | U136: =IF(F136>=K136,"OK","NO") -> OK | W136: 2016
T137: =RIGHT(D137,1) | U137: =IF(F137>=K137,"OK","NO") -> OK
T138: =RIGHT(D138,1) | U138: =IF(F138>=K138,"OK","NO") -> OK | W138: 2016
T139: =RIGHT(D139,1) | U139: =IF(F139>=K139,"OK","NO") -> OK
T140: =RIGHT(D140,1) | U140: =IF(F140>=K140,"OK","NO") -> OK | W140: 2016
T141: =RIGHT(D141,1) | U141: =IF(F141>=K141,"OK","NO") -> OK
T142: =RIGHT(D142,1) | U142: =IF(F142>=K142,"OK","NO") -> OK | W142: 2016
T143: =RIGHT(D143,1) | U143: =IF(F143>=K143,"OK","NO") -> OK | W143: 2016
T144: =RIGHT(D144,1) | U144: =IF(F144>=K144,"OK","NO") -> OK | W144: 2016
T145: =RIGHT(D145,1) | U145: =IF(F145>=K145,"OK","NO") -> OK
T146: =RIGHT(D146,1) | U146: =IF(F146>=K146,"OK","NO") -> OK
T147: =RIGHT(D147,1) | U147: =IF(F147>=K147,"OK","NO") -> OK
T148: =RIGHT(D148,1) | U148: =IF(F148>=K148,"OK","NO") -> OK | W148: 2016
T149: =RIGHT(D149,1) | U149: =IF(F149>=K149,"OK","NO") -> OK | W149: 2016
T150: =RIGHT(D150,1) | U150: =IF(F150>=K150,"OK","NO") -> OK
T151: =RIGHT(D151,1) | U151: =IF(F151>=K151,"OK","NO") -> OK
...

Sheet 보상비집계표
A1: 편입용지보상비보상비조서 및 보상비 집계표
A2: - 동 산 지 구 -
B3: 실시계획
B4: 필지 | D4: 면적 | F4: 보상비단가(공시지가) | H4: 보상비(공시지가x2)
B5: 사유지 | C5: 국.공유지 | D5: 사유지 | E5: 국.공유지 | F5: 사유지 | G5: 국.공유지 | H5: 사유지 | I5: 국.공유지
A6: 전 | B6: =COUNTIFS(보상비조서!$C$5:$C$42,보상비집계표!A6,보상비조서!$F$5:$F$42,">0",보상비조서!$E$5:$E$42,"사유지") -> 0 | C6: =COUNTIFS(보상비조서!$C$5:$C$42,보상비집계표!A6,보상비조서!$F$5:$F$42,">0",보상비조서!$E$5:$E$42,"국유지") -> 0 | D6: =SUMIFS(보상비조서!$F$5:$F$42,보상비조서!$C$5:$C$42,보상비집계표!A6,보상비조서!$E$5:$E$42,"사유지") -> 0 | E6: =SUMIFS(보상비조서!$F$5:$F$42,보상비조서!$C$5:$C$42,보상비집계표!A6,보상비조서!$E$5:$E$42,"국유지") -> 0 | F6: =SUMIFS(보상비조서!$H$5:$H$42,보상비조서!$C$5:$C$42,보상비집계표!A6,보상비조서!$E$5:$E$42,"사유지") -> 0 | G6: =SUMIFS(보상비조서!$H$5:$H$42,보상비조서!$C$5:$C$42,보상비집계표!A6,보상비조서!$E$5:$E$42,"국유지") -> 0 | H6: =F6*2 -> 0 | I6: =G6*3 -> 0
A7: 답 | B7: =COUNTIFS(보상비조서!$C$5:$C$42,보상비집계표!A7,보상비조서!$F$5:$F$42,">0",보상비조서!$E$5:$E$42,"사유지") -> 0 | C7: =COUNTIFS(보상비조서!$C$5:$C$42,보상비집계표!A7,보상비조서!$F$5:$F$42,">0",보상비조서!$E$5:$E$42,"국유지") -> 0 | D7: =SUMIFS(보상비조서!$F$5:$F$42,보상비조서!$C$5:$C$42,보상비집계표!A7,보상비조서!$E$5:$E$42,"사유지") -> 0 | E7: =SUMIFS(보상비조서!$F$5:$F$42,보상비조서!$C$5:$C$42,보상비집계표!A7,보상비조서!$E$5:$E$42,"국유지") -> 0 | F7: =SUMIFS(보상비조서!$H$5:$H$42,보상비조서!$C$5:$C$42,보상비집계표!A7,보상비조서!$E$5:$E$42,"사유지") -> 0 | G7: =SUMIFS(보상비조서!$H$5:$H$42,보상비조서!$C$5:$C$42,보상비집계표!A7,보상비조서!$E$5:$E$42,"국유지") -> 0 | H7: =F7*2 -> 0 | I7: =G7*3 -> 0
A8: 임야 | B8: =COUNTIFS(보상비조서!$C$5:$C$42,보상비집계표!A8,보상비조서!$F$5:$F$42,">0",보상비조서!$E$5:$E$42,"사유지") -> 2 | C8: =COUNTIFS(보상비조서!$C$5:$C$42,보상비집계표!A8,보상비조서!$F$5:$F$42,">0",보상비조서!$E$5:$E$42,"국유지") -> 0 | D8: =SUMIFS(보상비조서!$F$5:$F$42,보상비조서!$C$5:$C$42,보상비집계표!A8,보상비조서!$E$5:$E$42,"사유지") -> 3790 | E8: =SUMIFS(보상비조서!$F$5:$F$42,보상비조서!$C$5:$C$42,보상비집계표!A8,보상비조서!$E$5:$E$42,"국유지") -> 0 | F8: =SUMIFS(보상비조서!$H$5:$H$42,보상비조서!$C$5:$C$42,보상비집계표!A8,보상비조서!$E$5:$E$42,"사유지") -> 0 | G8: =SUMIFS(보상비조서!$H$5:$H$42,보상비조서!$C$5:$C$42,보상비집계표!A8,보상비조서!$E$5:$E$42,"국유지") -> 0 | H8: =F8*3 -> 0 | I8: =G8*3 -> 0
A9: 대지 | B9: =COUNTIFS(보상비조서!$C$5:$C$42,보상비집계표!A9,보상비조서!$F$5:$F$42,">0",보상비조서!$E$5:$E$42,"사유지") -> 0 | C9: =COUNTIFS(보상비조서!$C$5:$C$42,보상비집계표!A9,보상비조서!$F$5:$F$42,">0",보상비조서!$E$5:$E$42,"국유지") -> 0 | D9: =SUMIFS(보상비조서!$F$5:$F$42,보상비조서!$C$5:$C$42,보상비집계표!A9,보상비조서!$E$5:$E$42,"사유지") -> 0 | E9: =SUMIFS(보상비조서!$F$5:$F$42,보상비조서!$C$5:$C$42,보상비집계표!A9,보상비조서!$E$5:$E$42,"국유지") -> 0 | F9: =SUMIFS(보상비조서!$H$5:$H$42,보상비조서!$C$5:$C$42,보상비집계표!A9,보상비조서!$E$5:$E$42,"사유지") -> 0 | G9: =SUMIFS(보상비조서!$H$5:$H$42,보상비조서!$C$5:$C$42,보상비집계표!A9,보상비조서!$E$5:$E$42,"국유지") -> 0 | H9: =F9*2 -> 0 | I9: =G9*3 -> 0
A10: 도로 | B10: =COUNTIFS(보상비조서!$C$5:$C$42,보상비집계표!A10,보상비조서!$F$5:$F$42,">0",보상비조서!$E$5:$E$42,"사유지") -> 0 | C10: =COUNTIFS(보상비조서!$C$5:$C$42,보상비집계표!A10,보상비조서!$F$5:$F$42,">0",보상비조서!$E$5:$E$42,"국유지") -> 0 | D10: =SUMIFS(보상비조서!$F$5:$F$42,보상비조서!$C$5:$C$42,보상비집계표!A10,보상비조서!$E$5:$E$42,"사유지") -> 0 | E10: =SUMIFS(보상비조서!$F$5:$F$42,보상비조서!$C$5:$C$42,보상비집계표!A10,보상비조서!$E$5:$E$42,"국유지") -> 0 | F10: =SUMIFS(보상비조서!$H$5:$H$42,보상비조서!$C$5:$C$42,보상비집계표!A10,보상비조서!$E$5:$E$42,"사유지") -> 0 | G10: =SUMIFS(보상비조서!$H$5:$H$42,보상비조서!$C$5:$C$42,보상비집계표!A10,보상비조서!$E$5:$E$42,"국유지") -> 0 | H10: =F10*2 -> 0 | I10: =G10*3 -> 0
A11: 하천 | B11: =COUNTIFS(보상비조서!$C$5:$C$42,보상비집계표!A11,보상비조서!$F$5:$F$42,">0",보상비조서!$E$5:$E$42,"사유지") -> 0 | C11: =COUNTIFS(보상비조서!$C$5:$C$42,보상비집계표!A11,보상비조서!$F$5:$F$42,">0",보상비조서!$E$5:$E$42,"국유지") -> 0 | D11: =SUMIFS(보상비조서!$F$5:$F$42,보상비조서!$C$5:$C$42,보상비집계표!A11,보상비조서!$E$5:$E$42,"사유지") -> 0 | E11: =SUMIFS(보상비조서!$F$5:$F$42,보상비조서!$C$5:$C$42,보상비집계표!A11,보상비조서!$E$5:$E$42,"국유지") -> 0 | F11: =SUMIFS(보상비조서!$H$5:$H$42,보상비조서!$C$5:$C$42,보상비집계표!A11,보상비조서!$E$5:$E$42,"사유지") -> 0 | G11: =SUMIFS(보상비조서!$H$5:$H$42,보상비조서!$C$5:$C$42,보상비집계표!A11,보상비조서!$E$5:$E$42,"국유지") -> 0 | H11: =F11*3 -> 0 | I11: =G11*3 -> 0
A12: 구거 | B12: =COUNTIFS(보상비조서!$C$5:$C$42,보상비집계표!A12,보상비조서!$F$5:$F$42,">0",보상비조서!$E$5:$E$42,"사유지") -> 0 | C12: =COUNTIFS(보상비조서!$C$5:$C$42,보상비집계표!A12,보상비조서!$F$5:$F$42,">0",보상비조서!$E$5:$E$42,"국유지") -> 0 | D12: =SUMIFS(보상비조서!$F$5:$F$42,보상비조서!$C$5:$C$42,보상비집계표!A12,보상비조서!$E$5:$E$42,"사유지") -> 0 | E12: =SUMIFS(보상비조서!$F$5:$F$42,보상비조서!$C$5:$C$42,보상비집계표!A12,보상비조서!$E$5:$E$42,"국유지") -> 0 | F12: =SUMIFS(보상비조서!$H$5:$H$42,보상비조서!$C$5:$C$42,보상비집계표!A12,보상비조서!$E$5:$E$42,"사유지") -> 0 | G12: =SUMIFS(보상비조서!$H$5:$H$42,보상비조서!$C$5:$C$42,보상비집계표!A12,보상비조서!$E$5:$E$42,"국유지") -> 0 | H12: =F12*2 -> 0 | I12: =G12*3 -> 0
A13: 묘지 | B13: =COUNTIFS(보상비조서!$C$5:$C$42,보상비집계표!A13,보상비조서!$F$5:$F$42,">0",보상비조서!$E$5:$E$42,"사유지") -> 0 | C13: =COUNTIFS(보상비조서!$C$5:$C$42,보상비집계표!A13,보상비조서!$F$5:$F$42,">0",보상비조서!$E$5:$E$42,"국유지") -> 0 | D13: =SUMIFS(보상비조서!$F$5:$F$42,보상비조서!$C$5:$C$42,보상비집계표!A13,보상비조서!$E$5:$E$42,"사유지") -> 0 | E13: =SUMIFS(보상비조서!$F$5:$F$42,보상비조서!$C$5:$C$42,보상비집계표!A13,보상비조서!$E$5:$E$42,"국유지") -> 0 | F13: =SUMIFS(보상비조서!$H$5:$H$42,보상비조서!$C$5:$C$42,보상비집계표!A13,보상비조서!$E$5:$E$42,"사유지") -> 0 | G13: =SUMIFS(보상비조서!$H$5:$H$42,보상비조서!$C$5:$C$42,보상비집계표!A13,보상비조서!$E$5:$E$42,"국유지") -> 0 | H13: =F13*3 -> 0 | I13: =G13*3 -> 0
A14: 제방 | B14: =COUNTIFS(보상비조서!$C$5:$C$42,보상비집계표!A14,보상비조서!$F$5:$F$42,">0",보상비조서!$E$5:$E$42,"사유지") -> 0 | C14: =COUNTIFS(보상비조서!$C$5:$C$42,보상비집계표!A14,보상비조서!$F$5:$F$42,">0",보상비조서!$E$5:$E$42,"국유지") -> 0 | D14: =SUMIFS(보상비조서!$F$5:$F$42,보상비조서!$C$5:$C$42,보상비집계표!A14,보상비조서!$E$5:$E$42,"사유지") -> 0 | E14: =SUMIFS(보상비조서!$F$5:$F$42,보상비조서!$C$5:$C$42,보상비집계표!A14,보상비조서!$E$5:$E$42,"국유지") -> 0 | F14: =SUMIFS(보상비조서!$H$5:$H$42,보상비조서!$C$5:$C$42,보상비집계표!A14,보상비조서!$E$5:$E$42,"사유지") -> 0 | G14: =SUMIFS(보상비조서!$H$5:$H$42,보상비조서!$C$5:$C$42,보상비집계표!A14,보상비조서!$E$5:$E$42,"국유지") -> 0 | H14: =F14*3 -> 0 | I14: =G14*3 -> 0
A15: 유지 | B15: =COUNTIFS(보상비조서!$C$5:$C$42,보상비집계표!A15,보상비조서!$F$5:$F$42,">0",보상비조서!$E$5:$E$42,"사유지") -> 0 | C15: =COUNTIFS(보상비조서!$C$5:$C$42,보상비집계표!A15,보상비조서!$F$5:$F$42,">0",보상비조서!$E$5:$E$42,"국유지") -> 0 | D15: =SUMIFS(보상비조서!$F$5:$F$42,보상비조서!$C$5:$C$42,보상비집계표!A15,보상비조서!$E$5:$E$42,"사유지") -> 0 | E15: =SUMIFS(보상비조서!$F$5:$F$42,보상비조서!$C$5:$C$42,보상비집계표!A15,보상비조서!$E$5:$E$42,"국유지") -> 0 | F15: =SUMIFS(보상비조서!$H$5:$H$42,보상비조서!$C$5:$C$42,보상비집계표!A15,보상비조서!$E$5:$E$42,"사유지") -> 0 | G15: =SUMIFS(보상비조서!$H$5:$H$42,보상비조서!$C$5:$C$42,보상비집계표!A15,보상비조서!$E$5:$E$42,"국유지") -> 0 | H15: =F15*3 -> 0 | I15: =G15*3 -> 0
A16: 공원 | B16: =COUNTIFS(보상비조서!$C$5:$C$42,보상비집계표!A16,보상비조서!$F$5:$F$42,">0",보상비조서!$E$5:$E$42,"사유지") -> 0 | C16: =COUNTIFS(보상비조서!$C$5:$C$42,보상비집계표!A16,보상비조서!$F$5:$F$42,">0",보상비조서!$E$5:$E$42,"국유지") -> 0 | D16: =SUMIFS(보상비조서!$F$5:$F$42,보상비조서!$C$5:$C$42,보상비집계표!A16,보상비조서!$E$5:$E$42,"사유지") -> 0 | E16: =SUMIFS(보상비조서!$F$5:$F$42,보상비조서!$C$5:$C$42,보상비집계표!A16,보상비조서!$E$5:$E$42,"국유지") -> 0 | F16: =SUMIFS(보상비조서!$H$5:$H$42,보상비조서!$C$5:$C$42,보상비집계표!A16,보상비조서!$E$5:$E$42,"사유지") -> 0 | G16: =SUMIFS(보상비조서!$H$5:$H$42,보상비조서!$C$5:$C$42,보상비집계표!A16,보상비조서!$E$5:$E$42,"국유지") -> 0 | H16: =F16*3 -> 0 | I16: =G16*3 -> 0
A17: 체육용지 | B17: =COUNTIFS(보상비조서!$C$5:$C$42,보상비집계표!A17,보상비조서!$F$5:$F$42,">0",보상비조서!$E$5:$E$42,"사유지") -> 0 | C17: =COUNTIFS(보상비조서!$C$5:$C$42,보상비집계표!A17,보상비조서!$F$5:$F$42,">0",보상비조서!$E$5:$E$42,"국유지") -> 0 | D17: =SUMIFS(보상비조서!$F$5:$F$42,보상비조서!$C$5:$C$42,보상비집계표!A17,보상비조서!$E$5:$E$42,"사유지") -> 0 | E17: =SUMIFS(보상비조서!$F$5:$F$42,보상비조서!$C$5:$C$42,보상비집계표!A17,보상비조서!$E$5:$E$42,"국유지") -> 0 | F17: =SUMIFS(보상비조서!$H$5:$H$42,보상비조서!$C$5:$C$42,보상비집계표!A17,보상비조서!$E$5:$E$42,"사유지") -> 0 | G17: =SUMIFS(보상비조서!$H$5:$H$42,보상비조서!$C$5:$C$42,보상비집계표!A17,보상비조서!$E$5:$E$42,"국유지") -> 0 | H17: =F17*3 -> 0 | I17: =G17*3 -> 0
A18: 잡종지 | B18: =COUNTIFS(보상비조서!$C$5:$C$42,보상비집계표!A18,보상비조서!$F$5:$F$42,">0",보상비조서!$E$5:$E$42,"사유지") -> 0 | C18: =COUNTIFS(보상비조서!$C$5:$C$42,보상비집계표!A18,보상비조서!$F$5:$F$42,">0",보상비조서!$E$5:$E$42,"국유지") -> 0 | D18: =SUMIFS(보상비조서!$F$5:$F$42,보상비조서!$C$5:$C$42,보상비집계표!A18,보상비조서!$E$5:$E$42,"사유지") -> 0 | E18: =SUMIFS(보상비조서!$F$5:$F$42,보상비조서!$C$5:$C$42,보상비집계표!A18,보상비조서!$E$5:$E$42,"국유지") -> 0 | F18: =SUMIFS(보상비조서!$H$5:$H$42,보상비조서!$C$5:$C$42,보상비집계표!A18,보상비조서!$E$5:$E$42,"사유지") -> 0 | G18: =SUMIFS(보상비조서!$H$5:$H$42,보상비조서!$C$5:$C$42,보상비집계표!A18,보상비조서!$E$5:$E$42,"국유지") -> 0 | H18: =F18*3 -> 0 | I18: =G18*3 -> 0
A19: 철도용지 | B19: =COUNTIFS(보상비조서!$C$5:$C$42,보상비집계표!A19,보상비조서!$F$5:$F$42,">0",보상비조서!$E$5:$E$42,"사유지") -> 0 | C19: =COUNTIFS(보상비조서!$C$5:$C$42,보상비집계표!A19,보상비조서!$F$5:$F$42,">0",보상비조서!$E$5:$E$42,"국유지") -> 0 | D19: =SUMIFS(보상비조서!$F$5:$F$42,보상비조서!$C$5:$C$42,보상비집계표!A19,보상비조서!$E$5:$E$42,"사유지") -> 0 | E19: =SUMIFS(보상비조서!$F$5:$F$42,보상비조서!$C$5:$C$42,보상비집계표!A19,보상비조서!$E$5:$E$42,"국유지") -> 0 | F19: =SUMIFS(보상비조서!$H$5:$H$42,보상비조서!$C$5:$C$42,보상비집계표!A19,보상비조서!$E$5:$E$42,"사유지") -> 0 | G19: =SUMIFS(보상비조서!$H$5:$H$42,보상비조서!$C$5:$C$42,보상비집계표!A19,보상비조서!$E$5:$E$42,"국유지") -> 0 | H19: =F19*3 -> 0 | I19: =G19*3 -> 0
A20: 종교용지 | B20: =COUNTIFS(보상비조서!$C$5:$C$42,보상비집계표!A20,보상비조서!$F$5:$F$42,">0",보상비조서!$E$5:$E$42,"사유지") -> 0 | C20: =COUNTIFS(보상비조서!$C$5:$C$42,보상비집계표!A20,보상비조서!$F$5:$F$42,">0",보상비조서!$E$5:$E$42,"국유지") -> 0 | D20: =SUMIFS(보상비조서!$F$5:$F$42,보상비조서!$C$5:$C$42,보상비집계표!A20,보상비조서!$E$5:$E$42,"사유지") -> 0 | E20: =SUMIFS(보상비조서!$F$5:$F$42,보상비조서!$C$5:$C$42,보상비집계표!A20,보상비조서!$E$5:$E$42,"국유지") -> 0 | F20: =SUMIFS(보상비조서!$H$5:$H$42,보상비조서!$C$5:$C$42,보상비집계표!A20,보상비조서!$E$5:$E$42,"사유지") -> 0 | G20: =SUMIFS(보상비조서!$H$5:$H$42,보상비조서!$C$5:$C$42,보상비집계표!A20,보상비조서!$E$5:$E$42,"국유지") -> 0 | H20: =F20*3 -> 0 | I20: =G20*3 -> 0
A21: 학교용지 | B21: =COUNTIFS(보상비조서!$C$5:$C$42,보상비집계표!A21,보상비조서!$F$5:$F$42,">0",보상비조서!$E$5:$E$42,"사유지") -> 0 | C21: =COUNTIFS(보상비조서!$C$5:$C$42,보상비집계표!A21,보상비조서!$F$5:$F$42,">0",보상비조서!$E$5:$E$42,"국유지") -> 0 | D21: =SUMIFS(보상비조서!$F$5:$F$42,보상비조서!$C$5:$C$42,보상비집계표!A21,보상비조서!$E$5:$E$42,"사유지") -> 0 | E21: =SUMIFS(보상비조서!$F$5:$F$42,보상비조서!$C$5:$C$42,보상비집계표!A21,보상비조서!$E$5:$E$42,"국유지") -> 0 | F21: =SUMIFS(보상비조서!$H$5:$H$42,보상비조서!$C$5:$C$42,보상비집계표!A21,보상비조서!$E$5:$E$42,"사유지") -> 0 | G21: =SUMIFS(보상비조서!$H$5:$H$42,보상비조서!$C$5:$C$42,보상비집계표!A21,보상비조서!$E$5:$E$42,"국유지") -> 0 | H21: =F21*3 -> 0 | I21: =G21*3 -> 0
A22: 목장 | B22: =COUNTIFS(보상비조서!$C$5:$C$42,보상비집계표!A22,보상비조서!$F$5:$F$42,">0",보상비조서!$E$5:$E$42,"사유지") -> 0 | C22: =COUNTIFS(보상비조서!$C$5:$C$42,보상비집계표!A22,보상비조서!$F$5:$F$42,">0",보상비조서!$E$5:$E$42,"국유지") -> 0 | D22: =SUMIFS(보상비조서!$F$5:$F$42,보상비조서!$C$5:$C$42,보상비집계표!A22,보상비조서!$E$5:$E$42,"사유지") -> 0 | E22: =SUMIFS(보상비조서!$F$5:$F$42,보상비조서!$C$5:$C$42,보상비집계표!A22,보상비조서!$E$5:$E$42,"국유지") -> 0 | F22: =SUMIFS(보상비조서!$H$5:$H$42,보상비조서!$C$5:$C$42,보상비집계표!A22,보상비조서!$E$5:$E$42,"사유지") -> 0 | G22: =SUMIFS(보상비조서!$H$5:$H$42,보상비조서!$C$5:$C$42,보상비집계표!A22,보상비조서!$E$5:$E$42,"국유지") -> 0 | H22: =F22*3 -> 0 | I22: =G22*3 -> 0
A23: 주차장 | B23: =COUNTIFS(보상비조서!$C$5:$C$42,보상비집계표!A23,보상비조서!$F$5:$F$42,">0",보상비조서!$E$5:$E$42,"사유지") -> 0 | C23: =COUNTIFS(보상비조서!$C$5:$C$42,보상비집계표!A23,보상비조서!$F$5:$F$42,">0",보상비조서!$E$5:$E$42,"국유지") -> 0 | D23: =SUMIFS(보상비조서!$F$5:$F$42,보상비조서!$C$5:$C$42,보상비집계표!A23,보상비조서!$E$5:$E$42,"사유지") -> 0 | E23: =SUMIFS(보상비조서!$F$5:$F$42,보상비조서!$C$5:$C$42,보상비집계표!A23,보상비조서!$E$5:$E$42,"국유지") -> 0 | F23: =SUMIFS(보상비조서!$H$5:$H$42,보상비조서!$C$5:$C$42,보상비집계표!A23,보상비조서!$E$5:$E$42,"사유지") -> 0 | G23: =SUMIFS(보상비조서!$H$5:$H$42,보상비조서!$C$5:$C$42,보상비집계표!A23,보상비조서!$E$5:$E$42,"국유지") -> 0 | H23: =F23*3 -> 0 | I23: =G23*3 -> 0
A24: 창고 | B24: =COUNTIFS(보상비조서!$C$5:$C$42,보상비집계표!A24,보상비조서!$F$5:$F$42,">0",보상비조서!$E$5:$E$42,"사유지") -> 0 | C24: =COUNTIFS(보상비조서!$C$5:$C$42,보상비집계표!A24,보상비조서!$F$5:$F$42,">0",보상비조서!$E$5:$E$42,"국유지") -> 0 | D24: =SUMIFS(보상비조서!$F$5:$F$42,보상비조서!$C$5:$C$42,보상비집계표!A24,보상비조서!$E$5:$E$42,"사유지") -> 0 | E24: =SUMIFS(보상비조서!$F$5:$F$42,보상비조서!$C$5:$C$42,보상비집계표!A24,보상비조서!$E$5:$E$42,"국유지") -> 0 | F24: =SUMIFS(보상비조서!$H$5:$H$42,보상비조서!$C$5:$C$42,보상비집계표!A24,보상비조서!$E$5:$E$42,"사유지") -> 0 | G24: =SUMIFS(보상비조서!$H$5:$H$42,보상비조서!$C$5:$C$42,보상비집계표!A24,보상비조서!$E$5:$E$42,"국유지") -> 0 | H24: =F24*3 -> 0 | I24: =G24*3 -> 0
A25: 계 | B25: =SUM(B6:B24) -> 2 | C25: =SUM(C6:C24) -> 0 | D25: =SUM(D6:D24) -> 3790 | E25: =SUM(E6:E24) -> 0 | F25: =SUM(F6:F24) -> 0 | G25: =SUM(G6:G24) -> 0 | H25: =SUM(H6:H24) -> 0 | I25: =SUM(I6:I24) -> 0
A26: 총계 | B26: =B25+C25 -> 2 | D26: =D25+E25 -> 3790 | F26: =ROUND(SUM(F25+G25),-6) -> 0 | H26: =ROUND(SUM(H25+I25),-6) -> 0

Sheet 보상비조서
A1: 편 입 용 지 조 서 및 보 상 비
A2: =공사명 -> 만길지구 급경사지 붕괴위험지역 정비사업
A3: NO. | B3: 지번 | C3: 지목 | D3: 지적면적 | E3: 소유자 | F3: 편입면적 | G3: 공시지가
G4: 원/m2 | H4: 실시계획
A5: =ROW()-4 -> 1 | B5: =VLOOKUP($A5,코드,3,FALSE) -> 산 99 임 | C5: =VLOOKUP($A5,코드,11,FALSE) -> 임야 | D5: =VLOOKUP($A5,코드,5,FALSE) -> 11204 | E5: =IF(I5=1,"사유지","국유지") -> 사유지 | F5: =VLOOKUP($A5,코드,10,FALSE) -> 3720 | G5: =VLOOKUP($A5,코드,18,FALSE) -> 0 | H5: =F5*G5 -> 0 | I5: =VLOOKUP($A5,코드,12,FALSE) -> 1
A6: =ROW()-4 -> 2 | B6: =VLOOKUP($A6,코드,3,FALSE) -> 산 98 임 | C6: =VLOOKUP($A6,코드,11,FALSE) -> 임야 | D6: =VLOOKUP($A6,코드,5,FALSE) -> 12215 | E6: =IF(I6=1,"사유지","국유지") -> 사유지 | F6: =VLOOKUP($A6,코드,10,FALSE) -> 70 | G6: =VLOOKUP($A6,코드,18,FALSE) -> 0 | H6: =F6*G6 -> 0 | I6: =VLOOKUP($A6,코드,12,FALSE) -> 1
A7: =ROW()-4 -> 3 | B7: =VLOOKUP($A7,코드,3,FALSE) -> 0 | C7: =VLOOKUP($A7,코드,11,FALSE) | D7: =VLOOKUP($A7,코드,5,FALSE) -> 0 | E7: =IF(I7=1,"사유지","국유지") -> 국유지 | F7: =VLOOKUP($A7,코드,10,FALSE) -> 0 | G7: =VLOOKUP($A7,코드,18,FALSE) -> 0 | H7: =F7*G7 -> 0 | I7: =VLOOKUP($A7,코드,12,FALSE)
A8: =ROW()-4 -> 4 | B8: =VLOOKUP($A8,코드,3,FALSE) -> 0 | C8: =VLOOKUP($A8,코드,11,FALSE) | D8: =VLOOKUP($A8,코드,5,FALSE) -> 0 | E8: =IF(I8=1,"사유지","국유지") -> 국유지 | F8: =VLOOKUP($A8,코드,10,FALSE) -> 0 | G8: =VLOOKUP($A8,코드,18,FALSE) -> 0 | H8: =F8*G8 -> 0 | I8: =VLOOKUP($A8,코드,12,FALSE)
A9: =ROW()-4 -> 5 | B9: =VLOOKUP($A9,코드,3,FALSE) -> 0 | C9: =VLOOKUP($A9,코드,11,FALSE) | D9: =VLOOKUP($A9,코드,5,FALSE) -> 0 | E9: =IF(I9=1,"사유지","국유지") -> 국유지 | F9: =VLOOKUP($A9,코드,10,FALSE) -> 0 | G9: =VLOOKUP($A9,코드,18,FALSE) -> 0 | H9: =F9*G9 -> 0 | I9: =VLOOKUP($A9,코드,12,FALSE)
A10: =ROW()-4 -> 6 | B10: =VLOOKUP($A10,코드,3,FALSE) -> 0 | C10: =VLOOKUP($A10,코드,11,FALSE) | D10: =VLOOKUP($A10,코드,5,FALSE) -> 0 | E10: =IF(I10=1,"사유지","국유지") -> 국유지 | F10: =VLOOKUP($A10,코드,10,FALSE) -> 0 | G10: =VLOOKUP($A10,코드,18,FALSE) -> 0 | H10: =F10*G10 -> 0 | I10: =VLOOKUP($A10,코드,12,FALSE)
A11: =ROW()-4 -> 7 | B11: =VLOOKUP($A11,코드,3,FALSE) -> 0 | C11: =VLOOKUP($A11,코드,11,FALSE) | D11: =VLOOKUP($A11,코드,5,FALSE) -> 0 | E11: =IF(I11=1,"사유지","국유지") -> 국유지 | F11: =VLOOKUP($A11,코드,10,FALSE) -> 0 | G11: =VLOOKUP($A11,코드,18,FALSE) -> 0 | H11: =F11*G11 -> 0 | I11: =VLOOKUP($A11,코드,12,FALSE)
A12: =ROW()-4 -> 8 | B12: =VLOOKUP($A12,코드,3,FALSE) -> 0 | C12: =VLOOKUP($A12,코드,11,FALSE) | D12: =VLOOKUP($A12,코드,5,FALSE) -> 0 | E12: =IF(I12=1,"사유지","국유지") -> 국유지 | F12: =VLOOKUP($A12,코드,10,FALSE) -> 0 | G12: =VLOOKUP($A12,코드,18,FALSE) -> 0 | H12: =F12*G12 -> 0 | I12: =VLOOKUP($A12,코드,12,FALSE)
A13: =ROW()-4 -> 9 | B13: =VLOOKUP($A13,코드,3,FALSE) -> 0 | C13: =VLOOKUP($A13,코드,11,FALSE) | D13: =VLOOKUP($A13,코드,5,FALSE) -> 0 | E13: =IF(I13=1,"사유지","국유지") -> 국유지 | F13: =VLOOKUP($A13,코드,10,FALSE) -> 0 | G13: =VLOOKUP($A13,코드,18,FALSE) -> 16500 | H13: =F13*G13 -> 0 | I13: =VLOOKUP($A13,코드,12,FALSE)
A14: =ROW()-4 -> 10 | B14: =VLOOKUP($A14,코드,3,FALSE) -> 0 | C14: =VLOOKUP($A14,코드,11,FALSE) | D14: =VLOOKUP($A14,코드,5,FALSE) -> 0 | E14: =IF(I14=1,"사유지","국유지") -> 국유지 | F14: =VLOOKUP($A14,코드,10,FALSE) -> 0 | G14: =VLOOKUP($A14,코드,18,FALSE) -> 16500 | H14: =F14*G14 -> 0 | I14: =VLOOKUP($A14,코드,12,FALSE)
A15: =ROW()-4 -> 11 | B15: =VLOOKUP($A15,코드,3,FALSE) -> 0 | C15: =VLOOKUP($A15,코드,11,FALSE) | D15: =VLOOKUP($A15,코드,5,FALSE) -> 0 | E15: =IF(I15=1,"사유지","국유지") -> 국유지 | F15: =VLOOKUP($A15,코드,10,FALSE) -> 0 | G15: =VLOOKUP($A15,코드,18,FALSE) -> 20000 | H15: =F15*G15 -> 0 | I15: =VLOOKUP($A15,코드,12,FALSE)
A16: =ROW()-4 -> 12 | B16: =VLOOKUP($A16,코드,3,FALSE) -> 0 | C16: =VLOOKUP($A16,코드,11,FALSE) | D16: =VLOOKUP($A16,코드,5,FALSE) -> 0 | E16: =IF(I16=1,"사유지","국유지") -> 국유지 | F16: =VLOOKUP($A16,코드,10,FALSE) -> 0 | G16: =VLOOKUP($A16,코드,18,FALSE) -> 19600 | H16: =F16*G16 -> 0 | I16: =VLOOKUP($A16,코드,12,FALSE)
... A40: =ROW()-4 -> 36 | B40: =VLOOKUP($A40,코드,3,FALSE) -> 0 | C40: =VLOOKUP($A40,코드,11,FALSE) | D40: =VLOOKUP($A40,코드,5,FALSE) -> 0 | E40: =IF(I40=1,"사유지","국유지") -> 국유지 | F40: =VLOOKUP($A40,코드,10,FALSE) -> 0 | G40: =VLOOKUP($A40,코드,18,FALSE) -> 27300 | H40: =F40*G40 -> 0 | I40: =VLOOKUP($A40,코드,12,FALSE)

Sheet 데이터합(전체)
A1: 일련번호 | B1: 전 | C1: 답 | D1: 임야 | E1: 대지 | F1: 도로 | G1: 하천 | H1: 구거 | I1: 묘지 | J1: 제방 | K1: 유지 | L1: 공원 | M1: 체육용지 | N1: 잡종지 | O1: 철도용지 | P1: 종교용지
A2: =ROW()-1 -> 1 | B2: =IF(직접데이타입력!$E7="1",직접데이타입력!$K7," ") | C2: =IF(직접데이타입력!$E7="2",직접데이타입력!$K7," ") | D2: =IF(직접데이타입력!$E7="3",직접데이타입력!$K7," ") -> 3720 | E2: =IF(직접데이타입력!$E7="4",직접데이타입력!$K7," ") | F2: =IF(직접데이타입력!$E7="5",직접데이타입력!$K7," ") | G2: =IF(직접데이타입력!$E7="6",직접데이타입력!$K7," ") | H2: =IF(직접데이타입력!$E7="7",직접데이타입력!$K7," ") | I2: =IF(직접데이타입력!$E7="8",직접데이타입력!$K7," ") | J2: =IF(직접데이타입력!$E7="9",직접데이타입력!$K7," ") | K2: =IF(직접데이타입력!$E7="10",직접데이타입력!$K7," ") | L2: =IF(직접데이타입력!$E7="11",직접데이타입력!$K7," ") | M2: =IF(직접데이타입력!$E7="12",직접데이타입력!$K7," ") | N2: =IF(직접데이타입력!$E7="13",직접데이타입력!$K7," ") | O2: =IF(직접데이타입력!$E7="14",직접데이타입력!$K7," ") | P2: =IF(직접데이타입력!$E7="15",직접데이타입력!$K7," ")
A3: =ROW()-1 -> 2 | B3: =IF(직접데이타입력!$E8="1",직접데이타입력!$K8," ") | C3: =IF(직접데이타입력!$E8="2",직접데이타입력!$K8," ") | D3: =IF(직접데이타입력!$E8="3",직접데이타입력!$K8," ") -> 70 | E3: =IF(직접데이타입력!$E8="4",직접데이타입력!$K8," ") | F3: =IF(직접데이타입력!$E8="5",직접데이타입력!$K8," ") | G3: =IF(직접데이타입력!$E8="6",직접데이타입력!$K8," ") | H3: =IF(직접데이타입력!$E8="7",직접데이타입력!$K8," ") | I3: =IF(직접데이타입력!$E8="8",직접데이타입력!$K8," ") | J3: =IF(직접데이타입력!$E8="9",직접데이타입력!$K8," ") | K3: =IF(직접데이타입력!$E8="10",직접데이타입력!$K8," ") | L3: =IF(직접데이타입력!$E8="11",직접데이타입력!$K8," ") | M3: =IF(직접데이타입력!$E8="12",직접데이타입력!$K8," ") | N3: =IF(직접데이타입력!$E8="13",직접데이타입력!$K8," ") | O3: =IF(직접데이타입력!$E8="14",직접데이타입력!$K8," ") | P3: =IF(직접데이타입력!$E8="15",직접데이타입력!$K8," ")
A4: =ROW()-1 -> 3 | B4: =IF(직접데이타입력!$E9="1",직접데이타입력!$K9," ") | C4: =IF(직접데이타입력!$E9="2",직접데이타입력!$K9," ") | D4: =IF(직접데이타입력!$E9="3",직접데이타입력!$K9," ") | E4: =IF(직접데이타입력!$E9="4",직접데이타입력!$K9," ") | F4: =IF(직접데이타입력!$E9="5",직접데이타입력!$K9," ") -> 0 | G4: =IF(직접데이타입력!$E9="6",직접데이타입력!$K9," ") | H4: =IF(직접데이타입력!$E9="7",직접데이타입력!$K9," ") | I4: =IF(직접데이타입력!$E9="8",직접데이타입력!$K9," ") | J4: =IF(직접데이타입력!$E9="9",직접데이타입력!$K9," ") | K4: =IF(직접데이타입력!$E9="10",직접데이타입력!$K9," ") | L4: =IF(직접데이타입력!$E9="11",직접데이타입력!$K9," ") | M4: =IF(직접데이타입력!$E9="12",직접데이타입력!$K9," ") | N4: =IF(직접데이타입력!$E9="13",직접데이타입력!$K9," ") | O4: =IF(직접데이타입력!$E9="14",직접데이타입력!$K9," ") | P4: =IF(직접데이타입력!$E9="15",직접데이타입력!$K9," ")
A5: =ROW()-1 -> 4 | B5: =IF(직접데이타입력!$E10="1",직접데이타입력!$K10," ") -> 0 | C5: =IF(직접데이타입력!$E10="2",직접데이타입력!$K10," ") | D5: =IF(직접데이타입력!$E10="3",직접데이타입력!$K10," ") | E5: =IF(직접데이타입력!$E10="4",직접데이타입력!$K10," ") | F5: =IF(직접데이타입력!$E10="5",직접데이타입력!$K10," ") | G5: =IF(직접데이타입력!$E10="6",직접데이타입력!$K10," ") | H5: =IF(직접데이타입력!$E10="7",직접데이타입력!$K10," ") | I5: =IF(직접데이타입력!$E10="8",직접데이타입력!$K10," ") | J5: =IF(직접데이타입력!$E10="9",직접데이타입력!$K10," ") | K5: =IF(직접데이타입력!$E10="10",직접데이타입력!$K10," ") | L5: =IF(직접데이타입력!$E10="11",직접데이타입력!$K10," ") | M5: =IF(직접데이타입력!$E10="12",직접데이타입력!$K10," ") | N5: =IF(직접데이타입력!$E10="13",직접데이타입력!$K10," ") | O5: =IF(직접데이타입력!$E10="14",직접데이타입력!$K10," ") | P5: =IF(직접데이타입력!$E10="15",직접데이타입력!$K10," ")
A6: =ROW()-1 -> 5 | B6: =IF(직접데이타입력!$E11="1",직접데이타입력!$K11," ") | C6: =IF(직접데이타입력!$E11="2",직접데이타입력!$K11," ") | D6: =IF(직접데이타입력!$E11="3",직접데이타입력!$K11," ") | E6: =IF(직접데이타입력!$E11="4",직접데이타입력!$K11," ") | F6: =IF(직접데이타입력!$E11="5",직접데이타입력!$K11," ") -> 0 | G6: =IF(직접데이타입력!$E11="6",직접데이타입력!$K11," ") | H6: =IF(직접데이타입력!$E11="7",직접데이타입력!$K11," ") | I6: =IF(직접데이타입력!$E11="8",직접데이타입력!$K11," ") | J6: =IF(직접데이타입력!$E11="9",직접데이타입력!$K11," ") | K6: =IF(직접데이타입력!$E11="10",직접데이타입력!$K11," ") | L6: =IF(직접데이타입력!$E11="11",직접데이타입력!$K11," ") | M6: =IF(직접데이타입력!$E11="12",직접데이타입력!$K11," ") | N6: =IF(직접데이타입력!$E11="13",직접데이타입력!$K11," ") | O6: =IF(직접데이타입력!$E11="14",직접데이타입력!$K11," ") | P6: =IF(직접데이타입력!$E11="15",직접데이타입력!$K11," ")
A7: =ROW()-1 -> 6 | B7: =IF(직접데이타입력!$E12="1",직접데이타입력!$K12," ") -> 0 | C7: =IF(직접데이타입력!$E12="2",직접데이타입력!$K12," ") | D7: =IF(직접데이타입력!$E12="3",직접데이타입력!$K12," ") | E7: =IF(직접데이타입력!$E12="4",직접데이타입력!$K12," ") | F7: =IF(직접데이타입력!$E12="5",직접데이타입력!$K12," ") | G7: =IF(직접데이타입력!$E12="6",직접데이타입력!$K12," ") | H7: =IF(직접데이타입력!$E12="7",직접데이타입력!$K12," ") | I7: =IF(직접데이타입력!$E12="8",직접데이타입력!$K12," ") | J7: =IF(직접데이타입력!$E12="9",직접데이타입력!$K12," ") | K7: =IF(직접데이타입력!$E12="10",직접데이타입력!$K12," ") | L7: =IF(직접데이타입력!$E12="11",직접데이타입력!$K12," ") | M7: =IF(직접데이타입력!$E12="12",직접데이타입력!$K12," ") | N7: =IF(직접데이타입력!$E12="13",직접데이타입력!$K12," ") | O7: =IF(직접데이타입력!$E12="14",직접데이타입력!$K12," ") | P7: =IF(직접데이타입력!$E12="15",직접데이타입력!$K12," ")
A8: =ROW()-1 -> 7 | B8: =IF(직접데이타입력!$E13="1",직접데이타입력!$K13," ") | C8: =IF(직접데이타입력!$E13="2",직접데이타입력!$K13," ") | D8: =IF(직접데이타입력!$E13="3",직접데이타입력!$K13," ") | E8: =IF(직접데이타입력!$E13="4",직접데이타입력!$K13," ") | F8: =IF(직접데이타입력!$E13="5",직접데이타입력!$K13," ") -> 0 | G8: =IF(직접데이타입력!$E13="6",직접데이타입력!$K13," ") | H8: =IF(직접데이타입력!$E13="7",직접데이타입력!$K13," ") | I8: =IF(직접데이타입력!$E13="8",직접데이타입력!$K13," ") | J8: =IF(직접데이타입력!$E13="9",직접데이타입력!$K13," ") | K8: =IF(직접데이타입력!$E13="10",직접데이타입력!$K13," ") | L8: =IF(직접데이타입력!$E13="11",직접데이타입력!$K13," ") | M8: =IF(직접데이타입력!$E13="12",직접데이타입력!$K13," ") | N8: =IF(직접데이타입력!$E13="13",직접데이타입력!$K13," ") | O8: =IF(직접데이타입력!$E13="14",직접데이타입력!$K13," ") | P8: =IF(직접데이타입력!$E13="15",직접데이타입력!$K13," ")
A9: =ROW()-1 -> 8 | B9: =IF(직접데이타입력!$E14="1",직접데이타입력!$K14," ") | C9: =IF(직접데이타입력!$E14="2",직접데이타입력!$K14," ") | D9: =IF(직접데이타입력!$E14="3",직접데이타입력!$K14," ") | E9: =IF(직접데이타입력!$E14="4",직접데이타입력!$K14," ") | F9: =IF(직접데이타입력!$E14="5",직접데이타입력!$K14," ") -> 0 | G9: =IF(직접데이타입력!$E14="6",직접데이타입력!$K14," ") | H9: =IF(직접데이타입력!$E14="7",직접데이타입력!$K14," ") | I9: =IF(직접데이타입력!$E14="8",직접데이타입력!$K14," ") | J9: =IF(직접데이타입력!$E14="9",직접데이타입력!$K14," ") | K9: =IF(직접데이타입력!$E14="10",직접데이타입력!$K14," ") | L9: =IF(직접데이타입력!$E14="11",직접데이타입력!$K14," ") | M9: =IF(직접데이타입력!$E14="12",직접데이타입력!$K14," ") | N9: =IF(직접데이타입력!$E14="13",직접데이타입력!$K14," ") | O9: =IF(직접데이타입력!$E14="14",직접데이타입력!$K14," ") | P9: =IF(직접데이타입력!$E14="15",직접데이타입력!$K14," ")
A10: =ROW()-1 -> 9 | B10: =IF(직접데이타입력!$E15="1",직접데이타입력!$K15," ") -> 0 | C10: =IF(직접데이타입력!$E15="2",직접데이타입력!$K15," ") | D10: =IF(직접데이타입력!$E15="3",직접데이타입력!$K15," ") | E10: =IF(직접데이타입력!$E15="4",직접데이타입력!$K15," ") | F10: =IF(직접데이타입력!$E15="5",직접데이타입력!$K15," ") | G10: =IF(직접데이타입력!$E15="6",직접데이타입력!$K15," ") | H10: =IF(직접데이타입력!$E15="7",직접데이타입력!$K15," ") | I10: =IF(직접데이타입력!$E15="8",직접데이타입력!$K15," ") | J10: =IF(직접데이타입력!$E15="9",직접데이타입력!$K15," ") | K10: =IF(직접데이타입력!$E15="10",직접데이타입력!$K15," ") | L10: =IF(직접데이타입력!$E15="11",직접데이타입력!$K15," ") | M10: =IF(직접데이타입력!$E15="12",직접데이타입력!$K15," ") | N10: =IF(직접데이타입력!$E15="13",직접데이타입력!$K15," ") | O10: =IF(직접데이타입력!$E15="14",직접데이타입력!$K15," ") | P10: =IF(직접데이타입력!$E15="15",직접데이타입력!$K15," ")
A11: =ROW()-1 -> 10 | B11: =IF(직접데이타입력!$E16="1",직접데이타입력!$K16," ") -> 0 | C11: =IF(직접데이타입력!$E16="2",직접데이타입력!$K16," ") | D11: =IF(직접데이타입력!$E16="3",직접데이타입력!$K16," ") | E11: =IF(직접데이타입력!$E16="4",직접데이타입력!$K16," ") | F11: =IF(직접데이타입력!$E16="5",직접데이타입력!$K16," ") | G11: =IF(직접데이타입력!$E16="6",직접데이타입력!$K16," ") | H11: =IF(직접데이타입력!$E16="7",직접데이타입력!$K16," ") | I11: =IF(직접데이타입력!$E16="8",직접데이타입력!$K16," ") | J11: =IF(직접데이타입력!$E16="9",직접데이타입력!$K16," ") | K11: =IF(직접데이타입력!$E16="10",직접데이타입력!$K16," ") | L11: =IF(직접데이타입력!$E16="11",직접데이타입력!$K16," ") | M11: =IF(직접데이타입력!$E16="12",직접데이타입력!$K16," ") | N11: =IF(직접데이타입력!$E16="13",직접데이타입력!$K16," ") | O11: =IF(직접데이타입력!$E16="14",직접데이타입력!$K16," ") | P11: =IF(직접데이타입력!$E16="15",직접데이타입력!$K16," ")
A12: =ROW()-1 -> 11 | B12: =IF(직접데이타입력!$E17="1",직접데이타입력!$K17," ") | C12: =IF(직접데이타입력!$E17="2",직접데이타입력!$K17," ") | D12: =IF(직접데이타입력!$E17="3",직접데이타입력!$K17," ") -> 0 | E12: =IF(직접데이타입력!$E17="4",직접데이타입력!$K17," ") | F12: =IF(직접데이타입력!$E17="5",직접데이타입력!$K17," ") | G12: =IF(직접데이타입력!$E17="6",직접데이타입력!$K17," ") | H12: =IF(직접데이타입력!$E17="7",직접데이타입력!$K17," ") | I12: =IF(직접데이타입력!$E17="8",직접데이타입력!$K17," ") | J12: =IF(직접데이타입력!$E17="9",직접데이타입력!$K17," ") | K12: =IF(직접데이타입력!$E17="10",직접데이타입력!$K17," ") | L12: =IF(직접데이타입력!$E17="11",직접데이타입력!$K17," ") | M12: =IF(직접데이타입력!$E17="12",직접데이타입력!$K17," ") | N12: =IF(직접데이타입력!$E17="13",직접데이타입력!$K17," ") | O12: =IF(직접데이타입력!$E17="14",직접데이타입력!$K17," ") | P12: =IF(직접데이타입력!$E17="15",직접데이타입력!$K17," ")
A13: =ROW()-1 -> 12 | B13: =IF(직접데이타입력!$E18="1",직접데이타입력!$K18," ") -> 0 | C13: =IF(직접데이타입력!$E18="2",직접데이타입력!$K18," ") | D13: =IF(직접데이타입력!$E18="3",직접데이타입력!$K18," ") | E13: =IF(직접데이타입력!$E18="4",직접데이타입력!$K18," ") | F13: =IF(직접데이타입력!$E18="5",직접데이타입력!$K18," ") | G13: =IF(직접데이타입력!$E18="6",직접데이타입력!$K18," ") | H13: =IF(직접데이타입력!$E18="7",직접데이타입력!$K18," ") | I13: =IF(직접데이타입력!$E18="8",직접데이타입력!$K18," ") | J13: =IF(직접데이타입력!$E18="9",직접데이타입력!$K18," ") | K13: =IF(직접데이타입력!$E18="10",직접데이타입력!$K18," ") | L13: =IF(직접데이타입력!$E18="11",직접데이타입력!$K18," ") | M13: =IF(직접데이타입력!$E18="12",직접데이타입력!$K18," ") | N13: =IF(직접데이타입력!$E18="13",직접데이타입력!$K18," ") | O13: =IF(직접데이타입력!$E18="14",직접데이타입력!$K18," ") | P13: =IF(직접데이타입력!$E18="15",직접데이타입력!$K18," ")
... A297: =ROW()-1 -> 296 | B297: =IF(직접데이타입력!$E302="1",직접데이타입력!$K302," ") | C297: =IF(직접데이타입력!$E302="2",직접데이타입력!$K302," ") | D297: =IF(직접데이타입력!$E302="3",직접데이타입력!$K302," ") | E297: =IF(직접데이타입력!$E302="4",직접데이타입력!$K302," ") | F297: =IF(직접데이타입력!$E302="5",직접데이타입력!$K302," ") | G297: =IF(직접데이타입력!$E302="6",직접데이타입력!$K302," ") | H297: =IF(직접데이타입력!$E302="7",직접데이타입력!$K302," ") | I297: =IF(직접데이타입력!$E302="8",직접데이타입력!$K302," ") | J297: =IF(직접데이타입력!$E302="9",직접데이타입력!$K302," ") | K297: =IF(직접데이타입력!$E302="10",직접데이타입력!$K302," ") | L297: =IF(직접데이타입력!$E302="11",직접데이타입력!$K302," ") | M297: =IF(직접데이타입력!$E302="12",직접데이타입력!$K302," ") | N297: =IF(직접데이타입력!$E302="13",직접데이타입력!$K302," ") | O297: =IF(직접데이타입력!$E302="14",직접데이타입력!$K302," ") | P297: =IF(직접데이타입력!$E302="15",직접데이타입력!$K302," ")
A298: 필지수 | B298: =COUNT(B2:B297) -> 9 | C298: =COUNT(C2:C297) -> 0 | D298: =COUNT(D2:D297) -> 4 | E298: =COUNT(E2:E297) -> 0 | F298: =COUNT(F2:F297) -> 22 | G298: =COUNT(G2:G297) -> 0 | H298: =COUNT(H2:H297) -> 0 | I298: =COUNT(I2:I297) -> 1 | ... P298: =COUNT(P2:P297) -> 0 | Q298: =SUM(B298:P298) -> 36
A299: 면적 | B299: =SUM(B2:B297) -> 0 | C299: =SUM(C2:C297) -> 0 | D299: =SUM(D2:D297) -> 3790 | E299: =SUM(E2:E297) -> 0 | F299: =SUM(F2:F297) -> 0 | G299: =SUM(G2:G297) -> 0 | H299: =SUM(H2:H297) -> 0 | I299: =SUM(I2:I297) -> 0 | ... P299: =SUM(P2:P297) -> 0 | Q299: =SUM(B299:P299) -> 3790

Sheet 용지조서
A1: 용 지 조 서 | V1: 권 리 자 명 부
A2: =공사명 -> 만길지구 급경사지 붕괴위험지역 정비사업
A3: 번호 | B3: 토지소재지 | D3: 구분 | E3: 지적 (m2) | G3: 권리자 | I3: 비고
B4: 주소 | C4: 번지 | F4: 편입 | G4: 주소 | H4: 성명
A5: =ROW()-4 -> 1 | B5: =VLOOKUP($A5,코드,13,FALSE) -> 의신면 만길리 | C5: =VLOOKUP($A5,코드,3,FALSE) -> 산 99 임 | D5: =VLOOKUP($A5,코드,11,FALSE) -> 임야 | E5: =VLOOKUP($A5,코드,5,FALSE) -> 11204 | F5: =VLOOKUP($A5,코드,10,FALSE) -> 3720 | G5: =VLOOKUP($A5,코드,15,FALSE) -> 광주시 북구 중흥동 335-39 | H5: =VLOOKUP($A5,코드,17,FALSE) -> 조명 외 1인
A6: =ROW()-4 -> 2 | B6: =VLOOKUP($A6,코드,13,FALSE) -> 의신면 만길리 | C6: =VLOOKUP($A6,코드,3,FALSE) -> 산 98 임 | D6: =VLOOKUP($A6,코드,11,FALSE) -> 임야 | E6: =VLOOKUP($A6,코드,5,FALSE) -> 12215 | F6: =VLOOKUP($A6,코드,10,FALSE) -> 70 | G6: =VLOOKUP($A6,코드,15,FALSE) -> 의신면 만길리 145 | H6: =VLOOKUP($A6,코드,17,FALSE) -> 김 혈영
A7: =ROW()-4 -> 3 | B7: =VLOOKUP($A7,코드,13,FALSE) | C7: =VLOOKUP($A7,코드,3,FALSE) -> 0 | D7: =VLOOKUP($A7,코드,11,FALSE) | E7: =VLOOKUP($A7,코드,5,FALSE) -> 0 | F7: =VLOOKUP($A7,코드,10,FALSE) -> 0 | G7: =VLOOKUP($A7,코드,15,FALSE) | H7: =VLOOKUP($A7,코드,17,FALSE) -> 0
A8: =ROW()-4 -> 4 | B8: =VLOOKUP($A8,코드,13,FALSE) | C8: =VLOOKUP($A8,코드,3,FALSE) -> 0 | D8: =VLOOKUP($A8,코드,11,FALSE) | E8: =VLOOKUP($A8,코드,5,FALSE) -> 0 | F8: =VLOOKUP($A8,코드,10,FALSE) -> 0 | G8: =VLOOKUP($A8,코드,15,FALSE) | H8: =VLOOKUP($A8,코드,17,FALSE) -> 0
A9: =ROW()-4 -> 5 | B9: =VLOOKUP($A9,코드,13,FALSE) | C9: =VLOOKUP($A9,코드,3,FALSE) -> 0 | D9: =VLOOKUP($A9,코드,11,FALSE) | E9: =VLOOKUP($A9,코드,5,FALSE) -> 0 | F9: =VLOOKUP($A9,코드,10,FALSE) -> 0 | G9: =VLOOKUP($A9,코드,15,FALSE) | H9: =VLOOKUP($A9,코드,17,FALSE) -> 0
A10: =ROW()-4 -> 6 | B10: =VLOOKUP($A10,코드,13,FALSE) | C10: =VLOOKUP($A10,코드,3,FALSE) -> 0 | D10: =VLOOKUP($A10,코드,11,FALSE) | E10: =VLOOKUP($A10,코드,5,FALSE) -> 0 | F10: =VLOOKUP($A10,코드,10,FALSE) -> 0 | G10: =VLOOKUP($A10,코드,15,FALSE) | H10: =VLOOKUP($A10,코드,17,FALSE) -> 0
A11: =ROW()-4 -> 7 | B11: =VLOOKUP($A11,코드,13,FALSE) | C11: =VLOOKUP($A11,코드,3,FALSE) -> 0 | D11: =VLOOKUP($A11,코드,11,FALSE) | E11: =VLOOKUP($A11,코드,5,FALSE) -> 0 | F11: =VLOOKUP($A11,코드,10,FALSE) -> 0 | G11: =VLOOKUP($A11,코드,15,FALSE) | H11: =VLOOKUP($A11,코드,17,FALSE) -> 0
A12: =ROW()-4 -> 8 | B12: =VLOOKUP($A12,코드,13,FALSE) | C12: =VLOOKUP($A12,코드,3,FALSE) -> 0 | D12: =VLOOKUP($A12,코드,11,FALSE) | E12: =VLOOKUP($A12,코드,5,FALSE) -> 0 | F12: =VLOOKUP($A12,코드,10,FALSE) -> 0 | G12: =VLOOKUP($A12,코드,15,FALSE) | H12: =VLOOKUP($A12,코드,17,FALSE) -> 0
A13: =ROW()-4 -> 9 | B13: =VLOOKUP($A13,코드,13,FALSE) | C13: =VLOOKUP($A13,코드,3,FALSE) -> 0 | D13: =VLOOKUP($A13,코드,11,FALSE) | E13: =VLOOKUP($A13,코드,5,FALSE) -> 0 | F13: =VLOOKUP($A13,코드,10,FALSE) -> 0 | G13: =VLOOKUP($A13,코드,15,FALSE) | H13: =VLOOKUP($A13,코드,17,FALSE) -> 0
A14: =ROW()-4 -> 10 | B14: =VLOOKUP($A14,코드,13,FALSE) | C14: =VLOOKUP($A14,코드,3,FALSE) -> 0 | D14: =VLOOKUP($A14,코드,11,FALSE) | E14: =VLOOKUP($A14,코드,5,FALSE) -> 0 | F14: =VLOOKUP($A14,코드,10,FALSE) -> 0 | G14: =VLOOKUP($A14,코드,15,FALSE) | H14: =VLOOKUP($A14,코드,17,FALSE) -> 0
A15: =ROW()-4 -> 11 | B15: =VLOOKUP($A15,코드,13,FALSE) | C15: =VLOOKUP($A15,코드,3,FALSE) -> 0 | D15: =VLOOKUP($A15,코드,11,FALSE) | E15: =VLOOKUP($A15,코드,5,FALSE) -> 0 | F15: =VLOOKUP($A15,코드,10,FALSE) -> 0 | G15: =VLOOKUP($A15,코드,15,FALSE) | H15: =VLOOKUP($A15,코드,17,FALSE) -> 0
A16: =ROW()-4 -> 12 | B16: =VLOOKUP($A16,코드,13,FALSE) | C16: =VLOOKUP($A16,코드,3,FALSE) -> 0 | D16: =VLOOKUP($A16,코드,11,FALSE) | E16: =VLOOKUP($A16,코드,5,FALSE) -> 0 | F16: =VLOOKUP($A16,코드,10,FALSE) -> 0 | G16: =VLOOKUP($A16,코드,15,FALSE) | H16: =VLOOKUP($A16,코드,17,FALSE) -> 0
... A40: =ROW()-4 -> 36 | B40: =VLOOKUP($A40,코드,13,FALSE) | C40: =VLOOKUP($A40,코드,3,FALSE) -> 0 | D40: =VLOOKUP($A40,코드,11,FALSE) | E40: =VLOOKUP($A40,코드,5,FALSE) -> 0 | F40: =VLOOKUP($A40,코드,10,FALSE) -> 0 | G40: =VLOOKUP($A40,코드,15,FALSE) | H40: =VLOOKUP($A40,코드,17,FALSE) -> 0

Sheet 데이터합(사유지)
A1: 일련번호 | B1: 전 | C1: 답 | D1: 임야 | E1: 대지 | F1: 도로 | G1: 하천 | H1: 구거 | I1: 묘지 | J1: 제방 | K1: 유지 | L1: 공원 | M1: 체육용지 | N1: 잡종지 | O1: 철도용지 | P1: 종교용지 | Q1: 학교용지 | R1: 목장 | S1: 주차장 | T1: 창고
A2: =ROW()-1 -> 1 | B2: =IF(직접데이타입력!$M7=1,IF(직접데이타입력!$E7="1",직접데이타입력!$K7," ")," ") | C2: =IF(직접데이타입력!$M7=1,IF(직접데이타입력!$E7="2",직접데이타입력!$K7," ")," ") | D2: =IF(직접데이타입력!$M7=1,IF(직접데이타입력!$E7="3",직접데이타입력!$K7," ")," ") -> 3720 | E2: =IF(직접데이타입력!$M7=1,IF(직접데이타입력!$E7="4",직접데이타입력!$K7," ")," ") | F2: =IF(직접데이타입력!$M7=1,IF(직접데이타입력!$E7="5",직접데이타입력!$K7," ")," ") | G2: =IF(직접데이타입력!$M7=1,IF(직접데이타입력!$E7="6",직접데이타입력!$K7," ")," ") | H2: =IF(직접데이타입력!$M7=1,IF(직접데이타입력!$E7="7",직접데이타입력!$K7," ")," ") | I2: =IF(직접데이타입력!$M7=1,IF(직접데이타입력!$E7="8",직접데이타입력!$K7," ")," ") | J2: =IF(직접데이타입력!$M7=1,IF(직접데이타입력!$E7="9",직접데이타입력!$K7," ")," ") | K2: =IF(직접데이타입력!$M7=1,IF(직접데이타입력!$E7="10",직접데이타입력!$K7," ")," ") | L2: =IF(직접데이타입력!$M7=1,IF(직접데이타입력!$E7="11",직접데이타입력!$K7," ")," ") | M2: =IF(직접데이타입력!$M7=1,IF(직접데이타입력!$E7="12",직접데이타입력!$K7," ")," ") | N2: =IF(직접데이타입력!$M7=1,IF(직접데이타입력!$E7="13",직접데이타입력!$K7," ")," ") | O2: =IF(직접데이타입력!$M7=1,IF(직접데이타입력!$E7="14",직접데이타입력!$K7," ")," ") | P2: =IF(직접데이타입력!$M7=1,IF(직접데이타입력!$E7="15",직접데이타입력!$K7," ")," ") | Q2: =IF(직접데이타입력!$M7=1,IF(직접데이타입력!$E7="16",직접데이타입력!$K7," ")," ") | R2: =IF(직접데이타입력!$M7=1,IF(직접데이타입력!$E7="17",직접데이타입력!$K7," ")," ") | S2: =IF(직접데이타입력!$M7=1,IF(직접데이타입력!$E7="18",직접데이타입력!$K7," ")," ") | T2: =IF(직접데이타입력!$M7=1,IF(직접데이타입력!$E7="19",직접데이타입력!$K7," ")," ")
A3: =ROW()-1 -> 2 | B3: =IF(직접데이타입력!$M8=1,IF(직접데이타입력!$E8="1",직접데이타입력!$K8," ")," ") | C3: =IF(직접데이타입력!$M8=1,IF(직접데이타입력!$E8="2",직접데이타입력!$K8," ")," ") | D3: =IF(직접데이타입력!$M8=1,IF(직접데이타입력!$E8="3",직접데이타입력!$K8," ")," ") -> 70 | E3: =IF(직접데이타입력!$M8=1,IF(직접데이타입력!$E8="4",직접데이타입력!$K8," ")," ") | F3: =IF(직접데이타입력!$M8=1,IF(직접데이타입력!$E8="5",직접데이타입력!$K8," ")," ") | G3: =IF(직접데이타입력!$M8=1,IF(직접데이타입력!$E8="6",직접데이타입력!$K8," ")," ") | H3: =IF(직접데이타입력!$M8=1,IF(직접데이타입력!$E8="7",직접데이타입력!$K8," ")," ") | I3: =IF(직접데이타입력!$M8=1,IF(직접데이타입력!$E8="8",직접데이타입력!$K8," ")," ") | J3: =IF(직접데이타입력!$M8=1,IF(직접데이타입력!$E8="9",직접데이타입력!$K8," ")," ") | K3: =IF(직접데이타입력!$M8=1,IF(직접데이타입력!$E8="10",직접데이타입력!$K8," ")," ") | L3: =IF(직접데이타입력!$M8=1,IF(직접데이타입력!$E8="11",직접데이타입력!$K8," ")," ") | M3: =IF(직접데이타입력!$M8=1,IF(직접데이타입력!$E8="12",직접데이타입력!$K8," ")," ") | N3: =IF(직접데이타입력!$M8=1,IF(직접데이타입력!$E8="13",직접데이타입력!$K8," ")," ") | O3: =IF(직접데이타입력!$M8=1,IF(직접데이타입력!$E8="14",직접데이타입력!$K8," ")," ") | P3: =IF(직접데이타입력!$M8=1,IF(직접데이타입력!$E8="15",직접데이타입력!$K8," ")," ") | Q3: =IF(직접데이타입력!$M8=1,IF(직접데이타입력!$E8="16",직접데이타입력!$K8," ")," ") | R3: =IF(직접데이타입력!$M8=1,IF(직접데이타입력!$E8="17",직접데이타입력!$K8," ")," ") | S3: =IF(직접데이타입력!$M8=1,IF(직접데이타입력!$E8="18",직접데이타입력!$K8," ")," ") | T3: =IF(직접데이타입력!$M8=1,IF(직접데이타입력!$E8="19",직접데이타입력!$K8," ")," ")
A4: =ROW()-1 -> 3 | B4: =IF(직접데이타입력!$M9=1,IF(직접데이타입력!$E9="1",직접데이타입력!$K9," ")," ") | C4: =IF(직접데이타입력!$M9=1,IF(직접데이타입력!$E9="2",직접데이타입력!$K9," ")," ") | D4: =IF(직접데이타입력!$M9=1,IF(직접데이타입력!$E9="3",직접데이타입력!$K9," ")," ") | E4: =IF(직접데이타입력!$M9=1,IF(직접데이타입력!$E9="4",직접데이타입력!$K9," ")," ") | F4: =IF(직접데이타입력!$M9=1,IF(직접데이타입력!$E9="5",직접데이타입력!$K9," ")," ") | G4: =IF(직접데이타입력!$M9=1,IF(직접데이타입력!$E9="6",직접데이타입력!$K9," ")," ") | H4: =IF(직접데이타입력!$M9=1,IF(직접데이타입력!$E9="7",직접데이타입력!$K9," ")," ") | I4: =IF(직접데이타입력!$M9=1,IF(직접데이타입력!$E9="8",직접데이타입력!$K9," ")," ") | J4: =IF(직접데이타입력!$M9=1,IF(직접데이타입력!$E9="9",직접데이타입력!$K9," ")," ") | K4: =IF(직접데이타입력!$M9=1,IF(직접데이타입력!$E9="10",직접데이타입력!$K9," ")," ") | L4: =IF(직접데이타입력!$M9=1,IF(직접데이타입력!$E9="11",직접데이타입력!$K9," ")," ") | M4: =IF(직접데이타입력!$M9=1,IF(직접데이타입력!$E9="12",직접데이타입력!$K9," ")," ") | N4: =IF(직접데이타입력!$M9=1,IF(직접데이타입력!$E9="13",직접데이타입력!$K9," ")," ") | O4: =IF(직접데이타입력!$M9=1,IF(직접데이타입력!$E9="14",직접데이타입력!$K9," ")," ") | P4: =IF(직접데이타입력!$M9=1,IF(직접데이타입력!$E9="15",직접데이타입력!$K9," ")," ") | Q4: =IF(직접데이타입력!$M9=1,IF(직접데이타입력!$E9="16",직접데이타입력!$K9," ")," ") | R4: =IF(직접데이타입력!$M9=1,IF(직접데이타입력!$E9="17",직접데이타입력!$K9," ")," ") | S4: =IF(직접데이타입력!$M9=1,IF(직접데이타입력!$E9="18",직접데이타입력!$K9," ")," ") | T4: =IF(직접데이타입력!$M9=1,IF(직접데이타입력!$E9="19",직접데이타입력!$K9," ")," ")
A5: =ROW()-1 -> 4 | B5: =IF(직접데이타입력!$M10=1,IF(직접데이타입력!$E10="1",직접데이타입력!$K10," ")," ") | C5: =IF(직접데이타입력!$M10=1,IF(직접데이타입력!$E10="2",직접데이타입력!$K10," ")," ") | D5: =IF(직접데이타입력!$M10=1,IF(직접데이타입력!$E10="3",직접데이타입력!$K10," ")," ") | E5: =IF(직접데이타입력!$M10=1,IF(직접데이타입력!$E10="4",직접데이타입력!$K10," ")," ") | F5: =IF(직접데이타입력!$M10=1,IF(직접데이타입력!$E10="5",직접데이타입력!$K10," ")," ") | G5: =IF(직접데이타입력!$M10=1,IF(직접데이타입력!$E10="6",직접데이타입력!$K10," ")," ") | H5: =IF(직접데이타입력!$M10=1,IF(직접데이타입력!$E10="7",직접데이타입력!$K10," ")," ") | I5: =IF(직접데이타입력!$M10=1,IF(직접데이타입력!$E10="8",직접데이타입력!$K10," ")," ") | J5: =IF(직접데이타입력!$M10=1,IF(직접데이타입력!$E10="9",직접데이타입력!$K10," ")," ") | K5: =IF(직접데이타입력!$M10=1,IF(직접데이타입력!$E10="10",직접데이타입력!$K10," ")," ") | L5: =IF(직접데이타입력!$M10=1,IF(직접데이타입력!$E10="11",직접데이타입력!$K10," ")," ") | M5: =IF(직접데이타입력!$M10=1,IF(직접데이타입력!$E10="12",직접데이타입력!$K10," ")," ") | N5: =IF(직접데이타입력!$M10=1,IF(직접데이타입력!$E10="13",직접데이타입력!$K10," ")," ") | O5: =IF(직접데이타입력!$M10=1,IF(직접데이타입력!$E10="14",직접데이타입력!$K10," ")," ") | P5: =IF(직접데이타입력!$M10=1,IF(직접데이타입력!$E10="15",직접데이타입력!$K10," ")," ") | Q5: =IF(직접데이타입력!$M10=1,IF(직접데이타입력!$E10="16",직접데이타입력!$K10," ")," ") | R5: =IF(직접데이타입력!$M10=1,IF(직접데이타입력!$E10="17",직접데이타입력!$K10," ")," ") | S5: =IF(직접데이타입력!$M10=1,IF(직접데이타입력!$E10="18",직접데이타입력!$K10," ")," ") | T5: =IF(직접데이타입력!$M10=1,IF(직접데이타입력!$E10="19",직접데이타입력!$K10," ")," ")
A6: =ROW()-1 -> 5 | B6: =IF(직접데이타입력!$M11=1,IF(직접데이타입력!$E11="1",직접데이타입력!$K11," ")," ") | C6: =IF(직접데이타입력!$M11=1,IF(직접데이타입력!$E11="2",직접데이타입력!$K11," ")," ") | D6: =IF(직접데이타입력!$M11=1,IF(직접데이타입력!$E11="3",직접데이타입력!$K11," ")," ") | E6: =IF(직접데이타입력!$M11=1,IF(직접데이타입력!$E11="4",직접데이타입력!$K11," ")," ") | F6: =IF(직접데이타입력!$M11=1,IF(직접데이타입력!$E11="5",직접데이타입력!$K11," ")," ") | G6: =IF(직접데이타입력!$M11=1,IF(직접데이타입력!$E11="6",직접데이타입력!$K11," ")," ") | H6: =IF(직접데이타입력!$M11=1,IF(직접데이타입력!$E11="7",직접데이타입력!$K11," ")," ") | I6: =IF(직접데이타입력!$M11=1,IF(직접데이타입력!$E11="8",직접데이타입력!$K11," ")," ") | J6: =IF(직접데이타입력!$M11=1,IF(직접데이타입력!$E11="9",직접데이타입력!$K11," ")," ") | K6: =IF(직접데이타입력!$M11=1,IF(직접데이타입력!$E11="10",직접데이타입력!$K11," ")," ") | L6: =IF(직접데이타입력!$M11=1,IF(직접데이타입력!$E11="11",직접데이타입력!$K11," ")," ") | M6: =IF(직접데이타입력!$M11=1,IF(직접데이타입력!$E11="12",직접데이타입력!$K11," ")," ") | N6: =IF(직접데이타입력!$M11=1,IF(직접데이타입력!$E11="13",직접데이타입력!$K11," ")," ") | O6: =IF(직접데이타입력!$M11=1,IF(직접데이타입력!$E11="14",직접데이타입력!$K11," ")," ") | P6: =IF(직접데이타입력!$M11=1,IF(직접데이타입력!$E11="15",직접데이타입력!$K11," ")," ") | Q6: =IF(직접데이타입력!$M11=1,IF(직접데이타입력!$E11="16",직접데이타입력!$K11," ")," ") | R6: =IF(직접데이타입력!$M11=1,IF(직접데이타입력!$E11="17",직접데이타입력!$K11," ")," ") | S6: =IF(직접데이타입력!$M11=1,IF(직접데이타입력!$E11="18",직접데이타입력!$K11," ")," ") | T6: =IF(직접데이타입력!$M11=1,IF(직접데이타입력!$E11="19",직접데이타입력!$K11," ")," ")
A7: =ROW()-1 -> 6 | B7: =IF(직접데이타입력!$M12=1,IF(직접데이타입력!$E12="1",직접데이타입력!$K12," ")," ") | C7: =IF(직접데이타입력!$M12=1,IF(직접데이타입력!$E12="2",직접데이타입력!$K12," ")," ") | D7: =IF(직접데이타입력!$M12=1,IF(직접데이타입력!$E12="3",직접데이타입력!$K12," ")," ") | E7: =IF(직접데이타입력!$M12=1,IF(직접데이타입력!$E12="4",직접데이타입력!$K12," ")," ") | F7: =IF(직접데이타입력!$M12=1,IF(직접데이타입력!$E12="5",직접데이타입력!$K12," ")," ") | G7: =IF(직접데이타입력!$M12=1,IF(직접데이타입력!$E12="6",직접데이타입력!$K12," ")," ") | H7: =IF(직접데이타입력!$M12=1,IF(직접데이타입력!$E12="7",직접데이타입력!$K12," ")," ") | I7: =IF(직접데이타입력!$M12=1,IF(직접데이타입력!$E12="8",직접데이타입력!$K12," ")," ") | J7: =IF(직접데이타입력!$M12=1,IF(직접데이타입력!$E12="9",직접데이타입력!$K12," ")," ") | K7: =IF(직접데이타입력!$M12=1,IF(직접데이타입력!$E12="10",직접데이타입력!$K12," ")," ") | L7: =IF(직접데이타입력!$M12=1,IF(직접데이타입력!$E12="11",직접데이타입력!$K12," ")," ") | M7: =IF(직접데이타입력!$M12=1,IF(직접데이타입력!$E12="12",직접데이타입력!$K12," ")," ") | N7: =IF(직접데이타입력!$M12=1,IF(직접데이타입력!$E12="13",직접데이타입력!$K12," ")," ") | O7: =IF(직접데이타입력!$M12=1,IF(직접데이타입력!$E12="14",직접데이타입력!$K12," ")," ") | P7: =IF(직접데이타입력!$M12=1,IF(직접데이타입력!$E12="15",직접데이타입력!$K12," ")," ") | Q7: =IF(직접데이타입력!$M12=1,IF(직접데이타입력!$E12="16",직접데이타입력!$K12," ")," ") | R7: =IF(직접데이타입력!$M12=1,IF(직접데이타입력!$E12="17",직접데이타입력!$K12," ")," ") | S7: =IF(직접데이타입력!$M12=1,IF(직접데이타입력!$E12="18",직접데이타입력!$K12," ")," ") | T7: =IF(직접데이타입력!$M12=1,IF(직접데이타입력!$E12="19",직접데이타입력!$K12," ")," ")
A8: =ROW()-1 -> 7 | B8: =IF(직접데이타입력!$M13=1,IF(직접데이타입력!$E13="1",직접데이타입력!$K13," ")," ") | C8: =IF(직접데이타입력!$M13=1,IF(직접데이타입력!$E13="2",직접데이타입력!$K13," ")," ") | D8: =IF(직접데이타입력!$M13=1,IF(직접데이타입력!$E13="3",직접데이타입력!$K13," ")," ") | E8: =IF(직접데이타입력!$M13=1,IF(직접데이타입력!$E13="4",직접데이타입력!$K13," ")," ") | F8: =IF(직접데이타입력!$M13=1,IF(직접데이타입력!$E13="5",직접데이타입력!$K13," ")," ") | G8: =IF(직접데이타입력!$M13=1,IF(직접데이타입력!$E13="6",직접데이타입력!$K13," ")," ") | H8: =IF(직접데이타입력!$M13=1,IF(직접데이타입력!$E13="7",직접데이타입력!$K13," ")," ") | I8: =IF(직접데이타입력!$M13=1,IF(직접데이타입력!$E13="8",직접데이타입력!$K13," ")," ") | J8: =IF(직접데이타입력!$M13=1,IF(직접데이타입력!$E13="9",직접데이타입력!$K13," ")," ") | K8: =IF(직접데이타입력!$M13=1,IF(직접데이타입력!$E13="10",직접데이타입력!$K13," ")," ") | L8: =IF(직접데이타입력!$M13=1,IF(직접데이타입력!$E13="11",직접데이타입력!$K13," ")," ") | M8: =IF(직접데이타입력!$M13=1,IF(직접데이타입력!$E13="12",직접데이타입력!$K13," ")," ") | N8: =IF(직접데이타입력!$M13=1,IF(직접데이타입력!$E13="13",직접데이타입력!$K13," ")," ") | O8: =IF(직접데이타입력!$M13=1,IF(직접데이타입력!$E13="14",직접데이타입력!$K13," ")," ") | P8: =IF(직접데이타입력!$M13=1,IF(직접데이타입력!$E13="15",직접데이타입력!$K13," ")," ") | Q8: =IF(직접데이타입력!$M13=1,IF(직접데이타입력!$E13="16",직접데이타입력!$K13," ")," ") | R8: =IF(직접데이타입력!$M13=1,IF(직접데이타입력!$E13="17",직접데이타입력!$K13," ")," ") | S8: =IF(직접데이타입력!$M13=1,IF(직접데이타입력!$E13="18",직접데이타입력!$K13," ")," ") | T8: =IF(직접데이타입력!$M13=1,IF(직접데이타입력!$E13="19",직접데이타입력!$K13," ")," ")
A9: =ROW()-1 -> 8 | B9: =IF(직접데이타입력!$M14=1,IF(직접데이타입력!$E14="1",직접데이타입력!$K14," ")," ") | C9: =IF(직접데이타입력!$M14=1,IF(직접데이타입력!$E14="2",직접데이타입력!$K14," ")," ") | D9: =IF(직접데이타입력!$M14=1,IF(직접데이타입력!$E14="3",직접데이타입력!$K14," ")," ") | E9: =IF(직접데이타입력!$M14=1,IF(직접데이타입력!$E14="4",직접데이타입력!$K14," ")," ") | F9: =IF(직접데이타입력!$M14=1,IF(직접데이타입력!$E14="5",직접데이타입력!$K14," ")," ") | G9: =IF(직접데이타입력!$M14=1,IF(직접데이타입력!$E14="6",직접데이타입력!$K14," ")," ") | H9: =IF(직접데이타입력!$M14=1,IF(직접데이타입력!$E14="7",직접데이타입력!$K14," ")," ") | I9: =IF(직접데이타입력!$M14=1,IF(직접데이타입력!$E14="8",직접데이타입력!$K14," ")," ") | J9: =IF(직접데이타입력!$M14=1,IF(직접데이타입력!$E14="9",직접데이타입력!$K14," ")," ") | K9: =IF(직접데이타입력!$M14=1,IF(직접데이타입력!$E14="10",직접데이타입력!$K14," ")," ") | L9: =IF(직접데이타입력!$M14=1,IF(직접데이타입력!$E14="11",직접데이타입력!$K14," ")," ") | M9: =IF(직접데이타입력!$M14=1,IF(직접데이타입력!$E14="12",직접데이타입력!$K14," ")," ") | N9: =IF(직접데이타입력!$M14=1,IF(직접데이타입력!$E14="13",직접데이타입력!$K14," ")," ") | O9: =IF(직접데이타입력!$M14=1,IF(직접데이타입력!$E14="14",직접데이타입력!$K14," ")," ") | P9: =IF(직접데이타입력!$M14=1,IF(직접데이타입력!$E14="15",직접데이타입력!$K14," ")," ") | Q9: =IF(직접데이타입력!$M14=1,IF(직접데이타입력!$E14="16",직접데이타입력!$K14," ")," ") | R9: =IF(직접데이타입력!$M14=1,IF(직접데이타입력!$E14="17",직접데이타입력!$K14," ")," ") | S9: =IF(직접데이타입력!$M14=1,IF(직접데이타입력!$E14="18",직접데이타입력!$K14," ")," ") | T9: =IF(직접데이타입력!$M14=1,IF(직접데이타입력!$E14="19",직접데이타입력!$K14," ")," ")
A10: =ROW()-1 -> 9 | B10: =IF(직접데이타입력!$M15=1,IF(직접데이타입력!$E15="1",직접데이타입력!$K15," ")," ") | C10: =IF(직접데이타입력!$M15=1,IF(직접데이타입력!$E15="2",직접데이타입력!$K15," ")," ") | D10: =IF(직접데이타입력!$M15=1,IF(직접데이타입력!$E15="3",직접데이타입력!$K15," ")," ") | E10: =IF(직접데이타입력!$M15=1,IF(직접데이타입력!$E15="4",직접데이타입력!$K15," ")," ") | F10: =IF(직접데이타입력!$M15=1,IF(직접데이타입력!$E15="5",직접데이타입력!$K15," ")," ") | G10: =IF(직접데이타입력!$M15=1,IF(직접데이타입력!$E15="6",직접데이타입력!$K15," ")," ") | H10: =IF(직접데이타입력!$M15=1,IF(직접데이타입력!$E15="7",직접데이타입력!$K15," ")," ") | I10: =IF(직접데이타입력!$M15=1,IF(직접데이타입력!$E15="8",직접데이타입력!$K15," ")," ") | J10: =IF(직접데이타입력!$M15=1,IF(직접데이타입력!$E15="9",직접데이타입력!$K15," ")," ") | K10: =IF(직접데이타입력!$M15=1,IF(직접데이타입력!$E15="10",직접데이타입력!$K15," ")," ") | L10: =IF(직접데이타입력!$M15=1,IF(직접데이타입력!$E15="11",직접데이타입력!$K15," ")," ") | M10: =IF(직접데이타입력!$M15=1,IF(직접데이타입력!$E15="12",직접데이타입력!$K15," ")," ") | N10: =IF(직접데이타입력!$M15=1,IF(직접데이타입력!$E15="13",직접데이타입력!$K15," ")," ") | O10: =IF(직접데이타입력!$M15=1,IF(직접데이타입력!$E15="14",직접데이타입력!$K15," ")," ") | P10: =IF(직접데이타입력!$M15=1,IF(직접데이타입력!$E15="15",직접데이타입력!$K15," ")," ") | Q10: =IF(직접데이타입력!$M15=1,IF(직접데이타입력!$E15="16",직접데이타입력!$K15," ")," ") | R10: =IF(직접데이타입력!$M15=1,IF(직접데이타입력!$E15="17",직접데이타입력!$K15," ")," ") | S10: =IF(직접데이타입력!$M15=1,IF(직접데이타입력!$E15="18",직접데이타입력!$K15," ")," ") | T10: =IF(직접데이타입력!$M15=1,IF(직접데이타입력!$E15="19",직접데이타입력!$K15," ")," ")
A11: =ROW()-1 -> 10 | B11: =IF(직접데이타입력!$M16=1,IF(직접데이타입력!$E16="1",직접데이타입력!$K16," ")," ") | C11: =IF(직접데이타입력!$M16=1,IF(직접데이타입력!$E16="2",직접데이타입력!$K16," ")," ") | D11: =IF(직접데이타입력!$M16=1,IF(직접데이타입력!$E16="3",직접데이타입력!$K16," ")," ") | E11: =IF(직접데이타입력!$M16=1,IF(직접데이타입력!$E16="4",직접데이타입력!$K16," ")," ") | F11: =IF(직접데이타입력!$M16=1,IF(직접데이타입력!$E16="5",직접데이타입력!$K16," ")," ") | G11: =IF(직접데이타입력!$M16=1,IF(직접데이타입력!$E16="6",직접데이타입력!$K16," ")," ") | H11: =IF(직접데이타입력!$M16=1,IF(직접데이타입력!$E16="7",직접데이타입력!$K16," ")," ") | I11: =IF(직접데이타입력!$M16=1,IF(직접데이타입력!$E16="8",직접데이타입력!$K16," ")," ") | J11: =IF(직접데이타입력!$M16=1,IF(직접데이타입력!$E16="9",직접데이타입력!$K16," ")," ") | K11: =IF(직접데이타입력!$M16=1,IF(직접데이타입력!$E16="10",직접데이타입력!$K16," ")," ") | L11: =IF(직접데이타입력!$M16=1,IF(직접데이타입력!$E16="11",직접데이타입력!$K16," ")," ") | M11: =IF(직접데이타입력!$M16=1,IF(직접데이타입력!$E16="12",직접데이타입력!$K16," ")," ") | N11: =IF(직접데이타입력!$M16=1,IF(직접데이타입력!$E16="13",직접데이타입력!$K16," ")," ") | O11: =IF(직접데이타입력!$M16=1,IF(직접데이타입력!$E16="14",직접데이타입력!$K16," ")," ") | P11: =IF(직접데이타입력!$M16=1,IF(직접데이타입력!$E16="15",직접데이타입력!$K16," ")," ") | Q11: =IF(직접데이타입력!$M16=1,IF(직접데이타입력!$E16="16",직접데이타입력!$K16," ")," ") | R11: =IF(직접데이타입력!$M16=1,IF(직접데이타입력!$E16="17",직접데이타입력!$K16," ")," ") | S11: =IF(직접데이타입력!$M16=1,IF(직접데이타입력!$E16="18",직접데이타입력!$K16," ")," ") | T11: =IF(직접데이타입력!$M16=1,IF(직접데이타입력!$E16="19",직접데이타입력!$K16," ")," ")
A12: =ROW()-1 -> 11 | B12: =IF(직접데이타입력!$M17=1,IF(직접데이타입력!$E17="1",직접데이타입력!$K17," ")," ") | C12: =IF(직접데이타입력!$M17=1,IF(직접데이타입력!$E17="2",직접데이타입력!$K17," ")," ") | D12: =IF(직접데이타입력!$M17=1,IF(직접데이타입력!$E17="3",직접데이타입력!$K17," ")," ") | E12: =IF(직접데이타입력!$M17=1,IF(직접데이타입력!$E17="4",직접데이타입력!$K17," ")," ") | F12: =IF(직접데이타입력!$M17=1,IF(직접데이타입력!$E17="5",직접데이타입력!$K17," ")," ") | G12: =IF(직접데이타입력!$M17=1,IF(직접데이타입력!$E17="6",직접데이타입력!$K17," ")," ") | H12: =IF(직접데이타입력!$M17=1,IF(직접데이타입력!$E17="7",직접데이타입력!$K17," ")," ") | I12: =IF(직접데이타입력!$M17=1,IF(직접데이타입력!$E17="8",직접데이타입력!$K17," ")," ") | J12: =IF(직접데이타입력!$M17=1,IF(직접데이타입력!$E17="9",직접데이타입력!$K17," ")," ") | K12: =IF(직접데이타입력!$M17=1,IF(직접데이타입력!$E17="10",직접데이타입력!$K17," ")," ") | L12: =IF(직접데이타입력!$M17=1,IF(직접데이타입력!$E17="11",직접데이타입력!$K17," ")," ") | M12: =IF(직접데이타입력!$M17=1,IF(직접데이타입력!$E17="12",직접데이타입력!$K17," ")," ") | N12: =IF(직접데이타입력!$M17=1,IF(직접데이타입력!$E17="13",직접데이타입력!$K17," ")," ") | O12: =IF(직접데이타입력!$M17=1,IF(직접데이타입력!$E17="14",직접데이타입력!$K17," ")," ") | P12: =IF(직접데이타입력!$M17=1,IF(직접데이타입력!$E17="15",직접데이타입력!$K17," ")," ") | Q12: =IF(직접데이타입력!$M17=1,IF(직접데이타입력!$E17="16",직접데이타입력!$K17," ")," ") | R12: =IF(직접데이타입력!$M17=1,IF(직접데이타입력!$E17="17",직접데이타입력!$K17," ")," ") | S12: =IF(직접데이타입력!$M17=1,IF(직접데이타입력!$E17="18",직접데이타입력!$K17," ")," ") | T12: =IF(직접데이타입력!$M17=1,IF(직접데이타입력!$E17="19",직접데이타입력!$K17," ")," ")
A13: =ROW()-1 -> 12 | B13: =IF(직접데이타입력!$M18=1,IF(직접데이타입력!$E18="1",직접데이타입력!$K18," ")," ") | C13: =IF(직접데이타입력!$M18=1,IF(직접데이타입력!$E18="2",직접데이타입력!$K18," ")," ") | D13: =IF(직접데이타입력!$M18=1,IF(직접데이타입력!$E18="3",직접데이타입력!$K18," ")," ") | E13: =IF(직접데이타입력!$M18=1,IF(직접데이타입력!$E18="4",직접데이타입력!$K18," ")," ") | F13: =IF(직접데이타입력!$M18=1,IF(직접데이타입력!$E18="5",직접데이타입력!$K18," ")," ") | G13: =IF(직접데이타입력!$M18=1,IF(직접데이타입력!$E18="6",직접데이타입력!$K18," ")," ") | H13: =IF(직접데이타입력!$M18=1,IF(직접데이타입력!$E18="7",직접데이타입력!$K18," ")," ") | I13: =IF(직접데이타입력!$M18=1,IF(직접데이타입력!$E18="8",직접데이타입력!$K18," ")," ") | J13: =IF(직접데이타입력!$M18=1,IF(직접데이타입력!$E18="9",직접데이타입력!$K18," ")," ") | K13: =IF(직접데이타입력!$M18=1,IF(직접데이타입력!$E18="10",직접데이타입력!$K18," ")," ") | L13: =IF(직접데이타입력!$M18=1,IF(직접데이타입력!$E18="11",직접데이타입력!$K18," ")," ") | M13: =IF(직접데이타입력!$M18=1,IF(직접데이타입력!$E18="12",직접데이타입력!$K18," ")," ") | N13: =IF(직접데이타입력!$M18=1,IF(직접데이타입력!$E18="13",직접데이타입력!$K18," ")," ") | O13: =IF(직접데이타입력!$M18=1,IF(직접데이타입력!$E18="14",직접데이타입력!$K18," ")," ") | P13: =IF(직접데이타입력!$M18=1,IF(직접데이타입력!$E18="15",직접데이타입력!$K18," ")," ") | Q13: =IF(직접데이타입력!$M18=1,IF(직접데이타입력!$E18="16",직접데이타입력!$K18," ")," ") | R13: =IF(직접데이타입력!$M18=1,IF(직접데이타입력!$E18="17",직접데이타입력!$K18," ")," ") | S13: =IF(직접데이타입력!$M18=1,IF(직접데이타입력!$E18="18",직접데이타입력!$K18," ")," ") | T13: =IF(직접데이타입력!$M18=1,IF(직접데이타입력!$E18="19",직접데이타입력!$K18," ")," ")
... A380: =ROW()-1 -> 379 | B380: =IF(직접데이타입력!$M385=1,IF(직접데이타입력!$E385="1",직접데이타입력!$K385," ")," ") | C380: =IF(직접데이타입력!$M385=1,IF(직접데이타입력!$E385="2",직접데이타입력!$K385," ")," ") | D380: =IF(직접데이타입력!$M385=1,IF(직접데이타입력!$E385="3",직접데이타입력!$K385," ")," ") | E380: =IF(직접데이타입력!$M385=1,IF(직접데이타입력!$E385="4",직접데이타입력!$K385," ")," ") | F380: =IF(직접데이타입력!$M385=1,IF(직접데이타입력!$E385="5",직접데이타입력!$K385," ")," ") | G380: =IF(직접데이타입력!$M385=1,IF(직접데이타입력!$E385="6",직접데이타입력!$K385," ")," ") | H380: =IF(직접데이타입력!$M385=1,IF(직접데이타입력!$E385="7",직접데이타입력!$K385," ")," ") | I380: =IF(직접데이타입력!$M385=1,IF(직접데이타입력!$E385="8",직접데이타입력!$K385," ")," ") | J380: =IF(직접데이타입력!$M385=1,IF(직접데이타입력!$E385="9",직접데이타입력!$K385," ")," ") | K380: =IF(직접데이타입력!$M385=1,IF(직접데이타입력!$E385="10",직접데이타입력!$K385," ")," ") | L380: =IF(직접데이타입력!$M385=1,IF(직접데이타입력!$E385="11",직접데이타입력!$K385," ")," ") | M380: =IF(직접데이타입력!$M385=1,IF(직접데이타입력!$E385="12",직접데이타입력!$K385," ")," ") | N380: =IF(직접데이타입력!$M385=1,IF(직접데이타입력!$E385="13",직접데이타입력!$K385," ")," ") | O380: =IF(직접데이타입력!$M385=1,IF(직접데이타입력!$E385="14",직접데이타입력!$K385," ")," ") | P380: =IF(직접데이타입력!$M385=1,IF(직접데이타입력!$E385="15",직접데이타입력!$K385," ")," ") | Q380: =IF(직접데이타입력!$M385=1,IF(직접데이타입력!$E385="16",직접데이타입력!$K385," ")," ") | R380: =IF(직접데이타입력!$M385=1,IF(직접데이타입력!$E385="17",직접데이타입력!$K385," ")," ") | S380: =IF(직접데이타입력!$M385=1,IF(직접데이타입력!$E385="18",직접데이타입력!$K385," ")," ") | T380: =IF(직접데이타입력!$M385=1,IF(직접데이타입력!$E385="19",직접데이타입력!$K385," ")," ")
A381: 필지수 | B381: =COUNT(B2:B380) -> 0 | C381: =COUNT(C2:C380) -> 0 | D381: =COUNT(D2:D380) -> 2 | E381: =COUNT(E2:E380) -> 0 | F381: =COUNT(F2:F380) -> 0 | G381: =COUNT(G2:G380) -> 0 | H381: =COUNT(H2:H380) -> 0 | I381: =COUNT(I2:I380) -> 0 | ... T381: =COUNT(T2:T380) -> 0 | U381: =SUM(B381:T381) -> 2
A382: 면적 | B382: =SUM(B2:B380) -> 0 | C382: =SUM(C2:C380) -> 0 | D382: =SUM(D2:D380) -> 3790 | E382: =SUM(E2:E380) -> 0 | F382: =SUM(F2:F380) -> 0 | G382: =SUM(G2:G380) -> 0 | H382: =SUM(H2:H380) -> 0 | I382: =SUM(I2:I380) -> 0 | ... T382: =SUM(T2:T380) -> 0 | U382: =SUM(B382:T382) -> 3790

Sheet 데이터합(국유지)
A1: 일련번호 | B1: 전 | C1: 답 | D1: 임야 | E1: 대지 | F1: 도로 | G1: 하천 | H1: 구거 | I1: 묘지 | J1: 제방 | K1: 유지 | L1: 공원 | M1: 체육용지 | N1: 잡종지 | O1: 철도용지 | P1: 종교용지 | Q1: 학교용지 | R1: 목장 | S1: 주차장 | T1: 창고
A2: =ROW()-1 -> 1 | B2: =IF(직접데이타입력!$M7=2,IF(직접데이타입력!$E7="1",직접데이타입력!$K7," ")," ") | C2: =IF(직접데이타입력!$M7=2,IF(직접데이타입력!$E7="2",직접데이타입력!$K7," ")," ") | D2: =IF(직접데이타입력!$M7=2,IF(직접데이타입력!$E7="3",직접데이타입력!$K7," ")," ") | E2: =IF(직접데이타입력!$M7=2,IF(직접데이타입력!$E7="4",직접데이타입력!$K7," ")," ") | F2: =IF(직접데이타입력!$M7=2,IF(직접데이타입력!$E7="5",직접데이타입력!$K7," ")," ") | G2: =IF(직접데이타입력!$M7=2,IF(직접데이타입력!$E7="6",직접데이타입력!$K7," ")," ") | H2: =IF(직접데이타입력!$M7=2,IF(직접데이타입력!$E7="7",직접데이타입력!$K7," ")," ") | I2: =IF(직접데이타입력!$M7=2,IF(직접데이타입력!$E7="8",직접데이타입력!$K7," ")," ") | J2: =IF(직접데이타입력!$M7=2,IF(직접데이타입력!$E7="9",직접데이타입력!$K7," ")," ") | K2: =IF(직접데이타입력!$M7=2,IF(직접데이타입력!$E7="10",직접데이타입력!$K7," ")," ") | L2: =IF(직접데이타입력!$M7=2,IF(직접데이타입력!$E7="11",직접데이타입력!$K7," ")," ") | M2: =IF(직접데이타입력!$M7=2,IF(직접데이타입력!$E7="12",직접데이타입력!$K7," ")," ") | N2: =IF(직접데이타입력!$M7=2,IF(직접데이타입력!$E7="13",직접데이타입력!$K7," ")," ") | O2: =IF(직접데이타입력!$M7=2,IF(직접데이타입력!$E7="14",직접데이타입력!$K7," ")," ") | P2: =IF(직접데이타입력!$M7=2,IF(직접데이타입력!$E7="15",직접데이타입력!$K7," ")," ") | Q2: =IF(직접데이타입력!$M7=2,IF(직접데이타입력!$E7="16",직접데이타입력!$K7," ")," ") | R2: =IF(직접데이타입력!$M7=2,IF(직접데이타입력!$E7="17",직접데이타입력!$K7," ")," ") | S2: =IF(직접데이타입력!$M7=2,IF(직접데이타입력!$E7="18",직접데이타입력!$K7," ")," ") | T2: =IF(직접데이타입력!$M7=2,IF(직접데이타입력!$E7="19",직접데이타입력!$K7," ")," ")
A3: =ROW()-1 -> 2 | B3: =IF(직접데이타입력!$M8=2,IF(직접데이타입력!$E8="1",직접데이타입력!$K8," ")," ") | C3: =IF(직접데이타입력!$M8=2,IF(직접데이타입력!$E8="2",직접데이타입력!$K8," ")," ") | D3: =IF(직접데이타입력!$M8=2,IF(직접데이타입력!$E8="3",직접데이타입력!$K8," ")," ") | E3: =IF(직접데이타입력!$M8=2,IF(직접데이타입력!$E8="4",직접데이타입력!$K8," ")," ") | F3: =IF(직접데이타입력!$M8=2,IF(직접데이타입력!$E8="5",직접데이타입력!$K8," ")," ") | G3: =IF(직접데이타입력!$M8=2,IF(직접데이타입력!$E8="6",직접데이타입력!$K8," ")," ") | H3: =IF(직접데이타입력!$M8=2,IF(직접데이타입력!$E8="7",직접데이타입력!$K8," ")," ") | I3: =IF(직접데이타입력!$M8=2,IF(직접데이타입력!$E8="8",직접데이타입력!$K8," ")," ") | J3: =IF(직접데이타입력!$M8=2,IF(직접데이타입력!$E8="9",직접데이타입력!$K8," ")," ") | K3: =IF(직접데이타입력!$M8=2,IF(직접데이타입력!$E8="10",직접데이타입력!$K8," ")," ") | L3: =IF(직접데이타입력!$M8=2,IF(직접데이타입력!$E8="11",직접데이타입력!$K8," ")," ") | M3: =IF(직접데이타입력!$M8=2,IF(직접데이타입력!$E8="12",직접데이타입력!$K8," ")," ") | N3: =IF(직접데이타입력!$M8=2,IF(직접데이타입력!$E8="13",직접데이타입력!$K8," ")," ") | O3: =IF(직접데이타입력!$M8=2,IF(직접데이타입력!$E8="14",직접데이타입력!$K8," ")," ") | P3: =IF(직접데이타입력!$M8=2,IF(직접데이타입력!$E8="15",직접데이타입력!$K8," ")," ") | Q3: =IF(직접데이타입력!$M8=2,IF(직접데이타입력!$E8="16",직접데이타입력!$K8," ")," ") | R3: =IF(직접데이타입력!$M8=2,IF(직접데이타입력!$E8="17",직접데이타입력!$K8," ")," ") | S3: =IF(직접데이타입력!$M8=2,IF(직접데이타입력!$E8="18",직접데이타입력!$K8," ")," ") | T3: =IF(직접데이타입력!$M8=2,IF(직접데이타입력!$E8="19",직접데이타입력!$K8," ")," ")
A4: =ROW()-1 -> 3 | B4: =IF(직접데이타입력!$M9=2,IF(직접데이타입력!$E9="1",직접데이타입력!$K9," ")," ") | C4: =IF(직접데이타입력!$M9=2,IF(직접데이타입력!$E9="2",직접데이타입력!$K9," ")," ") | D4: =IF(직접데이타입력!$M9=2,IF(직접데이타입력!$E9="3",직접데이타입력!$K9," ")," ") | E4: =IF(직접데이타입력!$M9=2,IF(직접데이타입력!$E9="4",직접데이타입력!$K9," ")," ") | F4: =IF(직접데이타입력!$M9=2,IF(직접데이타입력!$E9="5",직접데이타입력!$K9," ")," ") | G4: =IF(직접데이타입력!$M9=2,IF(직접데이타입력!$E9="6",직접데이타입력!$K9," ")," ") | H4: =IF(직접데이타입력!$M9=2,IF(직접데이타입력!$E9="7",직접데이타입력!$K9," ")," ") | I4: =IF(직접데이타입력!$M9=2,IF(직접데이타입력!$E9="8",직접데이타입력!$K9," ")," ") | J4: =IF(직접데이타입력!$M9=2,IF(직접데이타입력!$E9="9",직접데이타입력!$K9," ")," ") | K4: =IF(직접데이타입력!$M9=2,IF(직접데이타입력!$E9="10",직접데이타입력!$K9," ")," ") | L4: =IF(직접데이타입력!$M9=2,IF(직접데이타입력!$E9="11",직접데이타입력!$K9," ")," ") | M4: =IF(직접데이타입력!$M9=2,IF(직접데이타입력!$E9="12",직접데이타입력!$K9," ")," ") | N4: =IF(직접데이타입력!$M9=2,IF(직접데이타입력!$E9="13",직접데이타입력!$K9," ")," ") | O4: =IF(직접데이타입력!$M9=2,IF(직접데이타입력!$E9="14",직접데이타입력!$K9," ")," ") | P4: =IF(직접데이타입력!$M9=2,IF(직접데이타입력!$E9="15",직접데이타입력!$K9," ")," ") | Q4: =IF(직접데이타입력!$M9=2,IF(직접데이타입력!$E9="16",직접데이타입력!$K9," ")," ") | R4: =IF(직접데이타입력!$M9=2,IF(직접데이타입력!$E9="17",직접데이타입력!$K9," ")," ") | S4: =IF(직접데이타입력!$M9=2,IF(직접데이타입력!$E9="18",직접데이타입력!$K9," ")," ") | T4: =IF(직접데이타입력!$M9=2,IF(직접데이타입력!$E9="19",직접데이타입력!$K9," ")," ")
A5: =ROW()-1 -> 4 | B5: =IF(직접데이타입력!$M10=2,IF(직접데이타입력!$E10="1",직접데이타입력!$K10," ")," ") | C5: =IF(직접데이타입력!$M10=2,IF(직접데이타입력!$E10="2",직접데이타입력!$K10," ")," ") | D5: =IF(직접데이타입력!$M10=2,IF(직접데이타입력!$E10="3",직접데이타입력!$K10," ")," ") | E5: =IF(직접데이타입력!$M10=2,IF(직접데이타입력!$E10="4",직접데이타입력!$K10," ")," ") | F5: =IF(직접데이타입력!$M10=2,IF(직접데이타입력!$E10="5",직접데이타입력!$K10," ")," ") | G5: =IF(직접데이타입력!$M10=2,IF(직접데이타입력!$E10="6",직접데이타입력!$K10," ")," ") | H5: =IF(직접데이타입력!$M10=2,IF(직접데이타입력!$E10="7",직접데이타입력!$K10," ")," ") | I5: =IF(직접데이타입력!$M10=2,IF(직접데이타입력!$E10="8",직접데이타입력!$K10," ")," ") | J5: =IF(직접데이타입력!$M10=2,IF(직접데이타입력!$E10="9",직접데이타입력!$K10," ")," ") | K5: =IF(직접데이타입력!$M10=2,IF(직접데이타입력!$E10="10",직접데이타입력!$K10," ")," ") | L5: =IF(직접데이타입력!$M10=2,IF(직접데이타입력!$E10="11",직접데이타입력!$K10," ")," ") | M5: =IF(직접데이타입력!$M10=2,IF(직접데이타입력!$E10="12",직접데이타입력!$K10," ")," ") | N5: =IF(직접데이타입력!$M10=2,IF(직접데이타입력!$E10="13",직접데이타입력!$K10," ")," ") | O5: =IF(직접데이타입력!$M10=2,IF(직접데이타입력!$E10="14",직접데이타입력!$K10," ")," ") | P5: =IF(직접데이타입력!$M10=2,IF(직접데이타입력!$E10="15",직접데이타입력!$K10," ")," ") | Q5: =IF(직접데이타입력!$M10=2,IF(직접데이타입력!$E10="16",직접데이타입력!$K10," ")," ") | R5: =IF(직접데이타입력!$M10=2,IF(직접데이타입력!$E10="17",직접데이타입력!$K10," ")," ") | S5: =IF(직접데이타입력!$M10=2,IF(직접데이타입력!$E10="18",직접데이타입력!$K10," ")," ") | T5: =IF(직접데이타입력!$M10=2,IF(직접데이타입력!$E10="19",직접데이타입력!$K10," ")," ")
A6: =ROW()-1 -> 5 | B6: =IF(직접데이타입력!$M11=2,IF(직접데이타입력!$E11="1",직접데이타입력!$K11," ")," ") | C6: =IF(직접데이타입력!$M11=2,IF(직접데이타입력!$E11="2",직접데이타입력!$K11," ")," ") | D6: =IF(직접데이타입력!$M11=2,IF(직접데이타입력!$E11="3",직접데이타입력!$K11," ")," ") | E6: =IF(직접데이타입력!$M11=2,IF(직접데이타입력!$E11="4",직접데이타입력!$K11," ")," ") | F6: =IF(직접데이타입력!$M11=2,IF(직접데이타입력!$E11="5",직접데이타입력!$K11," ")," ") | G6: =IF(직접데이타입력!$M11=2,IF(직접데이타입력!$E11="6",직접데이타입력!$K11," ")," ") | H6: =IF(직접데이타입력!$M11=2,IF(직접데이타입력!$E11="7",직접데이타입력!$K11," ")," ") | I6: =IF(직접데이타입력!$M11=2,IF(직접데이타입력!$E11="8",직접데이타입력!$K11," ")," ") | J6: =IF(직접데이타입력!$M11=2,IF(직접데이타입력!$E11="9",직접데이타입력!$K11," ")," ") | K6: =IF(직접데이타입력!$M11=2,IF(직접데이타입력!$E11="10",직접데이타입력!$K11," ")," ") | L6: =IF(직접데이타입력!$M11=2,IF(직접데이타입력!$E11="11",직접데이타입력!$K11," ")," ") | M6: =IF(직접데이타입력!$M11=2,IF(직접데이타입력!$E11="12",직접데이타입력!$K11," ")," ") | N6: =IF(직접데이타입력!$M11=2,IF(직접데이타입력!$E11="13",직접데이타입력!$K11," ")," ") | O6: =IF(직접데이타입력!$M11=2,IF(직접데이타입력!$E11="14",직접데이타입력!$K11," ")," ") | P6: =IF(직접데이타입력!$M11=2,IF(직접데이타입력!$E11="15",직접데이타입력!$K11," ")," ") | Q6: =IF(직접데이타입력!$M11=2,IF(직접데이타입력!$E11="16",직접데이타입력!$K11," ")," ") | R6: =IF(직접데이타입력!$M11=2,IF(직접데이타입력!$E11="17",직접데이타입력!$K11," ")," ") | S6: =IF(직접데이타입력!$M11=2,IF(직접데이타입력!$E11="18",직접데이타입력!$K11," ")," ") | T6: =IF(직접데이타입력!$M11=2,IF(직접데이타입력!$E11="19",직접데이타입력!$K11," ")," ")
A7: =ROW()-1 -> 6 | B7: =IF(직접데이타입력!$M12=2,IF(직접데이타입력!$E12="1",직접데이타입력!$K12," ")," ") | C7: =IF(직접데이타입력!$M12=2,IF(직접데이타입력!$E12="2",직접데이타입력!$K12," ")," ") | D7: =IF(직접데이타입력!$M12=2,IF(직접데이타입력!$E12="3",직접데이타입력!$K12," ")," ") | E7: =IF(직접데이타입력!$M12=2,IF(직접데이타입력!$E12="4",직접데이타입력!$K12," ")," ") | F7: =IF(직접데이타입력!$M12=2,IF(직접데이타입력!$E12="5",직접데이타입력!$K12," ")," ") | G7: =IF(직접데이타입력!$M12=2,IF(직접데이타입력!$E12="6",직접데이타입력!$K12," ")," ") | H7: =IF(직접데이타입력!$M12=2,IF(직접데이타입력!$E12="7",직접데이타입력!$K12," ")," ") | I7: =IF(직접데이타입력!$M12=2,IF(직접데이타입력!$E12="8",직접데이타입력!$K12," ")," ") | J7: =IF(직접데이타입력!$M12=2,IF(직접데이타입력!$E12="9",직접데이타입력!$K12," ")," ") | K7: =IF(직접데이타입력!$M12=2,IF(직접데이타입력!$E12="10",직접데이타입력!$K12," ")," ") | L7: =IF(직접데이타입력!$M12=2,IF(직접데이타입력!$E12="11",직접데이타입력!$K12," ")," ") | M7: =IF(직접데이타입력!$M12=2,IF(직접데이타입력!$E12="12",직접데이타입력!$K12," ")," ") | N7: =IF(직접데이타입력!$M12=2,IF(직접데이타입력!$E12="13",직접데이타입력!$K12," ")," ") | O7: =IF(직접데이타입력!$M12=2,IF(직접데이타입력!$E12="14",직접데이타입력!$K12," ")," ") | P7: =IF(직접데이타입력!$M12=2,IF(직접데이타입력!$E12="15",직접데이타입력!$K12," ")," ") | Q7: =IF(직접데이타입력!$M12=2,IF(직접데이타입력!$E12="16",직접데이타입력!$K12," ")," ") | R7: =IF(직접데이타입력!$M12=2,IF(직접데이타입력!$E12="17",직접데이타입력!$K12," ")," ") | S7: =IF(직접데이타입력!$M12=2,IF(직접데이타입력!$E12="18",직접데이타입력!$K12," ")," ") | T7: =IF(직접데이타입력!$M12=2,IF(직접데이타입력!$E12="19",직접데이타입력!$K12," ")," ")
A8: =ROW()-1 -> 7 | B8: =IF(직접데이타입력!$M13=2,IF(직접데이타입력!$E13="1",직접데이타입력!$K13," ")," ") | C8: =IF(직접데이타입력!$M13=2,IF(직접데이타입력!$E13="2",직접데이타입력!$K13," ")," ") | D8: =IF(직접데이타입력!$M13=2,IF(직접데이타입력!$E13="3",직접데이타입력!$K13," ")," ") | E8: =IF(직접데이타입력!$M13=2,IF(직접데이타입력!$E13="4",직접데이타입력!$K13," ")," ") | F8: =IF(직접데이타입력!$M13=2,IF(직접데이타입력!$E13="5",직접데이타입력!$K13," ")," ") | G8: =IF(직접데이타입력!$M13=2,IF(직접데이타입력!$E13="6",직접데이타입력!$K13," ")," ") | H8: =IF(직접데이타입력!$M13=2,IF(직접데이타입력!$E13="7",직접데이타입력!$K13," ")," ") | I8: =IF(직접데이타입력!$M13=2,IF(직접데이타입력!$E13="8",직접데이타입력!$K13," ")," ") | J8: =IF(직접데이타입력!$M13=2,IF(직접데이타입력!$E13="9",직접데이타입력!$K13," ")," ") | K8: =IF(직접데이타입력!$M13=2,IF(직접데이타입력!$E13="10",직접데이타입력!$K13," ")," ") | L8: =IF(직접데이타입력!$M13=2,IF(직접데이타입력!$E13="11",직접데이타입력!$K13," ")," ") | M8: =IF(직접데이타입력!$M13=2,IF(직접데이타입력!$E13="12",직접데이타입력!$K13," ")," ") | N8: =IF(직접데이타입력!$M13=2,IF(직접데이타입력!$E13="13",직접데이타입력!$K13," ")," ") | O8: =IF(직접데이타입력!$M13=2,IF(직접데이타입력!$E13="14",직접데이타입력!$K13," ")," ") | P8: =IF(직접데이타입력!$M13=2,IF(직접데이타입력!$E13="15",직접데이타입력!$K13," ")," ") | Q8: =IF(직접데이타입력!$M13=2,IF(직접데이타입력!$E13="16",직접데이타입력!$K13," ")," ") | R8: =IF(직접데이타입력!$M13=2,IF(직접데이타입력!$E13="17",직접데이타입력!$K13," ")," ") | S8: =IF(직접데이타입력!$M13=2,IF(직접데이타입력!$E13="18",직접데이타입력!$K13," ")," ") | T8: =IF(직접데이타입력!$M13=2,IF(직접데이타입력!$E13="19",직접데이타입력!$K13," ")," ")
A9: =ROW()-1 -> 8 | B9: =IF(직접데이타입력!$M14=2,IF(직접데이타입력!$E14="1",직접데이타입력!$K14," ")," ") | C9: =IF(직접데이타입력!$M14=2,IF(직접데이타입력!$E14="2",직접데이타입력!$K14," ")," ") | D9: =IF(직접데이타입력!$M14=2,IF(직접데이타입력!$E14="3",직접데이타입력!$K14," ")," ") | E9: =IF(직접데이타입력!$M14=2,IF(직접데이타입력!$E14="4",직접데이타입력!$K14," ")," ") | F9: =IF(직접데이타입력!$M14=2,IF(직접데이타입력!$E14="5",직접데이타입력!$K14," ")," ") | G9: =IF(직접데이타입력!$M14=2,IF(직접데이타입력!$E14="6",직접데이타입력!$K14," ")," ") | H9: =IF(직접데이타입력!$M14=2,IF(직접데이타입력!$E14="7",직접데이타입력!$K14," ")," ") | I9: =IF(직접데이타입력!$M14=2,IF(직접데이타입력!$E14="8",직접데이타입력!$K14," ")," ") | J9: =IF(직접데이타입력!$M14=2,IF(직접데이타입력!$E14="9",직접데이타입력!$K14," ")," ") | K9: =IF(직접데이타입력!$M14=2,IF(직접데이타입력!$E14="10",직접데이타입력!$K14," ")," ") | L9: =IF(직접데이타입력!$M14=2,IF(직접데이타입력!$E14="11",직접데이타입력!$K14," ")," ") | M9: =IF(직접데이타입력!$M14=2,IF(직접데이타입력!$E14="12",직접데이타입력!$K14," ")," ") | N9: =IF(직접데이타입력!$M14=2,IF(직접데이타입력!$E14="13",직접데이타입력!$K14," ")," ") | O9: =IF(직접데이타입력!$M14=2,IF(직접데이타입력!$E14="14",직접데이타입력!$K14," ")," ") | P9: =IF(직접데이타입력!$M14=2,IF(직접데이타입력!$E14="15",직접데이타입력!$K14," ")," ") | Q9: =IF(직접데이타입력!$M14=2,IF(직접데이타입력!$E14="16",직접데이타입력!$K14," ")," ") | R9: =IF(직접데이타입력!$M14=2,IF(직접데이타입력!$E14="17",직접데이타입력!$K14," ")," ") | S9: =IF(직접데이타입력!$M14=2,IF(직접데이타입력!$E14="18",직접데이타입력!$K14," ")," ") | T9: =IF(직접데이타입력!$M14=2,IF(직접데이타입력!$E14="19",직접데이타입력!$K14," ")," ")
A10: =ROW()-1 -> 9 | B10: =IF(직접데이타입력!$M15=2,IF(직접데이타입력!$E15="1",직접데이타입력!$K15," ")," ") | C10: =IF(직접데이타입력!$M15=2,IF(직접데이타입력!$E15="2",직접데이타입력!$K15," ")," ") | D10: =IF(직접데이타입력!$M15=2,IF(직접데이타입력!$E15="3",직접데이타입력!$K15," ")," ") | E10: =IF(직접데이타입력!$M15=2,IF(직접데이타입력!$E15="4",직접데이타입력!$K15," ")," ") | F10: =IF(직접데이타입력!$M15=2,IF(직접데이타입력!$E15="5",직접데이타입력!$K15," ")," ") | G10: =IF(직접데이타입력!$M15=2,IF(직접데이타입력!$E15="6",직접데이타입력!$K15," ")," ") | H10: =IF(직접데이타입력!$M15=2,IF(직접데이타입력!$E15="7",직접데이타입력!$K15," ")," ") | I10: =IF(직접데이타입력!$M15=2,IF(직접데이타입력!$E15="8",직접데이타입력!$K15," ")," ") | J10: =IF(직접데이타입력!$M15=2,IF(직접데이타입력!$E15="9",직접데이타입력!$K15," ")," ") | K10: =IF(직접데이타입력!$M15=2,IF(직접데이타입력!$E15="10",직접데이타입력!$K15," ")," ") | L10: =IF(직접데이타입력!$M15=2,IF(직접데이타입력!$E15="11",직접데이타입력!$K15," ")," ") | M10: =IF(직접데이타입력!$M15=2,IF(직접데이타입력!$E15="12",직접데이타입력!$K15," ")," ") | N10: =IF(직접데이타입력!$M15=2,IF(직접데이타입력!$E15="13",직접데이타입력!$K15," ")," ") | O10: =IF(직접데이타입력!$M15=2,IF(직접데이타입력!$E15="14",직접데이타입력!$K15," ")," ") | P10: =IF(직접데이타입력!$M15=2,IF(직접데이타입력!$E15="15",직접데이타입력!$K15," ")," ") | Q10: =IF(직접데이타입력!$M15=2,IF(직접데이타입력!$E15="16",직접데이타입력!$K15," ")," ") | R10: =IF(직접데이타입력!$M15=2,IF(직접데이타입력!$E15="17",직접데이타입력!$K15," ")," ") | S10: =IF(직접데이타입력!$M15=2,IF(직접데이타입력!$E15="18",직접데이타입력!$K15," ")," ") | T10: =IF(직접데이타입력!$M15=2,IF(직접데이타입력!$E15="19",직접데이타입력!$K15," ")," ")
A11: =ROW()-1 -> 10 | B11: =IF(직접데이타입력!$M16=2,IF(직접데이타입력!$E16="1",직접데이타입력!$K16," ")," ") | C11: =IF(직접데이타입력!$M16=2,IF(직접데이타입력!$E16="2",직접데이타입력!$K16," ")," ") | D11: =IF(직접데이타입력!$M16=2,IF(직접데이타입력!$E16="3",직접데이타입력!$K16," ")," ") | E11: =IF(직접데이타입력!$M16=2,IF(직접데이타입력!$E16="4",직접데이타입력!$K16," ")," ") | F11: =IF(직접데이타입력!$M16=2,IF(직접데이타입력!$E16="5",직접데이타입력!$K16," ")," ") | G11: =IF(직접데이타입력!$M16=2,IF(직접데이타입력!$E16="6",직접데이타입력!$K16," ")," ") | H11: =IF(직접데이타입력!$M16=2,IF(직접데이타입력!$E16="7",직접데이타입력!$K16," ")," ") | I11: =IF(직접데이타입력!$M16=2,IF(직접데이타입력!$E16="8",직접데이타입력!$K16," ")," ") | J11: =IF(직접데이타입력!$M16=2,IF(직접데이타입력!$E16="9",직접데이타입력!$K16," ")," ") | K11: =IF(직접데이타입력!$M16=2,IF(직접데이타입력!$E16="10",직접데이타입력!$K16," ")," ") | L11: =IF(직접데이타입력!$M16=2,IF(직접데이타입력!$E16="11",직접데이타입력!$K16," ")," ") | M11: =IF(직접데이타입력!$M16=2,IF(직접데이타입력!$E16="12",직접데이타입력!$K16," ")," ") | N11: =IF(직접데이타입력!$M16=2,IF(직접데이타입력!$E16="13",직접데이타입력!$K16," ")," ") | O11: =IF(직접데이타입력!$M16=2,IF(직접데이타입력!$E16="14",직접데이타입력!$K16," ")," ") | P11: =IF(직접데이타입력!$M16=2,IF(직접데이타입력!$E16="15",직접데이타입력!$K16," ")," ") | Q11: =IF(직접데이타입력!$M16=2,IF(직접데이타입력!$E16="16",직접데이타입력!$K16," ")," ") | R11: =IF(직접데이타입력!$M16=2,IF(직접데이타입력!$E16="17",직접데이타입력!$K16," ")," ") | S11: =IF(직접데이타입력!$M16=2,IF(직접데이타입력!$E16="18",직접데이타입력!$K16," ")," ") | T11: =IF(직접데이타입력!$M16=2,IF(직접데이타입력!$E16="19",직접데이타입력!$K16," ")," ")
A12: =ROW()-1 -> 11 | B12: =IF(직접데이타입력!$M17=2,IF(직접데이타입력!$E17="1",직접데이타입력!$K17," ")," ") | C12: =IF(직접데이타입력!$M17=2,IF(직접데이타입력!$E17="2",직접데이타입력!$K17," ")," ") | D12: =IF(직접데이타입력!$M17=2,IF(직접데이타입력!$E17="3",직접데이타입력!$K17," ")," ") | E12: =IF(직접데이타입력!$M17=2,IF(직접데이타입력!$E17="4",직접데이타입력!$K17," ")," ") | F12: =IF(직접데이타입력!$M17=2,IF(직접데이타입력!$E17="5",직접데이타입력!$K17," ")," ") | G12: =IF(직접데이타입력!$M17=2,IF(직접데이타입력!$E17="6",직접데이타입력!$K17," ")," ") | H12: =IF(직접데이타입력!$M17=2,IF(직접데이타입력!$E17="7",직접데이타입력!$K17," ")," ") | I12: =IF(직접데이타입력!$M17=2,IF(직접데이타입력!$E17="8",직접데이타입력!$K17," ")," ") | J12: =IF(직접데이타입력!$M17=2,IF(직접데이타입력!$E17="9",직접데이타입력!$K17," ")," ") | K12: =IF(직접데이타입력!$M17=2,IF(직접데이타입력!$E17="10",직접데이타입력!$K17," ")," ") | L12: =IF(직접데이타입력!$M17=2,IF(직접데이타입력!$E17="11",직접데이타입력!$K17," ")," ") | M12: =IF(직접데이타입력!$M17=2,IF(직접데이타입력!$E17="12",직접데이타입력!$K17," ")," ") | N12: =IF(직접데이타입력!$M17=2,IF(직접데이타입력!$E17="13",직접데이타입력!$K17," ")," ") | O12: =IF(직접데이타입력!$M17=2,IF(직접데이타입력!$E17="14",직접데이타입력!$K17," ")," ") | P12: =IF(직접데이타입력!$M17=2,IF(직접데이타입력!$E17="15",직접데이타입력!$K17," ")," ") | Q12: =IF(직접데이타입력!$M17=2,IF(직접데이타입력!$E17="16",직접데이타입력!$K17," ")," ") | R12: =IF(직접데이타입력!$M17=2,IF(직접데이타입력!$E17="17",직접데이타입력!$K17," ")," ") | S12: =IF(직접데이타입력!$M17=2,IF(직접데이타입력!$E17="18",직접데이타입력!$K17," ")," ") | T12: =IF(직접데이타입력!$M17=2,IF(직접데이타입력!$E17="19",직접데이타입력!$K17," ")," ")
A13: =ROW()-1 -> 12 | B13: =IF(직접데이타입력!$M18=2,IF(직접데이타입력!$E18="1",직접데이타입력!$K18," ")," ") | C13: =IF(직접데이타입력!$M18=2,IF(직접데이타입력!$E18="2",직접데이타입력!$K18," ")," ") | D13: =IF(직접데이타입력!$M18=2,IF(직접데이타입력!$E18="3",직접데이타입력!$K18," ")," ") | E13: =IF(직접데이타입력!$M18=2,IF(직접데이타입력!$E18="4",직접데이타입력!$K18," ")," ") | F13: =IF(직접데이타입력!$M18=2,IF(직접데이타입력!$E18="5",직접데이타입력!$K18," ")," ") | G13: =IF(직접데이타입력!$M18=2,IF(직접데이타입력!$E18="6",직접데이타입력!$K18," ")," ") | H13: =IF(직접데이타입력!$M18=2,IF(직접데이타입력!$E18="7",직접데이타입력!$K18," ")," ") | I13: =IF(직접데이타입력!$M18=2,IF(직접데이타입력!$E18="8",직접데이타입력!$K18," ")," ") | J13: =IF(직접데이타입력!$M18=2,IF(직접데이타입력!$E18="9",직접데이타입력!$K18," ")," ") | K13: =IF(직접데이타입력!$M18=2,IF(직접데이타입력!$E18="10",직접데이타입력!$K18," ")," ") | L13: =IF(직접데이타입력!$M18=2,IF(직접데이타입력!$E18="11",직접데이타입력!$K18," ")," ") | M13: =IF(직접데이타입력!$M18=2,IF(직접데이타입력!$E18="12",직접데이타입력!$K18," ")," ") | N13: =IF(직접데이타입력!$M18=2,IF(직접데이타입력!$E18="13",직접데이타입력!$K18," ")," ") | O13: =IF(직접데이타입력!$M18=2,IF(직접데이타입력!$E18="14",직접데이타입력!$K18," ")," ") | P13: =IF(직접데이타입력!$M18=2,IF(직접데이타입력!$E18="15",직접데이타입력!$K18," ")," ") | Q13: =IF(직접데이타입력!$M18=2,IF(직접데이타입력!$E18="16",직접데이타입력!$K18," ")," ") | R13: =IF(직접데이타입력!$M18=2,IF(직접데이타입력!$E18="17",직접데이타입력!$K18," ")," ") | S13: =IF(직접데이타입력!$M18=2,IF(직접데이타입력!$E18="18",직접데이타입력!$K18," ")," ") | T13: =IF(직접데이타입력!$M18=2,IF(직접데이타입력!$E18="19",직접데이타입력!$K18," ")," ")
... A380: =ROW()-1 -> 379 | B380: =IF(직접데이타입력!$M385=2,IF(직접데이타입력!$E385="1",직접데이타입력!$K385," ")," ") | C380: =IF(직접데이타입력!$M385=2,IF(직접데이타입력!$E385="2",직접데이타입력!$K385," ")," ") | D380: =IF(직접데이타입력!$M385=2,IF(직접데이타입력!$E385="3",직접데이타입력!$K385," ")," ") | E380: =IF(직접데이타입력!$M385=2,IF(직접데이타입력!$E385="4",직접데이타입력!$K385," ")," ") | F380: =IF(직접데이타입력!$M385=2,IF(직접데이타입력!$E385="5",직접데이타입력!$K385," ")," ") | G380: =IF(직접데이타입력!$M385=2,IF(직접데이타입력!$E385="6",직접데이타입력!$K385," ")," ") | H380: =IF(직접데이타입력!$M385=2,IF(직접데이타입력!$E385="7",직접데이타입력!$K385," ")," ") | I380: =IF(직접데이타입력!$M385=2,IF(직접데이타입력!$E385="8",직접데이타입력!$K385," ")," ") | J380: =IF(직접데이타입력!$M385=2,IF(직접데이타입력!$E385="9",직접데이타입력!$K385," ")," ") | K380: =IF(직접데이타입력!$M385=2,IF(직접데이타입력!$E385="10",직접데이타입력!$K385," ")," ") | L380: =IF(직접데이타입력!$M385=2,IF(직접데이타입력!$E385="11",직접데이타입력!$K385," ")," ") | M380: =IF(직접데이타입력!$M385=2,IF(직접데이타입력!$E385="12",직접데이타입력!$K385," ")," ") | N380: =IF(직접데이타입력!$M385=2,IF(직접데이타입력!$E385="13",직접데이타입력!$K385," ")," ") | O380: =IF(직접데이타입력!$M385=2,IF(직접데이타입력!$E385="14",직접데이타입력!$K385," ")," ") | P380: =IF(직접데이타입력!$M385=2,IF(직접데이타입력!$E385="15",직접데이타입력!$K385," ")," ") | Q380: =IF(직접데이타입력!$M385=2,IF(직접데이타입력!$E385="16",직접데이타입력!$K385," ")," ") | R380: =IF(직접데이타입력!$M385=2,IF(직접데이타입력!$E385="17",직접데이타입력!$K385," ")," ") | S380: =IF(직접데이타입력!$M385=2,IF(직접데이타입력!$E385="18",직접데이타입력!$K385," ")," ") | T380: =IF(직접데이타입력!$M385=2,IF(직접데이타입력!$E385="19",직접데이타입력!$K385," ")," ")
A381: 필지수 | B381: =COUNT(B2:B380) -> 0 | C381: =COUNT(C2:C380) -> 0 | D381: =COUNT(D2:D380) -> 0 | E381: =COUNT(E2:E380) -> 0 | F381: =COUNT(F2:F380) -> 0 | G381: =COUNT(G2:G380) -> 0 | H381: =COUNT(H2:H380) -> 0 | I381: =COUNT(I2:I380) -> 0 | ... T381: =COUNT(T2:T380) -> 0 | U381: =SUM(B381:T381) -> 0
A382: 면적 | B382: =SUM(B2:B380) -> 0 | C382: =SUM(C2:C380) -> 0 | D382: =SUM(D2:D380) -> 0 | E382: =SUM(E2:E380) -> 0 | F382: =SUM(F2:F380) -> 0 | G382: =SUM(G2:G380) -> 0 | H382: =SUM(H2:H380) -> 0 | I382: =SUM(I2:I380) -> 0 | ... T382: =SUM(T2:T380) -> 0 | U382: =SUM(B382:T382) -> 0
