Workbook

Sheet 전체집계표
A1: 전 체 집 계 표
A3: 구 분 | B3: 총 계 | E3: 강원도 홍천군 | K3: 비 고
E4: 북방면
E5: 성동리 | H5: 명동리
B6: 필지 | C6: / | D6: 면적(㎡) | E6: 필지 | F6: / | G6: 면적(㎡) | H6: 필지 | I6: / | J6: 면적(㎡)
A7: 계 | B7: =SUM(B8:B32) -> 48 | C7: / | D7: =SUM(D8:D32) -> 8911 | E7: =SUM(E8:E32) -> 7 | F7: / | G7: =SUM(G8:G32) -> 1152 | H7: =SUM(H8:H32) -> 41 | I7: / | J7: =SUM(J8:J32) -> 7759
A8: 전 | B8: =E8+H8 -> 5 | C8: / | D8: =G8+J8 -> 1122 | E8: =편입집계표!$B$7 -> 4 | F8: / | G8: =편입집계표!$D$7 -> 689 | H8: =편입집계표!$B$37 -> 1 | I8: / | J8: =편입집계표!$D$37 -> 433
A9: 답 | B9: =E9+H9 -> 16 | C9: / | D9: =G9+J9 -> 4592 | E9: =편입집계표!$B$8 -> 0 | F9: / | G9: =편입집계표!$D$8 -> 0 | H9: =편입집계표!$B$38 -> 16 | I9: / | J9: =편입집계표!$D$38 -> 4592
A10: 임야 | B10: =E10+H10 -> 2 | C10: / | D10: =G10+J10 -> 447 | E10: =편입집계표!$B$9 -> 2 | F10: / | G10: =편입집계표!$D$9 -> 447 | H10: =편입집계표!$B$39 -> 0 | I10: / | J10: =편입집계표!$D$39 -> 0
A11: 대지 | B11: =E11+H11 -> 0 | C11: / | D11: =G11+J11 -> 0 | E11: =편입집계표!$B$10 -> 0 | F11: / | G11: =편입집계표!$D$10 -> 0 | H11: =편입집계표!$B$40 -> 0 | I11: / | J11: =편입집계표!$D$40 -> 0
A12: 도로 | B12: =E12+H12 -> 18 | C12: / | D12: =G12+J12 -> 1692 | E12: =편입집계표!$B$11 -> 1 | F12: / | G12: =편입집계표!$D$11 -> 16 | H12: =편입집계표!$B$41 -> 17 | I12: / | J12: =편입집계표!$D$41 -> 1676
A13: 구거 | B13: =E13+H13 -> 7 | C13: / | D13: =G13+J13 -> 1058 | E13: =편입집계표!$B$12 -> 0 | F13: / | G13: =편입집계표!$D$12 -> 0 | H13: =편입집계표!$B$42 -> 7 | I13: / | J13: =편입집계표!$D$42 -> 1058
A14: 하천 | B14: =E14+H14 -> 0 | C14: / | D14: =G14+J14 -> 0 | E14: =편입집계표!$B$13 -> 0 | F14: / | G14: =편입집계표!$D$13 -> 0 | H14: =편입집계표!$B$43 -> 0 | I14: / | J14: =편입집계표!$D$43 -> 0
A15: 유지 | B15: =E15+H15 -> 0 | C15: / | D15: =G15+J15 -> 0 | E15: =편입집계표!$B$14 -> 0 | F15: / | G15: =편입집계표!$D$14 -> 0 | H15: =편입집계표!$B$44 -> 0 | I15: / | J15: =편입집계표!$D$44 -> 0
A16: 제방 | B16: =E16+H16 -> 0 | C16: / | D16: =G16+J16 -> 0 | E16: =편입집계표!$B$15 -> 0 | F16: / | G16: =편입집계표!$D$15 -> 0 | H16: =편입집계표!$B$45 -> 0 | I16: / | J16: =편입집계표!$D$45 -> 0
A17: 과수원 | B17: =E17+H17 -> 0 | C17: / | D17: =G17+J17 -> 0 | E17: =편입집계표!$B$16 -> 0 | F17: / | G17: =편입집계표!$D$16 -> 0 | H17: =편입집계표!$B$46 -> 0 | I17: / | J17: =편입집계표!$D$46 -> 0
A18: 공장 | B18: =E18+H18 -> 0 | C18: / | D18: =G18+J18 -> 0 | E18: =편입집계표!$B$17 -> 0 | F18: / | G18: =편입집계표!$D$17 -> 0 | H18: =편입집계표!$B$47 -> 0 | I18: / | J18: =편입집계표!$D$47 -> 0
A19: 목장 | B19: =E19+H19 -> 0 | C19: / | D19: =G19+J19 -> 0 | E19: =편입집계표!$B$18 -> 0 | F19: / | G19: =편입집계표!$D$18 -> 0 | H19: =편입집계표!$B$48 -> 0 | I19: / | J19: =편입집계표!$D$48 -> 0
A20: 학교용지 | B20: =E20+H20 -> 0 | C20: / | D20: =G20+J20 -> 0 | E20: =편입집계표!$B$19 -> 0 | F20: / | G20: =편입집계표!$D$19 -> 0 | H20: =편입집계표!$B$49 -> 0 | I20: / | J20: =편입집계표!$D$49 -> 0
A21: 철도 | B21: =E21+H21 -> 0 | C21: / | D21: =G21+J21 -> 0 | E21: =편입집계표!$B$20 -> 0 | F21: / | G21: =편입집계표!$D$20 -> 0 | H21: =편입집계표!$B$50 -> 0 | I21: / | J21: =편입집계표!$D$50 -> 0
A22: 묘지 | B22: =E22+H22 -> 0 | C22: / | D22: =G22+J22 -> 0 | E22: =편입집계표!$B$21 -> 0 | F22: / | G22: =편입집계표!$D$21 -> 0 | H22: =편입집계표!$B$51 -> 0 | I22: / | J22: =편입집계표!$D$51 -> 0
A23: 주차장 | B23: =E23+H23 -> 0 | C23: / | D23: =G23+J23 -> 0 | E23: =편입집계표!$B$22 -> 0 | F23: / | G23: =편입집계표!$D$22 -> 0 | H23: =편입집계표!$B$52 -> 0 | I23: / | J23: =편입집계표!$D$52 -> 0
A24: 잡종지 | B24: =E24+H24 -> 0 | C24: / | D24: =G24+J24 -> 0 | E24: =편입집계표!$B$23 -> 0 | F24: / | G24: =편입집계표!$D$23 -> 0 | H24: =편입집계표!$B$53 -> 0 | I24: / | J24: =편입집계표!$D$53 -> 0
A25: 종교 | B25: =E25+H25 -> 0 | C25: / | D25: =G25+J25 -> 0 | E25: =편입집계표!$B$24 -> 0 | F25: / | G25: =편입집계표!$D$24 -> 0 | H25: =편입집계표!$B$54 -> 0 | I25: / | J25: =편입집계표!$D$54 -> 0
A26: 주유소 | B26: =E26+H26 -> 0 | C26: / | D26: =G26+J26 -> 0 | E26: =편입집계표!$B$25 -> 0 | F26: / | G26: =편입집계표!$D$25 -> 0 | H26: =편입집계표!$B$55 -> 0 | I26: / | J26: =편입집계표!$D$55 -> 0
A27: 공원 | B27: =E27+H27 -> 0 | C27: / | D27: =G27+J27 -> 0 | E27: =편입집계표!$B$26 -> 0 | F27: / | G27: =편입집계표!$D$26 -> 0 | H27: =편입집계표!$B$56 -> 0 | I27: / | J27: =편입집계표!$D$56 -> 0
A28: 체육 | B28: =E28+H28 -> 0 | C28: / | D28: =G28+J28 -> 0 | E28: =편입집계표!$B$27 -> 0 | F28: / | G28: =편입집계표!$D$27 -> 0 | H28: =편입집계표!$B$57 -> 0 | I28: / | J28: =편입집계표!$D$57 -> 0
A29: 유원지 | B29: =E29+H29 -> 0 | C29: / | D29: =G29+J29 -> 0 | E29: =편입집계표!$B$28 -> 0 | F29: / | G29: =편입집계표!$D$28 -> 0 | H29: =편입집계표!$B$58 -> 0 | I29: / | J29: =편입집계표!$D$58 -> 0
A30: 수도용지 | B30: =E30+H30 -> 0 | C30: / | D30: =G30+J30 -> 0 | E30: =편입집계표!$B$29 -> 0 | F30: / | G30: =편입집계표!$D$29 -> 0 | H30: =편입집계표!$B$59 -> 0 | I30: / | J30: =편입집계표!$D$59 -> 0
A31: 창 고 | B31: =E31+H31 -> 0 | C31: / | D31: =G31+J31 -> 0 | E31: =편입집계표!$B$30 -> 0 | F31: / | G31: =편입집계표!$D$30 -> 0 | H31: =편입집계표!B$60 -> 0 | I31: / | J31: =편입집계표!$D$60 -> 0
A32: 무 지 번 | B32: =E32+H32 -> 0 | C32: / | D32: =G32+J32 -> 0 | E32: =편입집계표!$B$31 -> 0 | F32: / | G32: =편입집계표!$D$31 -> 0 | H32: =편입집계표!$B$61 -> 0 | I32: / | J32: =편입집계표!$D$61 -> 0
A33: 국유지 전체집계표
A35: 구 분 | B35: 총 계 | E35: 강원도 홍천군 | K35: 비 고
E36: 북방면
E37: 성동리 | H37: 명동리
B38: 필지 | C38: / | D38: 면적(㎡) | E38: 필지 | F38: / | G38: 면적(㎡) | H38: 필지 | I38: / | J38: 면적(㎡)
A39: 계 | B39: =SUM(B40:B64) -> 9 | C39: / | D39: =SUM(D40:D64) -> 927 | E39: =SUM(E40:E64) -> 1 | F39: / | G39: =SUM(G40:G64) -> 16 | H39: =SUM(H40:H64) -> 8 | I39: / | J39: =SUM(J40:J64) -> 911
A40: 전 | B40: =E40+H40 -> 0 | C40: / | D40: =G40+J40 -> 0 | E40: =편입집계표!E7 -> 0 | F40: / | G40: =편입집계표!G7 -> 0 | H40: =편입집계표!E37 -> 0 | I40: / | J40: =편입집계표!G37 -> 0
A41: 답 | B41: =E41+H41 -> 1 | C41: / | D41: =G41+J41 -> 6 | E41: =편입집계표!E8 -> 0 | F41: / | G41: =편입집계표!G8 -> 0 | H41: =편입집계표!E38 -> 1 | I41: / | J41: =편입집계표!G38 -> 6
A42: 임야 | B42: =E42+H42 -> 0 | C42: / | D42: =G42+J42 -> 0 | E42: =편입집계표!E9 -> 0 | F42: / | G42: =편입집계표!G9 -> 0 | H42: =편입집계표!E39 -> 0 | I42: / | J42: =편입집계표!G39 -> 0
A43: 대지 | B43: =E43+H43 -> 0 | C43: / | D43: =G43+J43 -> 0 | E43: =편입집계표!E10 -> 0 | F43: / | G43: =편입집계표!G10 -> 0 | H43: =편입집계표!E40 -> 0 | I43: / | J43: =편입집계표!G40 -> 0
A44: 도로 | B44: =E44+H44 -> 4 | C44: / | D44: =G44+J44 -> 109 | E44: =편입집계표!E11 -> 1 | F44: / | G44: =편입집계표!G11 -> 16 | H44: =편입집계표!E41 -> 3 | I44: / | J44: =편입집계표!G41 -> 93
A45: 구거 | B45: =E45+H45 -> 4 | C45: / | D45: =G45+J45 -> 812 | E45: =편입집계표!E12 -> 0 | F45: / | G45: =편입집계표!G12 -> 0 | H45: =편입집계표!E42 -> 4 | I45: / | J45: =편입집계표!G42 -> 812
A46: 하천 | B46: =E46+H46 -> 0 | C46: / | D46: =G46+J46 -> 0 | E46: =편입집계표!E13 -> 0 | F46: / | G46: =편입집계표!G13 -> 0 | H46: =편입집계표!E43 -> 0 | I46: / | J46: =편입집계표!G43 -> 0
A47: 유지 | B47: =E47+H47 -> 0 | C47: / | D47: =G47+J47 -> 0 | E47: =편입집계표!E14 -> 0 | F47: / | G47: =편입집계표!G14 -> 0 | H47: =편입집계표!E44 -> 0 | I47: / | J47: =편입집계표!G44 -> 0
A48: 제방 | B48: =E48+H48 -> 0 | C48: / | D48: =G48+J48 -> 0 | E48: =편입집계표!E15 -> 0 | F48: / | G48: =편입집계표!G15 -> 0 | H48: =편입집계표!E45 -> 0 | I48: / | J48: =편입집계표!G45 -> 0
A49: 과수원 | B49: =E49+H49 -> 0 | C49: / | D49: =G49+J49 -> 0 | E49: =편입집계표!E16 -> 0 | F49: / | G49: =편입집계표!G16 -> 0 | H49: =편입집계표!E46 -> 0 | I49: / | J49: =편입집계표!G46 -> 0
A50: 공장 | B50: =E50+H50 -> 0 | C50: / | D50: =G50+J50 -> 0 | E50: =편입집계표!E17 -> 0 | F50: / | G50: =편입집계표!G17 -> 0 | H50: =편입집계표!E47 -> 0 | I50: / | J50: =편입집계표!G47 -> 0
A51: 목장 | B51: =E51+H51 -> 0 | C51: / | D51: =G51+J51 -> 0 | E51: =편입집계표!E18 -> 0 | F51: / | G51: =편입집계표!G18 -> 0 | H51: =편입집계표!E48 -> 0 | I51: / | J51: =편입집계표!G48 -> 0
... A64: 무 지 번 | B64: =E64+H64 -> 0 | C64: / | D64: =G64+J64 -> 0 | E64: =편입집계표!E31 -> 0 | F64: / | G64: =편입집계표!G31 -> 0 | H64: =편입집계표!E61 -> 0 | I64: / | J64: =편입집계표!G61 -> 0
A65: 공유지 전체집계표
A67: 구 분 | B67: 총 계 | E67: 강원도 홍천군 | K67: 비 고
E68: 북방면
E69: 성동리 | H69: 명동리
B70: 필지 | C70: / | D70: 면적(㎡) | E70: 필지 | F70: / | G70: 면적(㎡) | H70: 필지 | I70: / | J70: 면적(㎡)
A71: 계 | B71: =SUM(B72:B96) -> 7 | C71: / | D71: =SUM(D72:D96) -> 1275 | E71: =SUM(E72:E96) -> 0 | F71: / | G71: =SUM(G72:G96) -> 0 | H71: =SUM(H72:H96) -> 7 | I71: / | J71: =SUM(J72:J96) -> 1275
A72: 전 | B72: =E72+H72 -> 0 | C72: / | D72: =G72+J72 -> 0 | E72: =편입집계표!H7 -> 0 | F72: / | G72: =편입집계표!J7 -> 0 | H72: =편입집계표!H37 -> 0 | I72: / | J72: =편입집계표!J37 -> 0
A73: 답 | B73: =E73+H73 -> 0 | C73: / | D73: =G73+J73 -> 0 | E73: =편입집계표!H8 -> 0 | F73: / | G73: =편입집계표!J8 -> 0 | H73: =편입집계표!H38 -> 0 | I73: / | J73: =편입집계표!J38 -> 0
A74: 임야 | B74: =E74+H74 -> 0 | C74: / | D74: =G74+J74 -> 0 | E74: =편입집계표!H9 -> 0 | F74: / | G74: =편입집계표!J9 -> 0 | H74: =편입집계표!H39 -> 0 | I74: / | J74: =편입집계표!J39 -> 0
A75: 대지 | B75: =E75+H75 -> 0 | C75: / | D75: =G75+J75 -> 0 | E75: =편입집계표!H10 -> 0 | F75: / | G75: =편입집계표!J10 -> 0 | H75: =편입집계표!H40 -> 0 | I75: / | J75: =편입집계표!J40 -> 0
A76: 도로 | B76: =E76+H76 -> 7 | C76: / | D76: =G76+J76 -> 1275 | E76: =편입집계표!H11 -> 0 | F76: / | G76: =편입집계표!J11 -> 0 | H76: =편입집계표!H41 -> 7 | I76: / | J76: =편입집계표!J41 -> 1275
A77: 구거 | B77: =E77+H77 -> 0 | C77: / | D77: =G77+J77 -> 0 | E77: =편입집계표!H12 -> 0 | F77: / | G77: =편입집계표!J12 -> 0 | H77: =편입집계표!H42 -> 0 | I77: / | J77: =편입집계표!J42 -> 0
A78: 하천 | B78: =E78+H78 -> 0 | C78: / | D78: =G78+J78 -> 0 | E78: =편입집계표!H13 -> 0 | F78: / | G78: =편입집계표!J13 -> 0 | H78: =편입집계표!H43 -> 0 | I78: / | J78: =편입집계표!J43 -> 0
A79: 유지 | B79: =E79+H79 -> 0 | C79: / | D79: =G79+J79 -> 0 | E79: =편입집계표!H14 -> 0 | F79: / | G79: =편입집계표!J14 -> 0 | H79: =편입집계표!H44 -> 0 | I79: / | J79: =편입집계표!J44 -> 0
A80: 제방 | B80: =E80+H80 -> 0 | C80: / | D80: =G80+J80 -> 0 | E80: =편입집계표!H15 -> 0 | F80: / | G80: =편입집계표!J15 -> 0 | H80: =편입집계표!H45 -> 0 | I80: / | J80: =편입집계표!J45 -> 0
A81: 과수원 | B81: =E81+H81 -> 0 | C81: / | D81: =G81+J81 -> 0 | E81: =편입집계표!H16 -> 0 | F81: / | G81: =편입집계표!J16 -> 0 | H81: =편입집계표!H46 -> 0 | I81: / | J81: =편입집계표!J46 -> 0
A82: 공장 | B82: =E82+H82 -> 0 | C82: / | D82: =G82+J82 -> 0 | E82: =편입집계표!H17 -> 0 | F82: / | G82: =편입집계표!J17 -> 0 | H82: =편입집계표!H47 -> 0 | I82: / | J82: =편입집계표!J47 -> 0
A83: 목장 | B83: =E83+H83 -> 0 | C83: / | D83: =G83+J83 -> 0 | E83: =편입집계표!H18 -> 0 | F83: / | G83: =편입집계표!J18 -> 0 | H83: =편입집계표!H48 -> 0 | I83: / | J83: =편입집계표!J48 -> 0
... A96: 무 지 번 | B96: =E96+H96 -> 0 | C96: / | D96: =G96+J96 -> 0 | E96: =편입집계표!H31 -> 0 | F96: / | G96: =편입집계표!J31 -> 0 | H96: =편입집계표!H61 -> 0 | I96: / | J96: =편입집계표!J61 -> 0
A97: 사유지 전체집계표
A99: 구 분 | B99: 총 계 | E99: 강원도 홍천군 | K99: 비 고
E100: 북방면
E101: 성동리 | H101: 명동리
B102: 필지 | C102: / | D102: 면적(㎡) | E102: 필지 | F102: / | G102: 면적(㎡) | H102: 필지 | I102: / | J102: 면적(㎡)
A103: 계 | B103: =SUM(B104:B128) -> 32 | C103: / | D103: =SUM(D104:D128) -> 6709 | E103: =SUM(E104:E128) -> 6 | F103: / | G103: =SUM(G104:G128) -> 1136 | H103: =SUM(H104:H128) -> 26 | I103: / | J103: =SUM(J104:J128) -> 5573
A104: 전 | B104: =E104+H104 -> 5 | C104: / | D104: =G104+J104 -> 1122 | E104: =편입집계표!K7 -> 4 | F104: / | G104: =편입집계표!M7 -> 689 | H104: =편입집계표!K37 -> 1 | I104: / | J104: =편입집계표!M37 -> 433
A105: 답 | B105: =E105+H105 -> 15 | C105: / | D105: =G105+J105 -> 4586 | E105: =편입집계표!K8 -> 0 | F105: / | G105: =편입집계표!M8 -> 0 | H105: =편입집계표!K38 -> 15 | I105: / | J105: =편입집계표!M38 -> 4586
A106: 임야 | B106: =E106+H106 -> 2 | C106: / | D106: =G106+J106 -> 447 | E106: =편입집계표!K9 -> 2 | F106: / | G106: =편입집계표!M9 -> 447 | H106: =편입집계표!K39 -> 0 | I106: / | J106: =편입집계표!M39 -> 0
A107: 대지 | B107: =E107+H107 -> 0 | C107: / | D107: =G107+J107 -> 0 | E107: =편입집계표!K10 -> 0 | F107: / | G107: =편입집계표!M10 -> 0 | H107: =편입집계표!K40 -> 0 | I107: / | J107: =편입집계표!M40 -> 0
A108: 도로 | B108: =E108+H108 -> 7 | C108: / | D108: =G108+J108 -> 308 | E108: =편입집계표!K11 -> 0 | F108: / | G108: =편입집계표!M11 -> 0 | H108: =편입집계표!K41 -> 7 | I108: / | J108: =편입집계표!M41 -> 308
A109: 구거 | B109: =E109+H109 -> 3 | C109: / | D109: =G109+J109 -> 246 | E109: =편입집계표!K12 -> 0 | F109: / | G109: =편입집계표!M12 -> 0 | H109: =편입집계표!K42 -> 3 | I109: / | J109: =편입집계표!M42 -> 246
A110: 하천 | B110: =E110+H110 -> 0 | C110: / | D110: =G110+J110 -> 0 | E110: =편입집계표!K13 -> 0 | F110: / | G110: =편입집계표!M13 -> 0 | H110: =편입집계표!K43 -> 0 | I110: / | J110: =편입집계표!M43 -> 0
A111: 유지 | B111: =E111+H111 -> 0 | C111: / | D111: =G111+J111 -> 0 | E111: =편입집계표!K14 -> 0 | F111: / | G111: =편입집계표!M14 -> 0 | H111: =편입집계표!K44 -> 0 | I111: / | J111: =편입집계표!M44 -> 0
A112: 제방 | B112: =E112+H112 -> 0 | C112: / | D112: =G112+J112 -> 0 | E112: =편입집계표!K15 -> 0 | F112: / | G112: =편입집계표!M15 -> 0 | H112: =편입집계표!K45 -> 0 | I112: / | J112: =편입집계표!M45 -> 0
A113: 과수원 | B113: =E113+H113 -> 0 | C113: / | D113: =G113+J113 -> 0 | E113: =편입집계표!K16 -> 0 | F113: / | G113: =편입집계표!M16 -> 0 | H113: =편입집계표!K46 -> 0 | I113: / | J113: =편입집계표!M46 -> 0
A114: 공장 | B114: =E114+H114 -> 0 | C114: / | D114: =G114+J114 -> 0 | E114: =편입집계표!K17 -> 0 | F114: / | G114: =편입집계표!M17 -> 0 | H114: =편입집계표!K47 -> 0 | I114: / | J114: =편입집계표!M47 -> 0
A115: 목장 | B115: =E115+H115 -> 0 | C115: / | D115: =G115+J115 -> 0 | E115: =편입집계표!K18 -> 0 | F115: / | G115: =편입집계표!M18 -> 0 | H115: =편입집계표!K48 -> 0 | I115: / | J115: =편입집계표!M48 -> 0
... A128: 무 지 번 | B128: =E128+H128 -> 0 | C128: / | D128: =G128+J128 -> 0 | E128: =편입집계표!K31 -> 0 | F128: / | G128: =편입집계표!M31 -> 0 | H128: =편입집계표!K61 -> 0 | I128: / | J128: =편입집계표!M61 -> 0

Sheet 집계표
A1: 편 입 용 지 집 계 표
A2: =IF(EXACT(O6,O7),,"검산확인요!!!") -> 0 | K2: =IF(ISBLANK(거룡리!I3),,거룡리!I3) -> 전남 진도군 의신면 거룡리
A4: 구분 | B4: 계 | E4: 국 유 지 | H4: 공 유 지 | K4: 사 유 지 | N4: 비고
B5: 필지 | C5: / | D5: 면 적 (㎡) | E5: 필지 | F5: / | G5: 면 적 (㎡) | H5: 필지 | I5: / | J5: 면 적 (㎡) | K5: 필지 | L5: / | M5: 면 적 (㎡) | Q5: 총계 | R5: 국유지 | S5: 사유지 | T5: 국유지+사유지
A6: 계 | B6: =SUM(B7:B31) -> 41 | C6: / | D6: =SUM(D7:D31) -> 7759 | E6: =SUM(E7:E31) -> 8 | F6: / | G6: =SUM(G7:G31) -> 911 | H6: =SUM(H7:H31) -> 7 | I6: / | J6: =SUM(J7:J31) -> 1275 | K6: =SUM(K7:K31) -> 26 | L6: / | M6: =SUM(M7:M31) -> 5573 | O6: =IF(EXACT(Q6,T6),"맞음","틀림") -> 틀림 | P6: 필지 | Q6: =SUM(B7:B31) -> 41 | R6: =SUM(E7:E31) -> 8 | S6: =SUM(K7:K31) -> 26 | T6: =K6+E6 -> 34
A7: 전 | B7: =COUNTIF(거룡리!$D$7:$D$547,"전") -> 1 | C7: / | D7: =SUMIF(거룡리!$D$7:$D$547,"전",거룡리!$F$7:$F$547) -> 433 | E7: =COUNTIF(거룡리!$M$7:$M$547,"전국") -> 0 | F7: / | G7: =SUMIF(거룡리!$M$7:$M$547,"전국",거룡리!$F$7:$F$547) -> 0 | H7: =COUNTIF(거룡리!$M$7:$M$547,"전공") -> 0 | I7: / | J7: =SUMIF(거룡리!$M$7:$M$547,"전공",거룡리!$F$7:$F$547) -> 0 | K7: =B7-E7-H7 -> 1 | L7: / | M7: =D7-G7-J7 -> 433 | O7: =IF(EXACT(Q7,T7),"맞음","틀림") -> 틀림 | P7: 면적 | Q7: =SUM(D7:D31) -> 7759 | R7: =SUM(G7:G31) -> 911 | S7: =SUM(M7:M31) -> 5573 | T7: =G6+M6 -> 6484
A8: 답 | B8: =COUNTIF(거룡리!$D$7:$D$547,"답") -> 16 | C8: / | D8: =SUMIF(거룡리!$D$7:$D$547,"답",거룡리!$F$7:$F$547) -> 4592 | E8: =COUNTIF(거룡리!$M$7:$M$547,"답국") -> 1 | F8: / | G8: =SUMIF(거룡리!$M$7:$M$547,"답국",거룡리!$F$7:$F$547) -> 6 | H8: =COUNTIF(거룡리!$M$7:$M$547,"답공") -> 0 | I8: / | J8: =SUMIF(거룡리!$M$7:$M$547,"답공",거룡리!$F$7:$F$547) -> 0 | K8: =B8-E8-H8 -> 15 | L8: / | M8: =D8-G8-J8 -> 4586
A9: 임야 | B9: =COUNTIF(거룡리!$D$7:$D$547,"임") -> 0 | C9: / | D9: =SUMIF(거룡리!$D$7:$D$547,"임",거룡리!$F$7:$F$547) -> 0 | E9: =COUNTIF(거룡리!$M$7:$M$547,"임국") -> 0 | F9: / | G9: =SUMIF(거룡리!$M$7:$M$547,"임국",거룡리!$F$7:$F$547) -> 0 | H9: =COUNTIF(거룡리!$M$7:$M$547,"임공") -> 0 | I9: / | J9: =SUMIF(거룡리!$M$7:$M$547,"임공",거룡리!$F$7:$F$547) -> 0 | K9: =B9-E9-H9 -> 0 | L9: / | M9: =D9-G9-J9 -> 0
A10: 대지 | B10: =COUNTIF(거룡리!$D$7:$D$547,"대") -> 0 | C10: / | D10: =SUMIF(거룡리!$D$7:$D$547,"대",거룡리!$F$7:$F$547) -> 0 | E10: =COUNTIF(거룡리!$M$7:$M$547,"대국") -> 0 | F10: / | G10: =SUMIF(거룡리!$M$7:$M$547,"대국",거룡리!$F$7:$F$547) -> 0 | H10: =COUNTIF(거룡리!$M$7:$M$547,"대공") -> 0 | I10: / | J10: =SUMIF(거룡리!$M$7:$M$547,"대공",거룡리!$F$7:$F$547) -> 0 | K10: =B10-E10-H10 -> 0 | L10: / | M10: =D10-G10-J10 -> 0
A11: 도로 | B11: =COUNTIF(거룡리!$D$7:$D$547,"도") -> 17 | C11: / | D11: =SUMIF(거룡리!$D$7:$D$547,"도",거룡리!$F$7:$F$547) -> 1676 | E11: =COUNTIF(거룡리!$M$7:$M$547,"도국") -> 3 | F11: / | G11: =SUMIF(거룡리!$M$7:$M$547,"도국",거룡리!$F$7:$F$547) -> 93 | H11: =COUNTIF(거룡리!$M$7:$M$547,"도공") -> 7 | I11: / | J11: =SUMIF(거룡리!$M$7:$M$547,"도공",거룡리!$F$7:$F$547) -> 1275 | K11: =B11-E11-H11 -> 7 | L11: / | M11: =D11-G11-J11 -> 308
A12: 구거 | B12: =COUNTIF(거룡리!$D$7:$D$547,"구") -> 7 | C12: / | D12: =SUMIF(거룡리!$D$7:$D$547,"구",거룡리!$F$7:$F$547) -> 1058 | E12: =COUNTIF(거룡리!$M$7:$M$547,"구국") -> 4 | F12: / | G12: =SUMIF(거룡리!$M$7:$M$547,"구국",거룡리!$F$7:$F$547) -> 812 | H12: =COUNTIF(거룡리!$M$7:$M$547,"구공") -> 0 | I12: / | J12: =SUMIF(거룡리!$M$7:$M$547,"구공",거룡리!$F$7:$F$547) -> 0 | K12: =B12-E12-H12 -> 3 | L12: / | M12: =D12-G12-J12 -> 246
A13: 하천 | B13: =COUNTIF(거룡리!$D$7:$D$547,"천") -> 0 | C13: / | D13: =SUMIF(거룡리!$D$7:$D$547,"천",거룡리!$F$7:$F$547) -> 0 | E13: =COUNTIF(거룡리!$M$7:$M$547,"천국") -> 0 | F13: / | G13: =SUMIF(거룡리!$M$7:$M$547,"천국",거룡리!$F$7:$F$547) -> 0 | H13: =COUNTIF(거룡리!$M$7:$M$547,"천공") -> 0 | I13: / | J13: =SUMIF(거룡리!$M$7:$M$547,"천공",거룡리!$F$7:$F$547) -> 0 | K13: =B13-E13-H13 -> 0 | L13: / | M13: =D13-G13-J13 -> 0
A14: 유지 | B14: =COUNTIF(거룡리!$D$7:$D$547,"유") -> 0 | C14: / | D14: =SUMIF(거룡리!$D$7:$D$547,"유",거룡리!$F$7:$F$547) -> 0 | E14: =COUNTIF(거룡리!$M$7:$M$547,"유국") -> 0 | F14: / | G14: =SUMIF(거룡리!$M$7:$M$547,"유국",거룡리!$F$7:$F$547) -> 0 | H14: =COUNTIF(거룡리!$M$7:$M$547,"유공") -> 0 | I14: / | J14: =SUMIF(거룡리!$M$7:$M$547,"유공",거룡리!$F$7:$F$547) -> 0 | K14: =B14-E14-H14 -> 0 | L14: / | M14: =D14-G14-J14 -> 0
A15: 제방 | B15: =COUNTIF(거룡리!$D$7:$D$547,"제") -> 0 | C15: / | D15: =SUMIF(거룡리!$D$7:$D$547,"제",거룡리!$F$7:$F$547) -> 0 | E15: =COUNTIF(거룡리!$M$7:$M$547,"제국") -> 0 | F15: / | G15: =SUMIF(거룡리!$M$7:$M$547,"제국",거룡리!$F$7:$F$547) -> 0 | H15: =COUNTIF(거룡리!$M$7:$M$547,"제공") -> 0 | I15: / | J15: =SUMIF(거룡리!$M$7:$M$547,"제공",거룡리!$F$7:$F$547) -> 0 | K15: =B15-E15-H15 -> 0 | L15: / | M15: =D15-G15-J15 -> 0
A16: 과수원 | B16: =COUNTIF(거룡리!$D$7:$D$547,"과") -> 0 | C16: / | D16: =SUMIF(거룡리!$D$7:$D$547,"과",거룡리!$F$7:$F$547) -> 0 | E16: =COUNTIF(거룡리!$M$7:$M$547,"과국") -> 0 | F16: / | G16: =SUMIF(거룡리!$M$7:$M$547,"과국",거룡리!$F$7:$F$547) -> 0 | H16: =COUNTIF(거룡리!$M$7:$M$547,"과공") -> 0 | I16: / | J16: =SUMIF(거룡리!$M$7:$M$547,"과공",거룡리!$F$7:$F$547) -> 0 | K16: =B16-E16-H16 -> 0 | L16: / | M16: =D16-G16-J16 -> 0
A17: 공장 | B17: =COUNTIF(거룡리!$D$7:$D$547,"장") -> 0 | C17: / | D17: =SUMIF(거룡리!$D$7:$D$547,"장",거룡리!$F$7:$F$547) -> 0 | E17: =COUNTIF(거룡리!$M$7:$M$547,"장국") -> 0 | F17: / | G17: =SUMIF(거룡리!$M$7:$M$547,"장국",거룡리!$F$7:$F$547) -> 0 | H17: =COUNTIF(거룡리!$M$7:$M$547,"장공") -> 0 | I17: / | J17: =SUMIF(거룡리!$M$7:$M$547,"장공",거룡리!$F$7:$F$547) -> 0 | K17: =B17-E17-H17 -> 0 | L17: / | M17: =D17-G17-J17 -> 0
A18: 목장 | B18: =COUNTIF(거룡리!$D$7:$D$547,"목") -> 0 | C18: / | D18: =SUMIF(거룡리!$D$7:$D$547,"목",거룡리!$F$7:$F$547) -> 0 | E18: =COUNTIF(거룡리!$M$7:$M$547,"목국") -> 0 | F18: / | G18: =SUMIF(거룡리!$M$7:$M$547,"목국",거룡리!$F$7:$F$547) -> 0 | H18: =COUNTIF(거룡리!$M$7:$M$547,"목공") -> 0 | I18: / | J18: =SUMIF(거룡리!$M$7:$M$547,"목공",거룡리!$F$7:$F$547) -> 0 | K18: =B18-E18-H18 -> 0 | L18: / | M18: =D18-G18-J18 -> 0
A19: 학교용지 | B19: =COUNTIF(거룡리!$D$7:$D$547,"학") -> 0 | C19: / | D19: =SUMIF(거룡리!$D$7:$D$547,"학",거룡리!$F$7:$F$547) -> 0 | E19: =COUNTIF(거룡리!$M$7:$M$547,"학국") -> 0 | F19: / | G19: =SUMIF(거룡리!$M$7:$M$547,"학국",거룡리!$F$7:$F$547) -> 0 | H19: =COUNTIF(거룡리!$M$7:$M$547,"학공") -> 0 | I19: / | J19: =SUMIF(거룡리!$M$7:$M$547,"학공",거룡리!$F$7:$F$547) -> 0 | K19: =B19-E19-H19 -> 0 | L19: / | M19: =D19-G19-J19 -> 0
A20: 철도 | B20: =COUNTIF(거룡리!$D$7:$D$547,"철") -> 0 | C20: / | D20: =SUMIF(거룡리!$D$7:$D$547,"철",거룡리!$F$7:$F$547) -> 0 | E20: =COUNTIF(거룡리!$M$7:$M$547,"철국") -> 0 | F20: / | G20: =SUMIF(거룡리!$M$7:$M$547,"철국",거룡리!$F$7:$F$547) -> 0 | H20: =COUNTIF(거룡리!$M$7:$M$547,"철공") -> 0 | I20: / | J20: =SUMIF(거룡리!$M$7:$M$547,"철공",거룡리!$F$7:$F$547) -> 0 | K20: =B20-E20-H20 -> 0 | L20: / | M20: =D20-G20-J20 -> 0
A21: 묘지 | B21: =COUNTIF(거룡리!$D$7:$D$547,"묘") -> 0 | C21: / | D21: =SUMIF(거룡리!$D$7:$D$547,"묘",거룡리!$F$7:$F$547) -> 0 | E21: =COUNTIF(거룡리!$M$7:$M$547,"묘국") -> 0 | F21: / | G21: =SUMIF(거룡리!$M$7:$M$547,"묘국",거룡리!$F$7:$F$547) -> 0 | H21: =COUNTIF(거룡리!$M$7:$M$547,"묘공") -> 0 | I21: / | J21: =SUMIF(거룡리!$M$7:$M$547,"묘공",거룡리!$F$7:$F$547) -> 0 | K21: =B21-E21-H21 -> 0 | L21: / | M21: =D21-G21-J21 -> 0
A22: 주차장 | B22: =COUNTIF(거룡리!$D$7:$D$547,"차") -> 0 | C22: / | D22: =SUMIF(거룡리!$D$7:$D$547,"차",거룡리!$F$7:$F$547) -> 0 | E22: =COUNTIF(거룡리!$M$7:$M$547,"차국") -> 0 | F22: / | G22: =SUMIF(거룡리!$M$7:$M$547,"차국",거룡리!$F$7:$F$547) -> 0 | H22: =COUNTIF(거룡리!$M$7:$M$547,"차공") -> 0 | I22: / | J22: =SUMIF(거룡리!$M$7:$M$547,"차공",거룡리!$F$7:$F$547) -> 0 | K22: =B22-E22-H22 -> 0 | L22: / | M22: =D22-G22-J22 -> 0
A23: 잡종지 | B23: =COUNTIF(거룡리!$D$7:$D$547,"잡") -> 0 | C23: / | D23: =SUMIF(거룡리!$D$7:$D$547,"잡",거룡리!$F$7:$F$547) -> 0 | E23: =COUNTIF(거룡리!$M$7:$M$547,"잡국") -> 0 | F23: / | G23: =SUMIF(거룡리!$M$7:$M$547,"잡국",거룡리!$F$7:$F$547) -> 0 | H23: =COUNTIF(거룡리!$M$7:$M$547,"잡공") -> 0 | I23: / | J23: =SUMIF(거룡리!$M$7:$M$547,"잡공",거룡리!$F$7:$F$547) -> 0 | K23: =B23-E23-H23 -> 0 | L23: / | M23: =D23-G23-J23 -> 0
A24: 종교 | B24: =COUNTIF(거룡리!$D$7:$D$547,"종") -> 0 | C24: / | D24: =SUMIF(거룡리!$D$7:$D$547,"종",거룡리!$F$7:$F$547) -> 0 | E24: =COUNTIF(거룡리!$M$7:$M$547,"종국") -> 0 | F24: / | G24: =SUMIF(거룡리!$M$7:$M$547,"종국",거룡리!$F$7:$F$547) -> 0 | H24: =COUNTIF(거룡리!$M$7:$M$547,"종공") -> 0 | I24: / | J24: =SUMIF(거룡리!$M$7:$M$547,"종공",거룡리!$F$7:$F$547) -> 0 | K24: =B24-E24-H24 -> 0 | L24: / | M24: =D24-G24-J24 -> 0
A25: 주유소 | B25: =COUNTIF(거룡리!$D$7:$D$547,"주") -> 0 | C25: / | D25: =SUMIF(거룡리!$D$7:$D$547,"주",거룡리!$F$7:$F$547) -> 0 | E25: =COUNTIF(거룡리!$M$7:$M$547,"주국") -> 0 | F25: / | G25: =SUMIF(거룡리!$M$7:$M$547,"주국",거룡리!$F$7:$F$547) -> 0 | H25: =COUNTIF(거룡리!$M$7:$M$547,"주공") -> 0 | I25: / | J25: =SUMIF(거룡리!$M$7:$M$547,"주공",거룡리!$F$7:$F$547) -> 0 | K25: =B25-E25-H25 -> 0 | L25: / | M25: =D25-G25-J25 -> 0
A26: 공원 | B26: =COUNTIF(거룡리!$D$7:$D$547,"공") -> 0 | C26: / | D26: =SUMIF(거룡리!$D$7:$D$547,"공",거룡리!$F$7:$F$547) -> 0 | E26: =COUNTIF(거룡리!$M$7:$M$547,"공국") -> 0 | F26: / | G26: =SUMIF(거룡리!$M$7:$M$547,"공국",거룡리!$F$7:$F$547) -> 0 | H26: =COUNTIF(거룡리!$M$7:$M$547,"공공") -> 0 | I26: / | J26: =SUMIF(거룡리!$M$7:$M$547,"공공",거룡리!$F$7:$F$547) -> 0 | K26: =B26-E26-H26 -> 0 | L26: / | M26: =D26-G26-J26 -> 0
A27: 체육 | B27: =COUNTIF(거룡리!$D$7:$D$547,"체") -> 0 | C27: / | D27: =SUMIF(거룡리!$D$7:$D$547,"체",거룡리!$F$7:$F$547) -> 0 | E27: =COUNTIF(거룡리!$M$7:$M$547,"체국") -> 0 | F27: / | G27: =SUMIF(거룡리!$M$7:$M$547,"체국",거룡리!$F$7:$F$547) -> 0 | H27: =COUNTIF(거룡리!$M$7:$M$547,"체공") -> 0 | I27: / | J27: =SUMIF(거룡리!$M$7:$M$547,"체공",거룡리!$F$7:$F$547) -> 0 | K27: =B27-E27-H27 -> 0 | L27: / | M27: =D27-G27-J27 -> 0
A28: 유원지 | B28: =COUNTIF(거룡리!$D$7:$D$547,"원") -> 0 | C28: / | D28: =SUMIF(거룡리!$D$7:$D$547,"원",거룡리!$F$7:$F$547) -> 0 | E28: =COUNTIF(거룡리!$M$7:$M$547,"원국") -> 0 | F28: / | G28: =SUMIF(거룡리!$M$7:$M$547,"원국",거룡리!$F$7:$F$547) -> 0 | H28: =COUNTIF(거룡리!$M$7:$M$547,"원공") -> 0 | I28: / | J28: =SUMIF(거룡리!$M$7:$M$547,"원공",거룡리!$F$7:$F$547) -> 0 | K28: =B28-E28-H28 -> 0 | L28: / | M28: =D28-G28-J28 -> 0
A29: 수도용지 | B29: =COUNTIF(거룡리!$D$7:$D$547,"수") -> 0 | C29: / | D29: =SUMIF(거룡리!$D$7:$D$547,"수",거룡리!$F$7:$F$547) -> 0 | E29: =COUNTIF(거룡리!$M$7:$M$547,"수국") -> 0 | F29: / | G29: =SUMIF(거룡리!$M$7:$M$547,"수국",거룡리!$F$7:$F$547) -> 0 | H29: =COUNTIF(거룡리!$M$7:$M$547,"수공") -> 0 | I29: / | J29: =SUMIF(거룡리!$M$7:$M$547,"수공",거룡리!$F$7:$F$547) -> 0 | K29: =B29-E29-H29 -> 0 | L29: / | M29: =D29-G29-J29 -> 0
A30: 창 고 | B30: =COUNTIF(거룡리!$D$7:$D$547,"창") -> 0 | C30: / | D30: =SUMIF(거룡리!$D$7:$D$547,"창",거룡리!$F$7:$F$547) -> 0 | E30: =COUNTIF(거룡리!$M$7:$M$547,"창국") -> 0 | F30: / | G30: =SUMIF(거룡리!$M$7:$M$547,"창국",거룡리!$F$7:$F$547) -> 0 | H30: =COUNTIF(거룡리!$M$7:$M$547,"창공") -> 0 | I30: / | J30: =SUMIF(거룡리!$M$7:$M$547,"창공",거룡리!$F$7:$F$547) -> 0 | K30: =B30-E30-H30 -> 0 | L30: / | M30: =D30-G30-J30 -> 0
A31: 무 지 번 | B31: =COUNTIF(거룡리!$D$7:$D$547,"가") -> 0 | C31: / | D31: =SUMIF(거룡리!$D$7:$D$547,"가",거룡리!$F$7:$F$547) -> 0 | E31: =COUNTIF(거룡리!$M$7:$M$547,"국") -> 0 | F31: / | G31: =SUMIF(거룡리!$M$7:$M$547,"국",거룡리!$F$7:$F$547) -> 0 | H31: =COUNTIF(거룡리!$M$7:$M$547,"공") -> 0 | I31: / | J31: =SUMIF(거룡리!$M$7:$M$547,"공",거룡리!$F$7:$F$547) -> 0 | K31: =B31-E31-H31 -> 0 | L31: / | M31: =D31-G31-J31 -> 0
A32: =IF(EXACT(O36,O37),,"검산확인요!!!") -> 0 | K32: =IF(ISBLANK('0리'!H3),,'0리'!H3) -> 경상북도 예천군 용궁면 무지리
A34: 구분 | B34: 계 | E34: 국 유 지 | H34: 공 유 지 | K34: 사 유 지 | N34: 비고
B35: 필지 | C35: / | D35: 면 적 (㎡) | E35: 필지 | F35: / | G35: 면 적 (㎡) | H35: 필지 | I35: / | J35: 면 적 (㎡) | K35: 필지 | L35: / | M35: 면 적 (㎡) | Q35: 총계 | R35: 국유지 | S35: 사유지 | T35: 국유지+사유지
A36: 계 | B36: =SUM(B37:B61) -> 0 | C36: / | D36: =SUM(D37:D61) -> 0 | E36: =SUM(E37:E61) -> 0 | F36: / | G36: =SUM(G37:G61) -> 0 | H36: =SUM(H37:H61) -> 0 | I36: / | J36: =SUM(J37:J61) -> 0 | K36: =SUM(K37:K61) -> 0 | L36: / | M36: =SUM(M37:M61) -> 0 | O36: =IF(EXACT(Q36,T36),"맞음","틀림") -> 맞음 | P36: 필지 | Q36: =SUM(B37:B61) -> 0 | R36: =SUM(E37:E61) -> 0 | S36: =SUM(K37:K61) -> 0 | T36: =K36+E36 -> 0
A37: 전 | B37: =COUNTIF('0리'!$C$7:$C$501,"전") -> 0 | C37: / | D37: =SUMIF('0리'!$C$7:$C$501,"전",'0리'!$E$7:$E$501) -> 0 | E37: =COUNTIF('0리'!$Q$7:$Q$501,"전국") -> 0 | F37: / | G37: =SUMIF('0리'!$Q$7:$Q$501,"전국",'0리'!$E$7:$E$501) -> 0 | H37: =COUNTIF('0리'!$Q$7:$Q$501,"전공") -> 0 | I37: / | J37: =SUMIF('0리'!$Q$7:$Q$501,"전공",'0리'!$E$7:$E$501) -> 0 | K37: =B37-E37-H37 -> 0 | L37: / | M37: =D37-G37-J37 -> 0 | O37: =IF(EXACT(Q37,T37),"맞음","틀림") -> 맞음 | P37: 면적 | Q37: =SUM(D37:D61) -> 0 | R37: =SUM(G37:G61) -> 0 | S37: =SUM(M37:M61) -> 0 | T37: =G36+M36 -> 0
A38: 답 | B38: =COUNTIF('0리'!$C$7:$C$501,"답") -> 0 | C38: / | D38: =SUMIF('0리'!$C$7:$C$501,"답",'0리'!$E$7:$E$501) -> 0 | E38: =COUNTIF('0리'!$Q$7:$Q$501,"답국") -> 0 | F38: / | G38: =SUMIF('0리'!$Q$7:$Q$501,"답국",'0리'!$E$7:$E$501) -> 0 | H38: =COUNTIF('0리'!$Q$7:$Q$501,"답공") -> 0 | I38: / | J38: =SUMIF('0리'!$Q$7:$Q$501,"답공",'0리'!$E$7:$E$501) -> 0 | K38: =B38-E38-H38 -> 0 | L38: / | M38: =D38-G38-J38 -> 0
A39: 임야 | B39: =COUNTIF('0리'!$C$7:$C$501,"임") -> 0 | C39: / | D39: =SUMIF('0리'!$C$7:$C$501,"임",'0리'!$E$7:$E$501) -> 0 | E39: =COUNTIF('0리'!$Q$7:$Q$501,"임국") -> 0 | F39: / | G39: =SUMIF('0리'!$Q$7:$Q$501,"임국",'0리'!$E$7:$E$501) -> 0 | H39: =COUNTIF('0리'!$Q$7:$Q$501,"임공") -> 0 | I39: / | J39: =SUMIF('0리'!$Q$7:$Q$501,"임공",'0리'!$E$7:$E$501) -> 0 | K39: =B39-E39-H39 -> 0 | L39: / | M39: =D39-G39-J39 -> 0
A40: 대지 | B40: =COUNTIF('0리'!$C$7:$C$501,"대") -> 0 | C40: / | D40: =SUMIF('0리'!$C$7:$C$501,"대",'0리'!$E$7:$E$501) -> 0 | E40: =COUNTIF('0리'!$Q$7:$Q$501,"대국") -> 0 | F40: / | G40: =SUMIF('0리'!$Q$7:$Q$501,"대국",'0리'!$E$7:$E$501) -> 0 | H40: =COUNTIF('0리'!$Q$7:$Q$501,"대공") -> 0 | I40: / | J40: =SUMIF('0리'!$Q$7:$Q$501,"대공",'0리'!$E$7:$E$501) -> 0 | K40: =B40-E40-H40 -> 0 | L40: / | M40: =D40-G40-J40 -> 0
A41: 도로 | B41: =COUNTIF('0리'!$C$7:$C$501,"도") -> 0 | C41: / | D41: =SUMIF('0리'!$C$7:$C$501,"도",'0리'!$E$7:$E$501) -> 0 | E41: =COUNTIF('0리'!$Q$7:$Q$501,"도국") -> 0 | F41: / | G41: =SUMIF('0리'!$Q$7:$Q$501,"도국",'0리'!$E$7:$E$501) -> 0 | H41: =COUNTIF('0리'!$Q$7:$Q$501,"도공") -> 0 | I41: / | J41: =SUMIF('0리'!$Q$7:$Q$501,"도공",'0리'!$E$7:$E$501) -> 0 | K41: =B41-E41-H41 -> 0 | L41: / | M41: =D41-G41-J41 -> 0
A42: 구거 | B42: =COUNTIF('0리'!$C$7:$C$501,"구") -> 0 | C42: / | D42: =SUMIF('0리'!$C$7:$C$501,"구",'0리'!$E$7:$E$501) -> 0 | E42: =COUNTIF('0리'!$Q$7:$Q$501,"구국") -> 0 | F42: / | G42: =SUMIF('0리'!$Q$7:$Q$501,"구국",'0리'!$E$7:$E$501) -> 0 | H42: =COUNTIF('0리'!$Q$7:$Q$501,"구공") -> 0 | I42: / | J42: =SUMIF('0리'!$Q$7:$Q$501,"구공",'0리'!$E$7:$E$501) -> 0 | K42: =B42-E42-H42 -> 0 | L42: / | M42: =D42-G42-J42 -> 0
A43: 하천 | B43: =COUNTIF('0리'!$C$7:$C$501,"천") -> 0 | C43: / | D43: =SUMIF('0리'!$C$7:$C$501,"천",'0리'!$E$7:$E$501) -> 0 | E43: =COUNTIF('0리'!$Q$7:$Q$501,"천국") -> 0 | F43: / | G43: =SUMIF('0리'!$Q$7:$Q$501,"천국",'0리'!$E$7:$E$501) -> 0 | H43: =COUNTIF('0리'!$Q$7:$Q$501,"천공") -> 0 | I43: / | J43: =SUMIF('0리'!$Q$7:$Q$501,"천공",'0리'!$E$7:$E$501) -> 0 | K43: =B43-E43-H43 -> 0 | L43: / | M43: =D43-G43-J43 -> 0
A44: 유지 | B44: =COUNTIF('0리'!$C$7:$C$501,"유") -> 0 | C44: / | D44: =SUMIF('0리'!$C$7:$C$501,"유",'0리'!$E$7:$E$501) -> 0 | E44: =COUNTIF('0리'!$Q$7:$Q$501,"유국") -> 0 | F44: / | G44: =SUMIF('0리'!$Q$7:$Q$501,"유국",'0리'!$E$7:$E$501) -> 0 | H44: =COUNTIF('0리'!$Q$7:$Q$501,"유공") -> 0 | I44: / | J44: =SUMIF('0리'!$Q$7:$Q$501,"유공",'0리'!$E$7:$E$501) -> 0 | K44: =B44-E44-H44 -> 0 | L44: / | M44: =D44-G44-J44 -> 0
A45: 제방 | B45: =COUNTIF('0리'!$C$7:$C$501,"제") -> 0 | C45: / | D45: =SUMIF('0리'!$C$7:$C$501,"제",'0리'!$E$7:$E$501) -> 0 | E45: =COUNTIF('0리'!$Q$7:$Q$501,"제국") -> 0 | F45: / | G45: =SUMIF('0리'!$Q$7:$Q$501,"제국",'0리'!$E$7:$E$501) -> 0 | H45: =COUNTIF('0리'!$Q$7:$Q$501,"제공") -> 0 | I45: / | J45: =SUMIF('0리'!$Q$7:$Q$501,"제공",'0리'!$E$7:$E$501) -> 0 | K45: =B45-E45-H45 -> 0 | L45: / | M45: =D45-G45-J45 -> 0
A46: 과수원 | B46: =COUNTIF('0리'!$C$7:$C$501,"과") -> 0 | C46: / | D46: =SUMIF('0리'!$C$7:$C$501,"과",'0리'!$E$7:$E$501) -> 0 | E46: =COUNTIF('0리'!$Q$7:$Q$501,"과국") -> 0 | F46: / | G46: =SUMIF('0리'!$Q$7:$Q$501,"과국",'0리'!$E$7:$E$501) -> 0 | H46: =COUNTIF('0리'!$Q$7:$Q$501,"과공") -> 0 | I46: / | J46: =SUMIF('0리'!$Q$7:$Q$501,"과공",'0리'!$E$7:$E$501) -> 0 | K46: =B46-E46-H46 -> 0 | L46: / | M46: =D46-G46-J46 -> 0
A47: 공장 | B47: =COUNTIF('0리'!$C$7:$C$501,"장") -> 0 | C47: / | D47: =SUMIF('0리'!$C$7:$C$501,"장",'0리'!$E$7:$E$501) -> 0 | E47: =COUNTIF('0리'!$Q$7:$Q$501,"장국") -> 0 | F47: / | G47: =SUMIF('0리'!$Q$7:$Q$501,"장국",'0리'!$E$7:$E$501) -> 0 | H47: =COUNTIF('0리'!$Q$7:$Q$501,"장공") -> 0 | I47: / | J47: =SUMIF('0리'!$Q$7:$Q$501,"장공",'0리'!$E$7:$E$501) -> 0 | K47: =B47-E47-H47 -> 0 | L47: / | M47: =D47-G47-J47 -> 0
A48: 목장 | B48: =COUNTIF('0리'!$C$7:$C$501,"목") -> 0 | C48: / | D48: =SUMIF('0리'!$C$7:$C$501,"목",'0리'!$E$7:$E$501) -> 0 | E48: =COUNTIF('0리'!$Q$7:$Q$501,"목국") -> 0 | F48: / | G48: =SUMIF('0리'!$Q$7:$Q$501,"목국",'0리'!$E$7:$E$501) -> 0 | H48: =COUNTIF('0리'!$Q$7:$Q$501,"목공") -> 0 | I48: / | J48: =SUMIF('0리'!$Q$7:$Q$501,"목공",'0리'!$E$7:$E$501) -> 0 | K48: =B48-E48-H48 -> 0 | L48: / | M48: =D48-G48-J48 -> 0
A49: 학교용지 | B49: =COUNTIF('0리'!$C$7:$C$501,"학") -> 0 | C49: / | D49: =SUMIF('0리'!$C$7:$C$501,"학",'0리'!$E$7:$E$501) -> 0 | E49: =COUNTIF('0리'!$Q$7:$Q$501,"학국") -> 0 | F49: / | G49: =SUMIF('0리'!$Q$7:$Q$501,"학국",'0리'!$E$7:$E$501) -> 0 | H49: =COUNTIF('0리'!$Q$7:$Q$501,"학공") -> 0 | I49: / | J49: =SUMIF('0리'!$Q$7:$Q$501,"학공",'0리'!$E$7:$E$501) -> 0 | K49: =B49-E49-H49 -> 0 | L49: / | M49: =D49-G49-J49 -> 0
A50: 철도 | B50: =COUNTIF('0리'!$C$7:$C$501,"철") -> 0 | C50: / | D50: =SUMIF('0리'!$C$7:$C$501,"철",'0리'!$E$7:$E$501) -> 0 | E50: =COUNTIF('0리'!$Q$7:$Q$501,"철국") -> 0 | F50: / | G50: =SUMIF('0리'!$Q$7:$Q$501,"철국",'0리'!$E$7:$E$501) -> 0 | H50: =COUNTIF('0리'!$Q$7:$Q$501,"철공") -> 0 | I50: / | J50: =SUMIF('0리'!$Q$7:$Q$501,"철공",'0리'!$E$7:$E$501) -> 0 | K50: =B50-E50-H50 -> 0 | L50: / | M50: =D50-G50-J50 -> 0
A51: 묘지 | B51: =COUNTIF('0리'!$C$7:$C$501,"묘") -> 0 | C51: / | D51: =SUMIF('0리'!$C$7:$C$501,"묘",'0리'!$E$7:$E$501) -> 0 | E51: =COUNTIF('0리'!$Q$7:$Q$501,"묘국") -> 0 | F51: / | G51: =SUMIF('0리'!$Q$7:$Q$501,"묘국",'0리'!$E$7:$E$501) -> 0 | H51: =COUNTIF('0리'!$Q$7:$Q$501,"묘공") -> 0 | I51: / | J51: =SUMIF('0리'!$Q$7:$Q$501,"묘공",'0리'!$E$7:$E$501) -> 0 | K51: =B51-E51-H51 -> 0 | L51: / | M51: =D51-G51-J51 -> 0
A52: 주차장 | B52: =COUNTIF('0리'!$C$7:$C$501,"차") -> 0 | C52: / | D52: =SUMIF('0리'!$C$7:$C$501,"차",'0리'!$E$7:$E$501) -> 0 | E52: =COUNTIF('0리'!$Q$7:$Q$501,"차국") -> 0 | F52: / | G52: =SUMIF('0리'!$Q$7:$Q$501,"차국",'0리'!$E$7:$E$501) -> 0 | H52: =COUNTIF('0리'!$Q$7:$Q$501,"차공") -> 0 | I52: / | J52: =SUMIF('0리'!$Q$7:$Q$501,"차공",'0리'!$E$7:$E$501) -> 0 | K52: =B52-E52-H52 -> 0 | L52: / | M52: =D52-G52-J52 -> 0
A53: 잡종지 | B53: =COUNTIF('0리'!$C$7:$C$501,"잡") -> 0 | C53: / | D53: =SUMIF('0리'!$C$7:$C$501,"잡",'0리'!$E$7:$E$501) -> 0 | E53: =COUNTIF('0리'!$Q$7:$Q$501,"잡국") -> 0 | F53: / | G53: =SUMIF('0리'!$Q$7:$Q$501,"잡국",'0리'!$E$7:$E$501) -> 0 | H53: =COUNTIF('0리'!$Q$7:$Q$501,"잡공") -> 0 | I53: / | J53: =SUMIF('0리'!$Q$7:$Q$501,"잡공",'0리'!$E$7:$E$501) -> 0 | K53: =B53-E53-H53 -> 0 | L53: / | M53: =D53-G53-J53 -> 0
A54: 종교 | B54: =COUNTIF('0리'!$C$7:$C$501,"종") -> 0 | C54: / | D54: =SUMIF('0리'!$C$7:$C$501,"종",'0리'!$E$7:$E$501) -> 0 | E54: =COUNTIF('0리'!$Q$7:$Q$501,"종국") -> 0 | F54: / | G54: =SUMIF('0리'!$Q$7:$Q$501,"종국",'0리'!$E$7:$E$501) -> 0 | H54: =COUNTIF('0리'!$Q$7:$Q$501,"종공") -> 0 | I54: / | J54: =SUMIF('0리'!$Q$7:$Q$501,"종공",'0리'!$E$7:$E$501) -> 0 | K54: =B54-E54-H54 -> 0 | L54: / | M54: =D54-G54-J54 -> 0
A55: 주유소 | B55: =COUNTIF('0리'!$C$7:$C$501,"주") -> 0 | C55: / | D55: =SUMIF('0리'!$C$7:$C$501,"주",'0리'!$E$7:$E$501) -> 0 | E55: =COUNTIF('0리'!$Q$7:$Q$501,"주국") -> 0 | F55: / | G55: =SUMIF('0리'!$Q$7:$Q$501,"주국",'0리'!$E$7:$E$501) -> 0 | H55: =COUNTIF('0리'!$Q$7:$Q$501,"주공") -> 0 | I55: / | J55: =SUMIF('0리'!$Q$7:$Q$501,"주공",'0리'!$E$7:$E$501) -> 0 | K55: =B55-E55-H55 -> 0 | L55: / | M55: =D55-G55-J55 -> 0
A56: 공원 | B56: =COUNTIF('0리'!$C$7:$C$501,"공") -> 0 | C56: / | D56: =SUMIF('0리'!$C$7:$C$501,"공",'0리'!$E$7:$E$501) -> 0 | E56: =COUNTIF('0리'!$Q$7:$Q$501,"공국") -> 0 | F56: / | G56: =SUMIF('0리'!$Q$7:$Q$501,"공국",'0리'!$E$7:$E$501) -> 0 | H56: =COUNTIF('0리'!$Q$7:$Q$501,"공공") -> 0 | I56: / | J56: =SUMIF('0리'!$Q$7:$Q$501,"공공",'0리'!$E$7:$E$501) -> 0 | K56: =B56-E56-H56 -> 0 | L56: / | M56: =D56-G56-J56 -> 0
A57: 체육 | B57: =COUNTIF('0리'!$C$7:$C$501,"체") -> 0 | C57: / | D57: =SUMIF('0리'!$C$7:$C$501,"체",'0리'!$E$7:$E$501) -> 0 | E57: =COUNTIF('0리'!$Q$7:$Q$501,"체국") -> 0 | F57: / | G57: =SUMIF('0리'!$Q$7:$Q$501,"체국",'0리'!$E$7:$E$501) -> 0 | H57: =COUNTIF('0리'!$Q$7:$Q$501,"체공") -> 0 | I57: / | J57: =SUMIF('0리'!$Q$7:$Q$501,"체공",'0리'!$E$7:$E$501) -> 0 | K57: =B57-E57-H57 -> 0 | L57: / | M57: =D57-G57-J57 -> 0
A58: 유원지 | B58: =COUNTIF('0리'!$C$7:$C$501,"원") -> 0 | C58: / | D58: =SUMIF('0리'!$C$7:$C$501,"원",'0리'!$E$7:$E$501) -> 0 | E58: =COUNTIF('0리'!$Q$7:$Q$501,"원국") -> 0 | F58: / | G58: =SUMIF('0리'!$Q$7:$Q$501,"원국",'0리'!$E$7:$E$501) -> 0 | H58: =COUNTIF('0리'!$Q$7:$Q$501,"원공") -> 0 | I58: / | J58: =SUMIF('0리'!$Q$7:$Q$501,"원공",'0리'!$E$7:$E$501) -> 0 | K58: =B58-E58-H58 -> 0 | L58: / | M58: =D58-G58-J58 -> 0
A59: 수도용지 | B59: =COUNTIF('0리'!$C$7:$C$501,"수") -> 0 | C59: / | D59: =SUMIF('0리'!$C$7:$C$501,"수",'0리'!$E$7:$E$501) -> 0 | E59: =COUNTIF('0리'!$Q$7:$Q$501,"수국") -> 0 | F59: / | G59: =SUMIF('0리'!$Q$7:$Q$501,"수국",'0리'!$E$7:$E$501) -> 0 | H59: =COUNTIF('0리'!$Q$7:$Q$501,"수공") -> 0 | I59: / | J59: =SUMIF('0리'!$Q$7:$Q$501,"수공",'0리'!$E$7:$E$501) -> 0 | K59: =B59-E59-H59 -> 0 | L59: / | M59: =D59-G59-J59 -> 0
A60: 창 고 | B60: =COUNTIF('0리'!$C$7:$C$501,"창") -> 0 | C60: / | D60: =SUMIF('0리'!$C$7:$C$501,"창",'0리'!$E$7:$E$501) -> 0 | E60: =COUNTIF('0리'!$Q$7:$Q$501,"창국") -> 0 | F60: / | G60: =SUMIF('0리'!$Q$7:$Q$501,"창국",'0리'!$E$7:$E$501) -> 0 | H60: =COUNTIF('0리'!$Q$7:$Q$501,"창공") -> 0 | I60: / | J60: =SUMIF('0리'!$Q$7:$Q$501,"창공",'0리'!$E$7:$E$501) -> 0 | K60: =B60-E60-H60 -> 0 | L60: / | M60: =D60-G60-J60 -> 0
A61: 무 지 번 | B61: =COUNTIF('0리'!$C$7:$C$501,"가") -> 0 | C61: / | D61: =SUMIF('0리'!$C$7:$C$501,"가",'0리'!$E$7:$E$501) -> 0 | E61: =COUNTIF('0리'!$Q$7:$Q$501,"국") -> 0 | F61: / | G61: =SUMIF('0리'!$Q$7:$Q$501,"국",'0리'!$E$7:$E$501) -> 0 | H61: =COUNTIF('0리'!$Q$7:$Q$501,"공") -> 0 | I61: / | J61: =SUMIF('0리'!$Q$7:$Q$501,"공",'0리'!$E$7:$E$501) -> 0 | K61: =B61-E61-H61 -> 0 | L61: / | M61: =D61-G61-J61 -> 0
A62: =IF(EXACT(O66,O67),,"검산확인요!!!") -> 0 | K62: =IF(ISBLANK('00리'!H3),,'00리'!H3) -> 경상북도 예천군 용궁면 월오리
A64: 구분 | B64: 계 | E64: 국 유 지 | H64: 공 유 지 | K64: 사 유 지 | N64: 비고
B65: 필지 | C65: / | D65: 면 적 (㎡) | E65: 필지 | F65: / | G65: 면 적 (㎡) | H65: 필지 | I65: / | J65: 면 적 (㎡) | K65: 필지 | L65: / | M65: 면 적 (㎡) | Q65: 총계 | R65: 국유지 | S65: 사유지 | T65: 국유지+사유지
A66: 계 | B66: =SUM(B67:B91) -> 0 | C66: / | D66: =SUM(D67:D91) -> 0 | E66: =SUM(E67:E91) -> 0 | F66: / | G66: =SUM(G67:G91) -> 0 | H66: =SUM(H67:H91) -> 0 | I66: / | J66: =SUM(J67:J91) -> 0 | K66: =SUM(K67:K91) -> 0 | L66: / | M66: =SUM(M67:M91) -> 0 | O66: =IF(EXACT(Q66,T66),"맞음","틀림") -> 맞음 | P66: 필지 | Q66: =SUM(B67:B91) -> 0 | R66: =SUM(E67:E91) -> 0 | S66: =SUM(K67:K91) -> 0 | T66: =K66+E66 -> 0
A67: 전 | B67: =COUNTIF('00리'!$C$7:$C$501,"전") -> 0 | C67: / | D67: =SUMIF('00리'!$C$7:$C$501,"전",'00리'!$E$7:$E$501) -> 0 | E67: =COUNTIF('00리'!$Q$7:$Q$501,"전국") -> 0 | F67: / | G67: =SUMIF('00리'!$Q$7:$Q$501,"전국",'00리'!$E$7:$E$501) -> 0 | H67: =COUNTIF('00리'!$Q$7:$Q$501,"전공") -> 0 | I67: / | J67: =SUMIF('00리'!$Q$7:$Q$501,"전공",'00리'!$E$7:$E$501) -> 0 | K67: =B67-E67-H67 -> 0 | L67: / | M67: =D67-G67-J67 -> 0 | O67: =IF(EXACT(Q67,T67),"맞음","틀림") -> 맞음 | P67: 면적 | Q67: =SUM(D67:D91) -> 0 | R67: =SUM(G67:G91) -> 0 | S67: =SUM(M67:M91) -> 0 | T67: =G66+M66 -> 0
A68: 답 | B68: =COUNTIF('00리'!$C$7:$C$501,"답") -> 0 | C68: / | D68: =SUMIF('00리'!$C$7:$C$501,"답",'00리'!$E$7:$E$501) -> 0 | E68: =COUNTIF('00리'!$Q$7:$Q$501,"답국") -> 0 | F68: / | G68: =SUMIF('00리'!$Q$7:$Q$501,"답국",'00리'!$E$7:$E$501) -> 0 | H68: =COUNTIF('00리'!$Q$7:$Q$501,"답공") -> 0 | I68: / | J68: =SUMIF('00리'!$Q$7:$Q$501,"답공",'00리'!$E$7:$E$501) -> 0 | K68: =B68-E68-H68 -> 0 | L68: / | M68: =D68-G68-J68 -> 0
A69: 임야 | B69: =COUNTIF('00리'!$C$7:$C$501,"임") -> 0 | C69: / | D69: =SUMIF('00리'!$C$7:$C$501,"임",'00리'!$E$7:$E$501) -> 0 | E69: =COUNTIF('00리'!$Q$7:$Q$501,"임국") -> 0 | F69: / | G69: =SUMIF('00리'!$Q$7:$Q$501,"임국",'00리'!$E$7:$E$501) -> 0 | H69: =COUNTIF('00리'!$Q$7:$Q$501,"임공") -> 0 | I69: / | J69: =SUMIF('00리'!$Q$7:$Q$501,"임공",'00리'!$E$7:$E$501) -> 0 | K69: =B69-E69-H69 -> 0 | L69: / | M69: =D69-G69-J69 -> 0
A70: 대지 | B70: =COUNTIF('00리'!$C$7:$C$501,"대") -> 0 | C70: / | D70: =SUMIF('00리'!$C$7:$C$501,"대",'00리'!$E$7:$E$501) -> 0 | E70: =COUNTIF('00리'!$Q$7:$Q$501,"대국") -> 0 | F70: / | G70: =SUMIF('00리'!$Q$7:$Q$501,"대국",'00리'!$E$7:$E$501) -> 0 | H70: =COUNTIF('00리'!$Q$7:$Q$501,"대공") -> 0 | I70: / | J70: =SUMIF('00리'!$Q$7:$Q$501,"대공",'00리'!$E$7:$E$501) -> 0 | K70: =B70-E70-H70 -> 0 | L70: / | M70: =D70-G70-J70 -> 0
A71: 도로 | B71: =COUNTIF('00리'!$C$7:$C$501,"도") -> 0 | C71: / | D71: =SUMIF('00리'!$C$7:$C$501,"도",'00리'!$E$7:$E$501) -> 0 | E71: =COUNTIF('00리'!$Q$7:$Q$501,"도국") -> 0 | F71: / | G71: =SUMIF('00리'!$Q$7:$Q$501,"도국",'00리'!$E$7:$E$501) -> 0 | H71: =COUNTIF('00리'!$Q$7:$Q$501,"도공") -> 0 | I71: / | J71: =SUMIF('00리'!$Q$7:$Q$501,"도공",'00리'!$E$7:$E$501) -> 0 | K71: =B71-E71-H71 -> 0 | L71: / | M71: =D71-G71-J71 -> 0
A72: 구거 | B72: =COUNTIF('00리'!$C$7:$C$501,"구") -> 0 | C72: / | D72: =SUMIF('00리'!$C$7:$C$501,"구",'00리'!$E$7:$E$501) -> 0 | E72: =COUNTIF('00리'!$Q$7:$Q$501,"구국") -> 0 | F72: / | G72: =SUMIF('00리'!$Q$7:$Q$501,"구국",'00리'!$E$7:$E$501) -> 0 | H72: =COUNTIF('00리'!$Q$7:$Q$501,"구공") -> 0 | I72: / | J72: =SUMIF('00리'!$Q$7:$Q$501,"구공",'00리'!$E$7:$E$501) -> 0 | K72: =B72-E72-H72 -> 0 | L72: / | M72: =D72-G72-J72 -> 0
A73: 하천 | B73: =COUNTIF('00리'!$C$7:$C$501,"천") -> 0 | C73: / | D73: =SUMIF('00리'!$C$7:$C$501,"천",'00리'!$E$7:$E$501) -> 0 | E73: =COUNTIF('00리'!$Q$7:$Q$501,"천국") -> 0 | F73: / | G73: =SUMIF('00리'!$Q$7:$Q$501,"천국",'00리'!$E$7:$E$501) -> 0 | H73: =COUNTIF('00리'!$Q$7:$Q$501,"천공") -> 0 | I73: / | J73: =SUMIF('00리'!$Q$7:$Q$501,"천공",'00리'!$E$7:$E$501) -> 0 | K73: =B73-E73-H73 -> 0 | L73: / | M73: =D73-G73-J73 -> 0
A74: 유지 | B74: =COUNTIF('00리'!$C$7:$C$501,"유") -> 0 | C74: / | D74: =SUMIF('00리'!$C$7:$C$501,"유",'00리'!$E$7:$E$501) -> 0 | E74: =COUNTIF('00리'!$Q$7:$Q$501,"유국") -> 0 | F74: / | G74: =SUMIF('00리'!$Q$7:$Q$501,"유국",'00리'!$E$7:$E$501) -> 0 | H74: =COUNTIF('00리'!$Q$7:$Q$501,"유공") -> 0 | I74: / | J74: =SUMIF('00리'!$Q$7:$Q$501,"유공",'00리'!$E$7:$E$501) -> 0 | K74: =B74-E74-H74 -> 0 | L74: / | M74: =D74-G74-J74 -> 0
A75: 제방 | B75: =COUNTIF('00리'!$C$7:$C$501,"제") -> 0 | C75: / | D75: =SUMIF('00리'!$C$7:$C$501,"제",'00리'!$E$7:$E$501) -> 0 | E75: =COUNTIF('00리'!$Q$7:$Q$501,"제국") -> 0 | F75: / | G75: =SUMIF('00리'!$Q$7:$Q$501,"제국",'00리'!$E$7:$E$501) -> 0 | H75: =COUNTIF('00리'!$Q$7:$Q$501,"제공") -> 0 | I75: / | J75: =SUMIF('00리'!$Q$7:$Q$501,"제공",'00리'!$E$7:$E$501) -> 0 | K75: =B75-E75-H75 -> 0 | L75: / | M75: =D75-G75-J75 -> 0
A76: 과수원 | B76: =COUNTIF('00리'!$C$7:$C$501,"과") -> 0 | C76: / | D76: =SUMIF('00리'!$C$7:$C$501,"과",'00리'!$E$7:$E$501) -> 0 | E76: =COUNTIF('00리'!$Q$7:$Q$501,"과국") -> 0 | F76: / | G76: =SUMIF('00리'!$Q$7:$Q$501,"과국",'00리'!$E$7:$E$501) -> 0 | H76: =COUNTIF('00리'!$Q$7:$Q$501,"과공") -> 0 | I76: / | J76: =SUMIF('00리'!$Q$7:$Q$501,"과공",'00리'!$E$7:$E$501) -> 0 | K76: =B76-E76-H76 -> 0 | L76: / | M76: =D76-G76-J76 -> 0
A77: 공장 | B77: =COUNTIF('00리'!$C$7:$C$501,"장") -> 0 | C77: / | D77: =SUMIF('00리'!$C$7:$C$501,"장",'00리'!$E$7:$E$501) -> 0 | E77: =COUNTIF('00리'!$Q$7:$Q$501,"장국") -> 0 | F77: / | G77: =SUMIF('00리'!$Q$7:$Q$501,"장국",'00리'!$E$7:$E$501) -> 0 | H77: =COUNTIF('00리'!$Q$7:$Q$501,"장공") -> 0 | I77: / | J77: =SUMIF('00리'!$Q$7:$Q$501,"장공",'00리'!$E$7:$E$501) -> 0 | K77: =B77-E77-H77 -> 0 | L77: / | M77: =D77-G77-J77 -> 0
A78: 목장 | B78: =COUNTIF('00리'!$C$7:$C$501,"목") -> 0 | C78: / | D78: =SUMIF('00리'!$C$7:$C$501,"목",'00리'!$E$7:$E$501) -> 0 | E78: =COUNTIF('00리'!$Q$7:$Q$501,"목국") -> 0 | F78: / | G78: =SUMIF('00리'!$Q$7:$Q$501,"목국",'00리'!$E$7:$E$501) -> 0 | H78: =COUNTIF('00리'!$Q$7:$Q$501,"목공") -> 0 | I78: / | J78: =SUMIF('00리'!$Q$7:$Q$501,"목공",'00리'!$E$7:$E$501) -> 0 | K78: =B78-E78-H78 -> 0 | L78: / | M78: =D78-G78-J78 -> 0
A79: 학교용지 | B79: =COUNTIF('00리'!$C$7:$C$501,"학") -> 0 | C79: / | D79: =SUMIF('00리'!$C$7:$C$501,"학",'00리'!$E$7:$E$501) -> 0 | E79: =COUNTIF('00리'!$Q$7:$Q$501,"학국") -> 0 | F79: / | G79: =SUMIF('00리'!$Q$7:$Q$501,"학국",'00리'!$E$7:$E$501) -> 0 | H79: =COUNTIF('00리'!$Q$7:$Q$501,"학공") -> 0 | I79: / | J79: =SUMIF('00리'!$Q$7:$Q$501,"학공",'00리'!$E$7:$E$501) -> 0 | K79: =B79-E79-H79 -> 0 | L79: / | M79: =D79-G79-J79 -> 0
A80: 철도 | B80: =COUNTIF('00리'!$C$7:$C$501,"철") -> 0 | C80: / | D80: =SUMIF('00리'!$C$7:$C$501,"철",'00리'!$E$7:$E$501) -> 0 | E80: =COUNTIF('00리'!$Q$7:$Q$501,"철국") -> 0 | F80: / | G80: =SUMIF('00리'!$Q$7:$Q$501,"철국",'00리'!$E$7:$E$501) -> 0 | H80: =COUNTIF('00리'!$Q$7:$Q$501,"철공") -> 0 | I80: / | J80: =SUMIF('00리'!$Q$7:$Q$501,"철공",'00리'!$E$7:$E$501) -> 0 | K80: =B80-E80-H80 -> 0 | L80: / | M80: =D80-G80-J80 -> 0
A81: 묘지 | B81: =COUNTIF('00리'!$C$7:$C$501,"묘") -> 0 | C81: / | D81: =SUMIF('00리'!$C$7:$C$501,"묘",'00리'!$E$7:$E$501) -> 0 | E81: =COUNTIF('00리'!$Q$7:$Q$501,"묘국") -> 0 | F81: / | G81: =SUMIF('00리'!$Q$7:$Q$501,"묘국",'00리'!$E$7:$E$501) -> 0 | H81: =COUNTIF('00리'!$Q$7:$Q$501,"묘공") -> 0 | I81: / | J81: =SUMIF('00리'!$Q$7:$Q$501,"묘공",'00리'!$E$7:$E$501) -> 0 | K81: =B81-E81-H81 -> 0 | L81: / | M81: =D81-G81-J81 -> 0
A82: 주차장 | B82: =COUNTIF('00리'!$C$7:$C$501,"차") -> 0 | C82: / | D82: =SUMIF('00리'!$C$7:$C$501,"차",'00리'!$E$7:$E$501) -> 0 | E82: =COUNTIF('00리'!$Q$7:$Q$501,"차국") -> 0 | F82: / | G82: =SUMIF('00리'!$Q$7:$Q$501,"차국",'00리'!$E$7:$E$501) -> 0 | H82: =COUNTIF('00리'!$Q$7:$Q$501,"차공") -> 0 | I82: / | J82: =SUMIF('00리'!$Q$7:$Q$501,"차공",'00리'!$E$7:$E$501) -> 0 | K82: =B82-E82-H82 -> 0 | L82: / | M82: =D82-G82-J82 -> 0
A83: 잡종지 | B83: =COUNTIF('00리'!$C$7:$C$501,"잡") -> 0 | C83: / | D83: =SUMIF('00리'!$C$7:$C$501,"잡",'00리'!$E$7:$E$501) -> 0 | E83: =COUNTIF('00리'!$Q$7:$Q$501,"잡국") -> 0 | F83: / | G83: =SUMIF('00리'!$Q$7:$Q$501,"잡국",'00리'!$E$7:$E$501) -> 0 | H83: =COUNTIF('00리'!$Q$7:$Q$501,"잡공") -> 0 | I83: / | J83: =SUMIF('00리'!$Q$7:$Q$501,"잡공",'00리'!$E$7:$E$501) -> 0 | K83: =B83-E83-H83 -> 0 | L83: / | M83: =D83-G83-J83 -> 0
A84: 종교 | B84: =COUNTIF('00리'!$C$7:$C$501,"종") -> 0 | C84: / | D84: =SUMIF('00리'!$C$7:$C$501,"종",'00리'!$E$7:$E$501) -> 0 | E84: =COUNTIF('00리'!$Q$7:$Q$501,"종국") -> 0 | F84: / | G84: =SUMIF('00리'!$Q$7:$Q$501,"종국",'00리'!$E$7:$E$501) -> 0 | H84: =COUNTIF('00리'!$Q$7:$Q$501,"종공") -> 0 | I84: / | J84: =SUMIF('00리'!$Q$7:$Q$501,"종공",'00리'!$E$7:$E$501) -> 0 | K84: =B84-E84-H84 -> 0 | L84: / | M84: =D84-G84-J84 -> 0
A85: 주유소 | B85: =COUNTIF('00리'!$C$7:$C$501,"주") -> 0 | C85: / | D85: =SUMIF('00리'!$C$7:$C$501,"주",'00리'!$E$7:$E$501) -> 0 | E85: =COUNTIF('00리'!$Q$7:$Q$501,"주국") -> 0 | F85: / | G85: =SUMIF('00리'!$Q$7:$Q$501,"주국",'00리'!$E$7:$E$501) -> 0 | H85: =COUNTIF('00리'!$Q$7:$Q$501,"주공") -> 0 | I85: / | J85: =SUMIF('00리'!$Q$7:$Q$501,"주공",'00리'!$E$7:$E$501) -> 0 | K85: =B85-E85-H85 -> 0 | L85: / | M85: =D85-G85-J85 -> 0
A86: 공원 | B86: =COUNTIF('00리'!$C$7:$C$501,"공") -> 0 | C86: / | D86: =SUMIF('00리'!$C$7:$C$501,"공",'00리'!$E$7:$E$501) -> 0 | E86: =COUNTIF('00리'!$Q$7:$Q$501,"공국") -> 0 | F86: / | G86: =SUMIF('00리'!$Q$7:$Q$501,"공국",'00리'!$E$7:$E$501) -> 0 | H86: =COUNTIF('00리'!$Q$7:$Q$501,"공공") -> 0 | I86: / | J86: =SUMIF('00리'!$Q$7:$Q$501,"공공",'00리'!$E$7:$E$501) -> 0 | K86: =B86-E86-H86 -> 0 | L86: / | M86: =D86-G86-J86 -> 0
A87: 체육 | B87: =COUNTIF('00리'!$C$7:$C$501,"체") -> 0 | C87: / | D87: =SUMIF('00리'!$C$7:$C$501,"체",'00리'!$E$7:$E$501) -> 0 | E87: =COUNTIF('00리'!$Q$7:$Q$501,"체국") -> 0 | F87: / | G87: =SUMIF('00리'!$Q$7:$Q$501,"체국",'00리'!$E$7:$E$501) -> 0 | H87: =COUNTIF('00리'!$Q$7:$Q$501,"체공") -> 0 | I87: / | J87: =SUMIF('00리'!$Q$7:$Q$501,"체공",'00리'!$E$7:$E$501) -> 0 | K87: =B87-E87-H87 -> 0 | L87: / | M87: =D87-G87-J87 -> 0
A88: 유원지 | B88: =COUNTIF('00리'!$C$7:$C$501,"원") -> 0 | C88: / | D88: =SUMIF('00리'!$C$7:$C$501,"원",'00리'!$E$7:$E$501) -> 0 | E88: =COUNTIF('00리'!$Q$7:$Q$501,"원국") -> 0 | F88: / | G88: =SUMIF('00리'!$Q$7:$Q$501,"원국",'00리'!$E$7:$E$501) -> 0 | H88: =COUNTIF('00리'!$Q$7:$Q$501,"원공") -> 0 | I88: / | J88: =SUMIF('00리'!$Q$7:$Q$501,"원공",'00리'!$E$7:$E$501) -> 0 | K88: =B88-E88-H88 -> 0 | L88: / | M88: =D88-G88-J88 -> 0
A89: 수도용지 | B89: =COUNTIF('00리'!$C$7:$C$501,"수") -> 0 | C89: / | D89: =SUMIF('00리'!$C$7:$C$501,"수",'00리'!$E$7:$E$501) -> 0 | E89: =COUNTIF('00리'!$Q$7:$Q$501,"수국") -> 0 | F89: / | G89: =SUMIF('00리'!$Q$7:$Q$501,"수국",'00리'!$E$7:$E$501) -> 0 | H89: =COUNTIF('00리'!$Q$7:$Q$501,"수공") -> 0 | I89: / | J89: =SUMIF('00리'!$Q$7:$Q$501,"수공",'00리'!$E$7:$E$501) -> 0 | K89: =B89-E89-H89 -> 0 | L89: / | M89: =D89-G89-J89 -> 0
A90: 창 고 | B90: =COUNTIF('00리'!$C$7:$C$501,"창") -> 0 | C90: / | D90: =SUMIF('00리'!$C$7:$C$501,"창",'00리'!$E$7:$E$501) -> 0 | E90: =COUNTIF('00리'!$Q$7:$Q$501,"창국") -> 0 | F90: / | G90: =SUMIF('00리'!$Q$7:$Q$501,"창국",'00리'!$E$7:$E$501) -> 0 | H90: =COUNTIF('00리'!$Q$7:$Q$501,"창공") -> 0 | I90: / | J90: =SUMIF('00리'!$Q$7:$Q$501,"창공",'00리'!$E$7:$E$501) -> 0 | K90: =B90-E90-H90 -> 0 | L90: / | M90: =D90-G90-J90 -> 0
A91: 무 지 번 | B91: =COUNTIF('00리'!$C$7:$C$501,"가") -> 0 | C91: / | D91: =SUMIF('00리'!$C$7:$C$501,"가",'00리'!$E$7:$E$501) -> 0 | E91: =COUNTIF('00리'!$Q$7:$Q$501,"국") -> 0 | F91: / | G91: =SUMIF('00리'!$Q$7:$Q$501,"국",'00리'!$E$7:$E$501) -> 0 | H91: =COUNTIF('00리'!$Q$7:$Q$501,"공") -> 0 | I91: / | J91: =SUMIF('00리'!$Q$7:$Q$501,"공",'00리'!$E$7:$E$501) -> 0 | K91: =B91-E91-H91 -> 0 | L91: / | M91: =D91-G91-J91 -> 0
A92: =IF(EXACT(O96,O97),,"검산확인요!!!") -> 0 | K92: =IF(ISBLANK('001'!H3),,'001'!H3) -> 경상북도 예천군 개포면 장송리
A94: 구분 | B94: 계 | E94: 국 유 지 | H94: 공 유 지 | K94: 사 유 지 | N94: 비고
B95: 필지 | C95: / | D95: 면 적 (㎡) | E95: 필지 | F95: / | G95: 면 적 (㎡) | H95: 필지 | I95: / | J95: 면 적 (㎡) | K95: 필지 | L95: / | M95: 면 적 (㎡) | Q95: 총계 | R95: 국유지 | S95: 사유지 | T95: 국유지+사유지
A96: 계 | B96: =SUM(B97:B121) -> 0 | C96: / | D96: =SUM(D97:D121) -> 0 | E96: =SUM(E97:E121) -> 0 | F96: / | G96: =SUM(G97:G121) -> 0 | H96: =SUM(H97:H121) -> 0 | I96: / | J96: =SUM(J97:J121) -> 0 | K96: =SUM(K97:K121) -> 0 | L96: / | M96: =SUM(M97:M121) -> 0 | O96: =IF(EXACT(Q96,T96),"맞음","틀림") -> 맞음 | P96: 필지 | Q96: =SUM(B97:B121) -> 0 | R96: =SUM(E97:E121) -> 0 | S96: =SUM(K97:K121) -> 0 | T96: =K96+E96 -> 0
A97: 전 | B97: =COUNTIF('001'!$C$7:$C$677,"전") -> 0 | C97: / | D97: =SUMIF('001'!$C$7:$C$677,"전",'001'!$E$7:$E$677) -> 0 | E97: =COUNTIF('001'!$Q$7:$Q$677,"전국") -> 0 | F97: / | G97: =SUMIF('001'!$Q$7:$Q$677,"전국",'001'!$E$7:$E$677) -> 0 | H97: =COUNTIF('001'!$Q$7:$Q$677,"전공") -> 0 | I97: / | J97: =SUMIF('001'!$Q$7:$Q$677,"전공",'001'!$E$7:$E$677) -> 0 | K97: =B97-E97-H97 -> 0 | L97: / | M97: =D97-G97-J97 -> 0 | O97: =IF(EXACT(Q97,T97),"맞음","틀림") -> 맞음 | P97: 면적 | Q97: =SUM(D97:D121) -> 0 | R97: =SUM(G97:G121) -> 0 | S97: =SUM(M97:M121) -> 0 | T97: =G96+M96 -> 0
A98: 답 | B98: =COUNTIF('001'!$C$7:$C$677,"답") -> 0 | C98: / | D98: =SUMIF('001'!$C$7:$C$677,"답",'001'!$E$7:$E$677) -> 0 | E98: =COUNTIF('001'!$Q$7:$Q$677,"답국") -> 0 | F98: / | G98: =SUMIF('001'!$Q$7:$Q$677,"답국",'001'!$E$7:$E$677) -> 0 | H98: =COUNTIF('001'!$Q$7:$Q$677,"답공") -> 0 | I98: / | J98: =SUMIF('001'!$Q$7:$Q$677,"답공",'001'!$E$7:$E$677) -> 0 | K98: =B98-E98-H98 -> 0 | L98: / | M98: =D98-G98-J98 -> 0
A99: 임야 | B99: =COUNTIF('001'!$C$7:$C$677,"임") -> 0 | C99: / | D99: =SUMIF('001'!$C$7:$C$677,"임",'001'!$E$7:$E$677) -> 0 | E99: =COUNTIF('001'!$Q$7:$Q$677,"임국") -> 0 | F99: / | G99: =SUMIF('001'!$Q$7:$Q$677,"임국",'001'!$E$7:$E$677) -> 0 | H99: =COUNTIF('001'!$Q$7:$Q$677,"임공") -> 0 | I99: / | J99: =SUMIF('001'!$Q$7:$Q$677,"임공",'001'!$E$7:$E$677) -> 0 | K99: =B99-E99-H99 -> 0 | L99: / | M99: =D99-G99-J99 -> 0
A100: 대지 | B100: =COUNTIF('001'!$C$7:$C$677,"대") -> 0 | C100: / | D100: =SUMIF('001'!$C$7:$C$677,"대",'001'!$E$7:$E$677) -> 0 | E100: =COUNTIF('001'!$Q$7:$Q$677,"대국") -> 0 | F100: / | G100: =SUMIF('001'!$Q$7:$Q$677,"대국",'001'!$E$7:$E$677) -> 0 | H100: =COUNTIF('001'!$Q$7:$Q$677,"대공") -> 0 | I100: / | J100: =SUMIF('001'!$Q$7:$Q$677,"대공",'001'!$E$7:$E$677) -> 0 | K100: =B100-E100-H100 -> 0 | L100: / | M100: =D100-G100-J100 -> 0
A101: 도로 | B101: =COUNTIF('001'!$C$7:$C$677,"도") -> 0 | C101: / | D101: =SUMIF('001'!$C$7:$C$677,"도",'001'!$E$7:$E$677) -> 0 | E101: =COUNTIF('001'!$Q$7:$Q$677,"도국") -> 0 | F101: / | G101: =SUMIF('001'!$Q$7:$Q$677,"도국",'001'!$E$7:$E$677) -> 0 | H101: =COUNTIF('001'!$Q$7:$Q$677,"도공") -> 0 | I101: / | J101: =SUMIF('001'!$Q$7:$Q$677,"도공",'001'!$E$7:$E$677) -> 0 | K101: =B101-E101-H101 -> 0 | L101: / | M101: =D101-G101-J101 -> 0
A102: 구거 | B102: =COUNTIF('001'!$C$7:$C$677,"구") -> 0 | C102: / | D102: =SUMIF('001'!$C$7:$C$677,"구",'001'!$E$7:$E$677) -> 0 | E102: =COUNTIF('001'!$Q$7:$Q$677,"구국") -> 0 | F102: / | G102: =SUMIF('001'!$Q$7:$Q$677,"구국",'001'!$E$7:$E$677) -> 0 | H102: =COUNTIF('001'!$Q$7:$Q$677,"구공") -> 0 | I102: / | J102: =SUMIF('001'!$Q$7:$Q$677,"구공",'001'!$E$7:$E$677) -> 0 | K102: =B102-E102-H102 -> 0 | L102: / | M102: =D102-G102-J102 -> 0
A103: 하천 | B103: =COUNTIF('001'!$C$7:$C$677,"천") -> 0 | C103: / | D103: =SUMIF('001'!$C$7:$C$677,"천",'001'!$E$7:$E$677) -> 0 | E103: =COUNTIF('001'!$Q$7:$Q$677,"천국") -> 0 | F103: / | G103: =SUMIF('001'!$Q$7:$Q$677,"천국",'001'!$E$7:$E$677) -> 0 | H103: =COUNTIF('001'!$Q$7:$Q$677,"천공") -> 0 | I103: / | J103: =SUMIF('001'!$Q$7:$Q$677,"천공",'001'!$E$7:$E$677) -> 0 | K103: =B103-E103-H103 -> 0 | L103: / | M103: =D103-G103-J103 -> 0
A104: 유지 | B104: =COUNTIF('001'!$C$7:$C$677,"유") -> 0 | C104: / | D104: =SUMIF('001'!$C$7:$C$677,"유",'001'!$E$7:$E$677) -> 0 | E104: =COUNTIF('001'!$Q$7:$Q$677,"유국") -> 0 | F104: / | G104: =SUMIF('001'!$Q$7:$Q$677,"유국",'001'!$E$7:$E$677) -> 0 | H104: =COUNTIF('001'!$Q$7:$Q$677,"유공") -> 0 | I104: / | J104: =SUMIF('001'!$Q$7:$Q$677,"유공",'001'!$E$7:$E$677) -> 0 | K104: =B104-E104-H104 -> 0 | L104: / | M104: =D104-G104-J104 -> 0
...

Sheet 진도군전체집계표
A1: 진도군 용지 집계표
A3: 구 분 | B3: 총 계 | E3: 전남 진도군 의신면 | K3: 비 고
E4: 만길리 | H4: 거룡리
B5: 필지 | C5: / | D5: 면적(㎡) | E5: 필지 | F5: / | G5: 면적(㎡) | H5: 필지 | I5: / | J5: 면적(㎡)
A6: 계 | B6: =SUM(B7:B31) -> 48 | C6: / | D6: =SUM(D7:D31) -> 8911 | E6: =SUM(E7:E31) -> 7 | F6: / | G6: =SUM(G7:G31) -> 1152 | H6: =SUM(H7:H31) -> 41 | I6: / | J6: =SUM(J7:J31) -> 7759
A7: 전 | B7: =E7+H7 -> 5 | C7: / | D7: =G7+J7 -> 1122 | E7: =편입집계표!$B7 -> 4 | F7: / | G7: =편입집계표!$D7 -> 689 | H7: =편입집계표!$B37 -> 1 | I7: / | J7: =편입집계표!$D37 -> 433
A8: 답 | B8: =E8+H8 -> 16 | C8: / | D8: =G8+J8 -> 4592 | E8: =편입집계표!$B8 -> 0 | F8: / | G8: =편입집계표!$D8 -> 0 | H8: =편입집계표!$B38 -> 16 | I8: / | J8: =편입집계표!$D38 -> 4592
A9: 임야 | B9: =E9+H9 -> 2 | C9: / | D9: =G9+J9 -> 447 | E9: =편입집계표!$B9 -> 2 | F9: / | G9: =편입집계표!$D9 -> 447 | H9: =편입집계표!$B39 -> 0 | I9: / | J9: =편입집계표!$D39 -> 0
A10: 대지 | B10: =E10+H10 -> 0 | C10: / | D10: =G10+J10 -> 0 | E10: =편입집계표!$B10 -> 0 | F10: / | G10: =편입집계표!$D10 -> 0 | H10: =편입집계표!$B40 -> 0 | I10: / | J10: =편입집계표!$D40 -> 0
A11: 도로 | B11: =E11+H11 -> 18 | C11: / | D11: =G11+J11 -> 1692 | E11: =편입집계표!$B11 -> 1 | F11: / | G11: =편입집계표!$D11 -> 16 | H11: =편입집계표!$B41 -> 17 | I11: / | J11: =편입집계표!$D41 -> 1676
A12: 구거 | B12: =E12+H12 -> 7 | C12: / | D12: =G12+J12 -> 1058 | E12: =편입집계표!$B12 -> 0 | F12: / | G12: =편입집계표!$D12 -> 0 | H12: =편입집계표!$B42 -> 7 | I12: / | J12: =편입집계표!$D42 -> 1058
A13: 하천 | B13: =E13+H13 -> 0 | C13: / | D13: =G13+J13 -> 0 | E13: =편입집계표!$B13 -> 0 | F13: / | G13: =편입집계표!$D13 -> 0 | H13: =편입집계표!$B43 -> 0 | I13: / | J13: =편입집계표!$D43 -> 0
A14: 유지 | B14: =E14+H14 -> 0 | C14: / | D14: =G14+J14 -> 0 | E14: =편입집계표!$B14 -> 0 | F14: / | G14: =편입집계표!$D14 -> 0 | H14: =편입집계표!$B44 -> 0 | I14: / | J14: =편입집계표!$D44 -> 0
A15: 제방 | B15: =E15+H15 -> 0 | C15: / | D15: =G15+J15 -> 0 | E15: =편입집계표!$B15 -> 0 | F15: / | G15: =편입집계표!$D15 -> 0 | H15: =편입집계표!$B45 -> 0 | I15: / | J15: =편입집계표!$D45 -> 0
A16: 과수원 | B16: =E16+H16 -> 0 | C16: / | D16: =G16+J16 -> 0 | E16: =편입집계표!$B16 -> 0 | F16: / | G16: =편입집계표!$D16 -> 0 | H16: =편입집계표!$B46 -> 0 | I16: / | J16: =편입집계표!$D46 -> 0
A17: 공장 | B17: =E17+H17 -> 0 | C17: / | D17: =G17+J17 -> 0 | E17: =편입집계표!$B17 -> 0 | F17: / | G17: =편입집계표!$D17 -> 0 | H17: =편입집계표!$B47 -> 0 | I17: / | J17: =편입집계표!$D47 -> 0
A18: 목장 | B18: =E18+H18 -> 0 | C18: / | D18: =G18+J18 -> 0 | E18: =편입집계표!$B18 -> 0 | F18: / | G18: =편입집계표!$D18 -> 0 | H18: =편입집계표!$B48 -> 0 | I18: / | J18: =편입집계표!$D48 -> 0
... A31: 무 지 번 | B31: =E31+H31 -> 0 | C31: / | D31: =G31+J31 -> 0 | E31: =편입집계표!$B31 -> 0 | F31: / | G31: =편입집계표!$D31 -> 0 | H31: =편입집계표!$B61 -> 0 | I31: / | J31: =편입집계표!$D61 -> 0
A32: 국유지 집계표
A34: 구 분 | B34: 총 계 | E34: =E3 -> 전남 진도군 의신면 | K34: 비 고
E35: =E4 -> 만길리 | H35: =H4 -> 거룡리
B36: 필지 | C36: / | D36: 면적(㎡) | E36: 필지 | F36: / | G36: 면적(㎡) | H36: 필지 | I36: / | J36: 면적(㎡)
A37: 계 | B37: =SUM(B38:B62) -> 9 | C37: / | D37: =SUM(D38:D62) -> 927 | E37: =SUM(E38:E62) -> 1 | F37: / | G37: =SUM(G38:G62) -> 16 | H37: =SUM(H38:H62) -> 8 | I37: / | J37: =SUM(J38:J62) -> 911
A38: 전 | B38: =E38+H38 -> 0 | C38: / | D38: =G38+J38 -> 0 | E38: =편입집계표!$E7 -> 0 | F38: / | G38: =편입집계표!$G7 -> 0 | H38: =편입집계표!$E37 -> 0 | I38: / | J38: =편입집계표!$G37 -> 0
A39: 답 | B39: =E39+H39 -> 1 | C39: / | D39: =G39+J39 -> 6 | E39: =편입집계표!$E8 -> 0 | F39: / | G39: =편입집계표!$G8 -> 0 | H39: =편입집계표!$E38 -> 1 | I39: / | J39: =편입집계표!$G38 -> 6
A40: 임야 | B40: =E40+H40 -> 0 | C40: / | D40: =G40+J40 -> 0 | E40: =편입집계표!$E9 -> 0 | F40: / | G40: =편입집계표!$G9 -> 0 | H40: =편입집계표!$E39 -> 0 | I40: / | J40: =편입집계표!$G39 -> 0
A41: 대지 | B41: =E41+H41 -> 0 | C41: / | D41: =G41+J41 -> 0 | E41: =편입집계표!$E10 -> 0 | F41: / | G41: =편입집계표!$G10 -> 0 | H41: =편입집계표!$E40 -> 0 | I41: / | J41: =편입집계표!$G40 -> 0
A42: 도로 | B42: =E42+H42 -> 4 | C42: / | D42: =G42+J42 -> 109 | E42: =편입집계표!$E11 -> 1 | F42: / | G42: =편입집계표!$G11 -> 16 | H42: =편입집계표!$E41 -> 3 | I42: / | J42: =편입집계표!$G41 -> 93
A43: 구거 | B43: =E43+H43 -> 4 | C43: / | D43: =G43+J43 -> 812 | E43: =편입집계표!$E12 -> 0 | F43: / | G43: =편입집계표!$G12 -> 0 | H43: =편입집계표!$E42 -> 4 | I43: / | J43: =편입집계표!$G42 -> 812
A44: 하천 | B44: =E44+H44 -> 0 | C44: / | D44: =G44+J44 -> 0 | E44: =편입집계표!$E13 -> 0 | F44: / | G44: =편입집계표!$G13 -> 0 | H44: =편입집계표!$E43 -> 0 | I44: / | J44: =편입집계표!$G43 -> 0
A45: 유지 | B45: =E45+H45 -> 0 | C45: / | D45: =G45+J45 -> 0 | E45: =편입집계표!$E14 -> 0 | F45: / | G45: =편입집계표!$G14 -> 0 | H45: =편입집계표!$E44 -> 0 | I45: / | J45: =편입집계표!$G44 -> 0
A46: 제방 | B46: =E46+H46 -> 0 | C46: / | D46: =G46+J46 -> 0 | E46: =편입집계표!$E15 -> 0 | F46: / | G46: =편입집계표!$G15 -> 0 | H46: =편입집계표!$E45 -> 0 | I46: / | J46: =편입집계표!$G45 -> 0
A47: 과수원 | B47: =E47+H47 -> 0 | C47: / | D47: =G47+J47 -> 0 | E47: =편입집계표!$E16 -> 0 | F47: / | G47: =편입집계표!$G16 -> 0 | H47: =편입집계표!$E46 -> 0 | I47: / | J47: =편입집계표!$G46 -> 0
A48: 공장 | B48: =E48+H48 -> 0 | C48: / | D48: =G48+J48 -> 0 | E48: =편입집계표!$E17 -> 0 | F48: / | G48: =편입집계표!$G17 -> 0 | H48: =편입집계표!$E47 -> 0 | I48: / | J48: =편입집계표!$G47 -> 0
A49: 목장 | B49: =E49+H49 -> 0 | C49: / | D49: =G49+J49 -> 0 | E49: =편입집계표!$E18 -> 0 | F49: / | G49: =편입집계표!$G18 -> 0 | H49: =편입집계표!$E48 -> 0 | I49: / | J49: =편입집계표!$G48 -> 0
... A62: 무 지 번 | B62: =E62+H62 -> 0 | C62: / | D62: =G62+J62 -> 0 | E62: =편입집계표!$E31 -> 0 | F62: / | G62: =편입집계표!$G31 -> 0 | H62: =편입집계표!$E61 -> 0 | I62: / | J62: =편입집계표!$G61 -> 0
A63: 공유지 집계표
A65: 구 분 | B65: 총 계 | E65: =E3 -> 전남 진도군 의신면 | K65: 비 고
E66: =E4 -> 만길리 | H66: =H4 -> 거룡리
B67: 필지 | C67: / | D67: 면적(㎡) | E67: 필지 | F67: / | G67: 면적(㎡) | H67: 필지 | I67: / | J67: 면적(㎡)
A68: 계 | B68: =SUM(B69:B93) -> 7 | C68: / | D68: =SUM(D69:D93) -> 1275 | E68: =SUM(E69:E93) -> 0 | F68: / | G68: =SUM(G69:G93) -> 0 | H68: =SUM(H69:H93) -> 7 | I68: / | J68: =SUM(J69:J93) -> 1275
A69: 전 | B69: =E69+H69 -> 0 | C69: / | D69: =G69+J69 -> 0 | E69: =편입집계표!$H7 -> 0 | F69: / | G69: =편입집계표!$J7 -> 0 | H69: =편입집계표!$H37 -> 0 | I69: / | J69: =편입집계표!$J37 -> 0
A70: 답 | B70: =E70+H70 -> 0 | C70: / | D70: =G70+J70 -> 0 | E70: =편입집계표!$H8 -> 0 | F70: / | G70: =편입집계표!$J8 -> 0 | H70: =편입집계표!$H38 -> 0 | I70: / | J70: =편입집계표!$J38 -> 0
A71: 임야 | B71: =E71+H71 -> 0 | C71: / | D71: =G71+J71 -> 0 | E71: =편입집계표!$H9 -> 0 | F71: / | G71: =편입집계표!$J9 -> 0 | H71: =편입집계표!$H39 -> 0 | I71: / | J71: =편입집계표!$J39 -> 0
A72: 대지 | B72: =E72+H72 -> 0 | C72: / | D72: =G72+J72 -> 0 | E72: =편입집계표!$H10 -> 0 | F72: / | G72: =편입집계표!$J10 -> 0 | H72: =편입집계표!$H40 -> 0 | I72: / | J72: =편입집계표!$J40 -> 0
A73: 도로 | B73: =E73+H73 -> 7 | C73: / | D73: =G73+J73 -> 1275 | E73: =편입집계표!$H11 -> 0 | F73: / | G73: =편입집계표!$J11 -> 0 | H73: =편입집계표!$H41 -> 7 | I73: / | J73: =편입집계표!$J41 -> 1275
A74: 구거 | B74: =E74+H74 -> 0 | C74: / | D74: =G74+J74 -> 0 | E74: =편입집계표!$H12 -> 0 | F74: / | G74: =편입집계표!$J12 -> 0 | H74: =편입집계표!$H42 -> 0 | I74: / | J74: =편입집계표!$J42 -> 0
A75: 하천 | B75: =E75+H75 -> 0 | C75: / | D75: =G75+J75 -> 0 | E75: =편입집계표!$H13 -> 0 | F75: / | G75: =편입집계표!$J13 -> 0 | H75: =편입집계표!$H43 -> 0 | I75: / | J75: =편입집계표!$J43 -> 0
A76: 유지 | B76: =E76+H76 -> 0 | C76: / | D76: =G76+J76 -> 0 | E76: =편입집계표!$H14 -> 0 | F76: / | G76: =편입집계표!$J14 -> 0 | H76: =편입집계표!$H44 -> 0 | I76: / | J76: =편입집계표!$J44 -> 0
A77: 제방 | B77: =E77+H77 -> 0 | C77: / | D77: =G77+J77 -> 0 | E77: =편입집계표!$H15 -> 0 | F77: / | G77: =편입집계표!$J15 -> 0 | H77: =편입집계표!$H45 -> 0 | I77: / | J77: =편입집계표!$J45 -> 0
A78: 과수원 | B78: =E78+H78 -> 0 | C78: / | D78: =G78+J78 -> 0 | E78: =편입집계표!$H16 -> 0 | F78: / | G78: =편입집계표!$J16 -> 0 | H78: =편입집계표!$H46 -> 0 | I78: / | J78: =편입집계표!$J46 -> 0
A79: 공장 | B79: =E79+H79 -> 0 | C79: / | D79: =G79+J79 -> 0 | E79: =편입집계표!$H17 -> 0 | F79: / | G79: =편입집계표!$J17 -> 0 | H79: =편입집계표!$H47 -> 0 | I79: / | J79: =편입집계표!$J47 -> 0
A80: 목장 | B80: =E80+H80 -> 0 | C80: / | D80: =G80+J80 -> 0 | E80: =편입집계표!$H18 -> 0 | F80: / | G80: =편입집계표!$J18 -> 0 | H80: =편입집계표!$H48 -> 0 | I80: / | J80: =편입집계표!$J48 -> 0
... A93: 무 지 번 | B93: =E93+H93 -> 0 | C93: / | D93: =G93+J93 -> 0 | E93: =편입집계표!$H31 -> 0 | F93: / | G93: =편입집계표!$J31 -> 0 | H93: =편입집계표!$H61 -> 0 | I93: / | J93: =편입집계표!$J61 -> 0
A94: 사유지 집계표
A96: 구 분 | B96: 총 계 | E96: =E3 -> 전남 진도군 의신면 | K96: 비 고
E97: =E4 -> 만길리 | H97: =H4 -> 거룡리
B98: 필지 | C98: / | D98: 면적(㎡) | E98: 필지 | F98: / | G98: 면적(㎡) | H98: 필지 | I98: / | J98: 면적(㎡)
A99: 계 | B99: =SUM(B100:B124) -> 32 | C99: / | D99: =SUM(D100:D124) -> 6709 | E99: =SUM(E100:E124) -> 6 | F99: / | G99: =SUM(G100:G124) -> 1136 | H99: =SUM(H100:H124) -> 26 | I99: / | J99: =SUM(J100:J124) -> 5573
A100: 전 | B100: =E100+H100 -> 5 | C100: / | D100: =G100+J100 -> 1122 | E100: =편입집계표!$K7 -> 4 | F100: / | G100: =편입집계표!$M7 -> 689 | H100: =편입집계표!$K37 -> 1 | I100: / | J100: =편입집계표!$M37 -> 433
A101: 답 | B101: =E101+H101 -> 15 | C101: / | D101: =G101+J101 -> 4586 | E101: =편입집계표!$K8 -> 0 | F101: / | G101: =편입집계표!$M8 -> 0 | H101: =편입집계표!$K38 -> 15 | I101: / | J101: =편입집계표!$M38 -> 4586
A102: 임야 | B102: =E102+H102 -> 2 | C102: / | D102: =G102+J102 -> 447 | E102: =편입집계표!$K9 -> 2 | F102: / | G102: =편입집계표!$M9 -> 447 | H102: =편입집계표!$K39 -> 0 | I102: / | J102: =편입집계표!$M39 -> 0
A103: 대지 | B103: =E103+H103 -> 0 | C103: / | D103: =G103+J103 -> 0 | E103: =편입집계표!$K10 -> 0 | F103: / | G103: =편입집계표!$M10 -> 0 | H103: =편입집계표!$K40 -> 0 | I103: / | J103: =편입집계표!$M40 -> 0
A104: 도로 | B104: =E104+H104 -> 7 | C104: / | D104: =G104+J104 -> 308 | E104: =편입집계표!$K11 -> 0 | F104: / | G104: =편입집계표!$M11 -> 0 | H104: =편입집계표!$K41 -> 7 | I104: / | J104: =편입집계표!$M41 -> 308
A105: 구거 | B105: =E105+H105 -> 3 | C105: / | D105: =G105+J105 -> 246 | E105: =편입집계표!$K12 -> 0 | F105: / | G105: =편입집계표!$M12 -> 0 | H105: =편입집계표!$K42 -> 3 | I105: / | J105: =편입집계표!$M42 -> 246
A106: 하천 | B106: =E106+H106 -> 0 | C106: / | D106: =G106+J106 -> 0 | E106: =편입집계표!$K13 -> 0 | F106: / | G106: =편입집계표!$M13 -> 0 | H106: =편입집계표!$K43 -> 0 | I106: / | J106: =편입집계표!$M43 -> 0
A107: 유지 | B107: =E107+H107 -> 0 | C107: / | D107: =G107+J107 -> 0 | E107: =편입집계표!$K14 -> 0 | F107: / | G107: =편입집계표!$M14 -> 0 | H107: =편입집계표!$K44 -> 0 | I107: / | J107: =편입집계표!$M44 -> 0
A108: 제방 | B108: =E108+H108 -> 0 | C108: / | D108: =G108+J108 -> 0 | E108: =편입집계표!$K15 -> 0 | F108: / | G108: =편입집계표!$M15 -> 0 | H108: =편입집계표!$K45 -> 0 | I108: / | J108: =편입집계표!$M45 -> 0
A109: 과수원 | B109: =E109+H109 -> 0 | C109: / | D109: =G109+J109 -> 0 | E109: =편입집계표!$K16 -> 0 | F109: / | G109: =편입집계표!$M16 -> 0 | H109: =편입집계표!$K46 -> 0 | I109: / | J109: =편입집계표!$M46 -> 0
A110: 공장 | B110: =E110+H110 -> 0 | C110: / | D110: =G110+J110 -> 0 | E110: =편입집계표!$K17 -> 0 | F110: / | G110: =편입집계표!$M17 -> 0 | H110: =편입집계표!$K47 -> 0 | I110: / | J110: =편입집계표!$M47 -> 0
A111: 목장 | B111: =E111+H111 -> 0 | C111: / | D111: =G111+J111 -> 0 | E111: =편입집계표!$K18 -> 0 | F111: / | G111: =편입집계표!$M18 -> 0 | H111: =편입집계표!$K48 -> 0 | I111: / | J111: =편입집계표!$M48 -> 0
... A124: 무 지 번 | B124: =E124+H124 -> 0 | C124: / | D124: =G124+J124 -> 0 | E124: =편입집계표!$K31 -> 0 | F124: / | G124: =편입집계표!$M31 -> 0 | H124: =편입집계표!$K61 -> 0 | I124: / | J124: =편입집계표!$M61 -> 0

Sheet 편입집계표
A1: 편입용지 집계표
M2: =만길리!I3 -> 전남 진도군 의신면 만길리
A4: 구분 | B4: 계 | E4: 국 유 지 | H4: 공 유 지 | K4: 사 유 지 | N4: 비고
B5: 필지 | C5: / | D5: 면 적 (㎡) | E5: 필지 | F5: / | G5: 면 적 (㎡) | H5: 필지 | I5: / | J5: 면 적 (㎡) | K5: 필지 | L5: / | M5: 면 적 (㎡)
A6: 계 | B6: =SUM(B7:B31) -> 7 | C6: / | D6: =SUM(D7:D31) -> 1152 | E6: =SUM(E7:E31) -> 1 | F6: / | G6: =SUM(G7:G31) -> 16 | H6: =SUM(H7:H31) -> 0 | I6: / | J6: =SUM(J7:J31) -> 0 | K6: =SUM(K7:K31) -> 6 | L6: / | M6: =SUM(M7:M31) -> 1136 | Q6: 구분 | R6: 지 목 별 현 황 | W6: 비 고
A7: 전 | B7: =COUNTIF(만길리!$D$7:$D$531,"전") -> 4 | C7: / | D7: =SUMIF(만길리!$D$7:$D$531,"전",만길리!$F$7:$F$531) -> 689 | E7: =COUNTIF(만길리!$M$7:$M$531,"전국") -> 0 | F7: / | G7: =SUMIF(만길리!$M$7:$M$531,"전국",만길리!$F$7:$F$531) -> 0 | H7: =COUNTIF(만길리!$M$7:$M$531,"전공") -> 0 | I7: / | J7: =SUMIF(만길리!$M$7:$M$531,"전공",만길리!$F$7:$F$531) -> 0 | K7: =B7-E7-H7 -> 4 | L7: / | M7: =D7-G7-J7 -> 689 | R7: 계 | S7: 대지 | T7: 구거 | U7: 하천 | V7: 제방
A8: 답 | B8: =COUNTIF(만길리!$D$7:$D$531,"답") -> 0 | C8: / | D8: =SUMIF(만길리!$D$7:$D$531,"답",만길리!$F$7:$F$531) -> 0 | E8: =COUNTIF(만길리!$M$7:$M$531,"답국") -> 0 | F8: / | G8: =SUMIF(만길리!$M$7:$M$531,"답국",만길리!$F$7:$F$531) -> 0 | H8: =COUNTIF(만길리!$M$7:$M$531,"답공") -> 0 | I8: / | J8: =SUMIF(만길리!$M$7:$M$531,"답공",만길리!$F$7:$F$531) -> 0 | K8: =B8-E8-H8 -> 0 | L8: / | M8: =D8-G8-J8 -> 0 | Q8: 편입면적(㎡) | R8: =SUM(S8:V8) -> 0 | S8: =D10 -> 0 | T8: =D12 -> 0 | U8: =D13 -> 0 | V8: =D15 -> 0
A9: 임야 | B9: =COUNTIF(만길리!$D$7:$D$531,"임") -> 2 | C9: / | D9: =SUMIF(만길리!$D$7:$D$531,"임",만길리!$F$7:$F$531) -> 447 | E9: =COUNTIF(만길리!$M$7:$M$531,"임국") -> 0 | F9: / | G9: =SUMIF(만길리!$M$7:$M$531,"임국",만길리!$F$7:$F$531) -> 0 | H9: =COUNTIF(만길리!$M$7:$M$531,"임공") -> 0 | I9: / | J9: =SUMIF(만길리!$M$7:$M$531,"임공",만길리!$F$7:$F$531) -> 0 | K9: =B9-E9-H9 -> 2 | L9: / | M9: =D9-G9-J9 -> 447 | Q9: 구성비(%) | R9: =SUM(S9:V9) -> #DIV/0! | S9: =(S8/$R$8)*100 -> #DIV/0! | T9: =(T8/$R$8)*100 -> #DIV/0! | U9: =(U8/$R$8)*100 -> #DIV/0! | V9: =(V8/$R$8)*100 -> #DIV/0!
A10: 대지 | B10: =COUNTIF(만길리!$D$7:$D$531,"대") -> 0 | C10: / | D10: =SUMIF(만길리!$D$7:$D$531,"대",만길리!$F$7:$F$531) -> 0 | E10: =COUNTIF(만길리!$M$7:$M$531,"대국") -> 0 | F10: / | G10: =SUMIF(만길리!$M$7:$M$531,"대국",만길리!$F$7:$F$531) -> 0 | H10: =COUNTIF(만길리!$M$7:$M$531,"대공") -> 0 | I10: / | J10: =SUMIF(만길리!$M$7:$M$531,"대공",만길리!$F$7:$F$531) -> 0 | K10: =B10-E10-H10 -> 0 | L10: / | M10: =D10-G10-J10 -> 0
A11: 도로 | B11: =COUNTIF(만길리!$D$7:$D$531,"도") -> 1 | C11: / | D11: =SUMIF(만길리!$D$7:$D$531,"도",만길리!$F$7:$F$531) -> 16 | E11: =COUNTIF(만길리!$M$7:$M$531,"도국") -> 1 | F11: / | G11: =SUMIF(만길리!$M$7:$M$531,"도국",만길리!$F$7:$F$531) -> 16 | H11: =COUNTIF(만길리!$M$7:$M$531,"도공") -> 0 | I11: / | J11: =SUMIF(만길리!$M$7:$M$531,"도공",만길리!$F$7:$F$531) -> 0 | K11: =B11-E11-H11 -> 0 | L11: / | M11: =D11-G11-J11 -> 0
A12: 구거 | B12: =COUNTIF(만길리!$D$7:$D$531,"구") -> 0 | C12: / | D12: =SUMIF(만길리!$D$7:$D$531,"구",만길리!$F$7:$F$531) -> 0 | E12: =COUNTIF(만길리!$M$7:$M$531,"구국") -> 0 | F12: / | G12: =SUMIF(만길리!$M$7:$M$531,"구국",만길리!$F$7:$F$531) -> 0 | H12: =COUNTIF(만길리!$M$7:$M$531,"구공") -> 0 | I12: / | J12: =SUMIF(만길리!$M$7:$M$531,"구공",만길리!$F$7:$F$531) -> 0 | K12: =B12-E12-H12 -> 0 | L12: / | M12: =D12-G12-J12 -> 0 | Q12: 구분 | R12: 용도지역별 현황 | U12: 비 고
A13: 하천 | B13: =COUNTIF(만길리!$D$7:$D$531,"천") -> 0 | C13: / | D13: =SUMIF(만길리!$D$7:$D$531,"천",만길리!$F$7:$F$531) -> 0 | E13: =COUNTIF(만길리!$M$7:$M$531,"천국") -> 0 | F13: / | G13: =SUMIF(만길리!$M$7:$M$531,"천국",만길리!$F$7:$F$531) -> 0 | H13: =COUNTIF(만길리!$M$7:$M$531,"천공") -> 0 | I13: / | J13: =SUMIF(만길리!$M$7:$M$531,"천공",만길리!$F$7:$F$531) -> 0 | K13: =B13-E13-H13 -> 0 | L13: / | M13: =D13-G13-J13 -> 0 | R13: 계 | S13: 제2종일반주거지역 | T13: 보전녹지지역
A14: 유지 | B14: =COUNTIF(만길리!$D$7:$D$531,"유") -> 0 | C14: / | D14: =SUMIF(만길리!$D$7:$D$531,"유",만길리!$F$7:$F$531) -> 0 | E14: =COUNTIF(만길리!$M$7:$M$531,"유국") -> 0 | F14: / | G14: =SUMIF(만길리!$M$7:$M$531,"유국",만길리!$F$7:$F$531) -> 0 | H14: =COUNTIF(만길리!$M$7:$M$531,"유공") -> 0 | I14: / | J14: =SUMIF(만길리!$M$7:$M$531,"유공",만길리!$F$7:$F$531) -> 0 | K14: =B14-E14-H14 -> 0 | L14: / | M14: =D14-G14-J14 -> 0 | Q14: 편입면적(㎡) | R14: =SUM(S14:T14) -> 224 | S14: =SUMIF(만길리!$O$7:$O$18,"제2종일반주거지역",만길리!$F$7:$F$18)+13 -> 13 | T14: =SUMIF(만길리!$O$7:$O$18,"보전녹지지역",만길리!$F$7:$F$18)+211 -> 211
A15: 제방 | B15: =COUNTIF(만길리!$D$7:$D$531,"제") -> 0 | C15: / | D15: =SUMIF(만길리!$D$7:$D$531,"제",만길리!$F$7:$F$531) -> 0 | E15: =COUNTIF(만길리!$M$7:$M$531,"제국") -> 0 | F15: / | G15: =SUMIF(만길리!$M$7:$M$531,"제국",만길리!$F$7:$F$531) -> 0 | H15: =COUNTIF(만길리!$M$7:$M$531,"제공") -> 0 | I15: / | J15: =SUMIF(만길리!$M$7:$M$531,"제공",만길리!$F$7:$F$531) -> 0 | K15: =B15-E15-H15 -> 0 | L15: / | M15: =D15-G15-J15 -> 0 | Q15: 구성비(%) | R15: 100 | S15: =(S14/$R$14)*100 -> 5.8035714 | T15: =(T14/$R$14)*100 -> 94.196429
A16: 과수원 | B16: =COUNTIF(만길리!$D$7:$D$531,"과") -> 0 | C16: / | D16: =SUMIF(만길리!$D$7:$D$531,"과",만길리!$F$7:$F$531) -> 0 | E16: =COUNTIF(만길리!$M$7:$M$531,"과국") -> 0 | F16: / | G16: =SUMIF(만길리!$M$7:$M$531,"과국",만길리!$F$7:$F$531) -> 0 | H16: =COUNTIF(만길리!$M$7:$M$531,"과공") -> 0 | I16: / | J16: =SUMIF(만길리!$M$7:$M$531,"과공",만길리!$F$7:$F$531) -> 0 | K16: =B16-E16-H16 -> 0 | L16: / | M16: =D16-G16-J16 -> 0
A17: 공장 | B17: =COUNTIF(만길리!$D$7:$D$531,"장") -> 0 | C17: / | D17: =SUMIF(만길리!$D$7:$D$531,"장",만길리!$F$7:$F$531) -> 0 | E17: =COUNTIF(만길리!$M$7:$M$531,"장국") -> 0 | F17: / | G17: =SUMIF(만길리!$M$7:$M$531,"장국",만길리!$F$7:$F$531) -> 0 | H17: =COUNTIF(만길리!$M$7:$M$531,"장공") -> 0 | I17: / | J17: =SUMIF(만길리!$M$7:$M$531,"장공",만길리!$F$7:$F$531) -> 0 | K17: =B17-E17-H17 -> 0 | L17: / | M17: =D17-G17-J17 -> 0
A18: 목장 | B18: =COUNTIF(만길리!$D$7:$D$531,"목") -> 0 | C18: / | D18: =SUMIF(만길리!$D$7:$D$531,"목",만길리!$F$7:$F$531) -> 0 | E18: =COUNTIF(만길리!$M$7:$M$531,"목국") -> 0 | F18: / | G18: =SUMIF(만길리!$M$7:$M$531,"목국",만길리!$F$7:$F$531) -> 0 | H18: =COUNTIF(만길리!$M$7:$M$531,"목공") -> 0 | I18: / | J18: =SUMIF(만길리!$M$7:$M$531,"목공",만길리!$F$7:$F$531) -> 0 | K18: =B18-E18-H18 -> 0 | L18: / | M18: =D18-G18-J18 -> 0
A19: 학교용지 | B19: =COUNTIF(만길리!$D$7:$D$531,"학") -> 0 | C19: / | D19: =SUMIF(만길리!$D$7:$D$531,"학",만길리!$F$7:$F$531) -> 0 | E19: =COUNTIF(만길리!$M$7:$M$531,"학국") -> 0 | F19: / | G19: =SUMIF(만길리!$M$7:$M$531,"학국",만길리!$F$7:$F$531) -> 0 | H19: =COUNTIF(만길리!$M$7:$M$531,"학공") -> 0 | I19: / | J19: =SUMIF(만길리!$M$7:$M$531,"학공",만길리!$F$7:$F$531) -> 0 | K19: =B19-E19-H19 -> 0 | L19: / | M19: =D19-G19-J19 -> 0
A20: 철도 | B20: =COUNTIF(만길리!$D$7:$D$531,"철") -> 0 | C20: / | D20: =SUMIF(만길리!$D$7:$D$531,"철",만길리!$F$7:$F$531) -> 0 | E20: =COUNTIF(만길리!$M$7:$M$531,"철국") -> 0 | F20: / | G20: =SUMIF(만길리!$M$7:$M$531,"철국",만길리!$F$7:$F$531) -> 0 | H20: =COUNTIF(만길리!$M$7:$M$531,"철공") -> 0 | I20: / | J20: =SUMIF(만길리!$M$7:$M$531,"철공",만길리!$F$7:$F$531) -> 0 | K20: =B20-E20-H20 -> 0 | L20: / | M20: =D20-G20-J20 -> 0
A21: 묘지 | B21: =COUNTIF(만길리!$D$7:$D$531,"묘") -> 0 | C21: / | D21: =SUMIF(만길리!$D$7:$D$531,"묘",만길리!$F$7:$F$531) -> 0 | E21: =COUNTIF(만길리!$M$7:$M$531,"묘국") -> 0 | F21: / | G21: =SUMIF(만길리!$M$7:$M$531,"묘국",만길리!$F$7:$F$531) -> 0 | H21: =COUNTIF(만길리!$M$7:$M$531,"묘공") -> 0 | I21: / | J21: =SUMIF(만길리!$M$7:$M$531,"묘공",만길리!$F$7:$F$531) -> 0 | K21: =B21-E21-H21 -> 0 | L21: / | M21: =D21-G21-J21 -> 0
A22: 주차장 | B22: =COUNTIF(만길리!$D$7:$D$531,"차") -> 0 | C22: / | D22: =SUMIF(만길리!$D$7:$D$531,"차",만길리!$F$7:$F$531) -> 0 | E22: =COUNTIF(만길리!$M$7:$M$531,"차국") -> 0 | F22: / | G22: =SUMIF(만길리!$M$7:$M$531,"차국",만길리!$F$7:$F$531) -> 0 | H22: =COUNTIF(만길리!$M$7:$M$531,"차공") -> 0 | I22: / | J22: =SUMIF(만길리!$M$7:$M$531,"차공",만길리!$F$7:$F$531) -> 0 | K22: =B22-E22-H22 -> 0 | L22: / | M22: =D22-G22-J22 -> 0
A23: 잡종지 | B23: =COUNTIF(만길리!$D$7:$D$531,"잡") -> 0 | C23: / | D23: =SUMIF(만길리!$D$7:$D$531,"잡",만길리!$F$7:$F$531) -> 0 | E23: =COUNTIF(만길리!$M$7:$M$531,"잡국") -> 0 | F23: / | G23: =SUMIF(만길리!$M$7:$M$531,"잡국",만길리!$F$7:$F$531) -> 0 | H23: =COUNTIF(만길리!$M$7:$M$531,"잡공") -> 0 | I23: / | J23: =SUMIF(만길리!$M$7:$M$531,"잡공",만길리!$F$7:$F$531) -> 0 | K23: =B23-E23-H23 -> 0 | L23: / | M23: =D23-G23-J23 -> 0
A24: 종교 | B24: =COUNTIF(만길리!$D$7:$D$531,"종") -> 0 | C24: / | D24: =SUMIF(만길리!$D$7:$D$531,"종",만길리!$F$7:$F$531) -> 0 | E24: =COUNTIF(만길리!$M$7:$M$531,"종국") -> 0 | F24: / | G24: =SUMIF(만길리!$M$7:$M$531,"종국",만길리!$F$7:$F$531) -> 0 | H24: =COUNTIF(만길리!$M$7:$M$531,"종공") -> 0 | I24: / | J24: =SUMIF(만길리!$M$7:$M$531,"종공",만길리!$F$7:$F$531) -> 0 | K24: =B24-E24-H24 -> 0 | L24: / | M24: =D24-G24-J24 -> 0
A25: 주유소 | B25: =COUNTIF(만길리!$D$7:$D$531,"주") -> 0 | C25: / | D25: =SUMIF(만길리!$D$7:$D$531,"주",만길리!$F$7:$F$531) -> 0 | E25: =COUNTIF(만길리!$M$7:$M$531,"주국") -> 0 | F25: / | G25: =SUMIF(만길리!$M$7:$M$531,"주국",만길리!$F$7:$F$531) -> 0 | H25: =COUNTIF(만길리!$M$7:$M$531,"주공") -> 0 | I25: / | J25: =SUMIF(만길리!$M$7:$M$531,"주공",만길리!$F$7:$F$531) -> 0 | K25: =B25-E25-H25 -> 0 | L25: / | M25: =D25-G25-J25 -> 0
A26: 공원 | B26: =COUNTIF(만길리!$D$7:$D$531,"공") -> 0 | C26: / | D26: =SUMIF(만길리!$D$7:$D$531,"공",만길리!$F$7:$F$531) -> 0 | E26: =COUNTIF(만길리!$M$7:$M$531,"국국") -> 0 | F26: / | G26: =SUMIF(만길리!$M$7:$M$531,"공국",만길리!$F$7:$F$531) -> 0 | H26: =COUNTIF(만길리!$M$7:$M$531,"공공") -> 0 | I26: / | J26: =SUMIF(만길리!$M$7:$M$531,"공공",만길리!$F$7:$F$531) -> 0 | K26: =B26-E26-H26 -> 0 | L26: / | M26: =D26-G26-J26 -> 0
A27: 체육 | B27: =COUNTIF(만길리!$D$7:$D$531,"체") -> 0 | C27: / | D27: =SUMIF(만길리!$D$7:$D$531,"체",만길리!$F$7:$F$531) -> 0 | E27: =COUNTIF(만길리!$M$7:$M$531,"체국") -> 0 | F27: / | G27: =SUMIF(만길리!$M$7:$M$531,"체국",만길리!$F$7:$F$531) -> 0 | H27: =COUNTIF(만길리!$M$7:$M$531,"체공") -> 0 | I27: / | J27: =SUMIF(만길리!$M$7:$M$531,"체공",만길리!$F$7:$F$531) -> 0 | K27: =B27-E27-H27 -> 0 | L27: / | M27: =D27-G27-J27 -> 0
A28: 유원지 | B28: =COUNTIF(만길리!$D$7:$D$531,"원") -> 0 | C28: / | D28: =SUMIF(만길리!$D$7:$D$531,"원",만길리!$F$7:$F$531) -> 0 | E28: =COUNTIF(만길리!$M$7:$M$531,"원국") -> 0 | F28: / | G28: =SUMIF(만길리!$M$7:$M$531,"원국",만길리!$F$7:$F$531) -> 0 | H28: =COUNTIF(만길리!$M$7:$M$531,"원공") -> 0 | I28: / | J28: =SUMIF(만길리!$M$7:$M$531,"원공",만길리!$F$7:$F$531) -> 0 | K28: =B28-E28-H28 -> 0 | L28: / | M28: =D28-G28-J28 -> 0
A29: 수도용지 | B29: =COUNTIF(만길리!$D$7:$D$531,"수") -> 0 | C29: / | D29: =SUMIF(만길리!$D$7:$D$531,"수",만길리!$F$7:$F$531) -> 0 | E29: =COUNTIF(만길리!$M$7:$M$531,"수국") -> 0 | F29: / | G29: =SUMIF(만길리!$M$7:$M$531,"수국",만길리!$F$7:$F$531) -> 0 | H29: =COUNTIF(만길리!$M$7:$M$531,"수공") -> 0 | I29: / | J29: =SUMIF(만길리!$M$7:$M$531,"수공",만길리!$F$7:$F$531) -> 0 | K29: =B29-E29-H29 -> 0 | L29: / | M29: =D29-G29-J29 -> 0
A30: 창 고 | B30: =COUNTIF(만길리!$D$7:$D$531,"창") -> 0 | C30: / | D30: =SUMIF(만길리!$D$7:$D$531,"창",만길리!$F$7:$F$531) -> 0 | E30: =COUNTIF(만길리!$M$7:$M$531,"창국") -> 0 | F30: / | G30: =SUMIF(만길리!$M$7:$M$531,"창국",만길리!$F$7:$F$531) -> 0 | H30: =COUNTIF(만길리!$M$7:$M$531,"창공") -> 0 | I30: / | J30: =SUMIF(만길리!$M$7:$M$531,"창공",만길리!$F$7:$F$531) -> 0 | K30: =B30-E30-H30 -> 0 | L30: / | M30: =D30-G30-J30 -> 0
A31: 무 지 번 | B31: =COUNTIF(만길리!$D$7:$D$531,"가") -> 0 | C31: / | D31: =SUMIF(만길리!$D$7:$D$531,"가",만길리!$F$7:$F$531) -> 0 | E31: =COUNTIF(만길리!$M$7:$M$531,"가국") -> 0 | F31: / | G31: =SUMIF(만길리!$M$7:$M$531,"가국",만길리!$F$7:$F$531) -> 0 | H31: =COUNTIF(만길리!$M$7:$M$531,"가공") -> 0 | I31: / | J31: =SUMIF(만길리!$M$7:$M$531,"가공",만길리!$F$7:$F$531) -> 0 | K31: =B31-E31-H31 -> 0 | L31: / | M31: =D31-G31-J31 -> 0
M32: =거룡리!I3 -> 전남 진도군 의신면 거룡리
A34: 구분 | B34: 계 | E34: 국 유 지 | H34: 공 유 지 | K34: 사 유 지 | N34: 비고
B35: 필지 | C35: / | D35: 면 적 (㎡) | E35: 필지 | F35: / | G35: 면 적 (㎡) | H35: 필지 | I35: / | J35: 면 적 (㎡) | K35: 필지 | L35: / | M35: 면 적 (㎡)
A36: 계 | B36: =SUM(B37:B61) -> 41 | C36: / | D36: =SUM(D37:D61) -> 7759 | E36: =SUM(E37:E61) -> 8 | F36: / | G36: =SUM(G37:G61) -> 911 | H36: =SUM(H37:H61) -> 7 | I36: / | J36: =SUM(J37:J61) -> 1275 | K36: =SUM(K37:K61) -> 26 | L36: / | M36: =SUM(M37:M61) -> 5573
A37: 전 | B37: =COUNTIF(거룡리!$D$7:$D$526,"전") -> 1 | C37: / | D37: =SUMIF(거룡리!$D$7:$D$526,"전",거룡리!$F$7:$F$526) -> 433 | E37: =COUNTIF(거룡리!$M$7:$M$526,"전국") -> 0 | F37: / | G37: =SUMIF(거룡리!$M$7:$M$526,"전국",거룡리!$F$7:$F$526) -> 0 | H37: =COUNTIF(거룡리!$M$7:$M$526,"전공") -> 0 | I37: / | J37: =SUMIF(거룡리!$M$7:$M$526,"전공",거룡리!$F$7:$F$526) -> 0 | K37: =B37-E37-H37 -> 1 | L37: / | M37: =D37-G37-J37 -> 433
A38: 답 | B38: =COUNTIF(거룡리!$D$7:$D$526,"답") -> 16 | C38: / | D38: =SUMIF(거룡리!$D$7:$D$526,"답",거룡리!$F$7:$F$526) -> 4592 | E38: =COUNTIF(거룡리!$M$7:$M$526,"답국") -> 1 | F38: / | G38: =SUMIF(거룡리!$M$7:$M$526,"답국",거룡리!$F$7:$F$526) -> 6 | H38: =COUNTIF(거룡리!$M$7:$M$526,"답공") -> 0 | I38: / | J38: =SUMIF(거룡리!$M$7:$M$526,"답공",거룡리!$F$7:$F$526) -> 0 | K38: =B38-E38-H38 -> 15 | L38: / | M38: =D38-G38-J38 -> 4586
A39: 임야 | B39: =COUNTIF(거룡리!$D$7:$D$526,"임") -> 0 | C39: / | D39: =SUMIF(거룡리!$D$7:$D$526,"임",거룡리!$F$7:$F$526) -> 0 | E39: =COUNTIF(거룡리!$M$7:$M$526,"임국") -> 0 | F39: / | G39: =SUMIF(거룡리!$M$7:$M$526,"임국",거룡리!$F$7:$F$526) -> 0 | H39: =COUNTIF(거룡리!$M$7:$M$526,"임공") -> 0 | I39: / | J39: =SUMIF(거룡리!$M$7:$M$526,"임공",거룡리!$F$7:$F$526) -> 0 | K39: =B39-E39-H39 -> 0 | L39: / | M39: =D39-G39-J39 -> 0
A40: 대지 | B40: =COUNTIF(거룡리!$D$7:$D$526,"대") -> 0 | C40: / | D40: =SUMIF(거룡리!$D$7:$D$526,"대",거룡리!$F$7:$F$526) -> 0 | E40: =COUNTIF(거룡리!$M$7:$M$526,"대국") -> 0 | F40: / | G40: =SUMIF(거룡리!$M$7:$M$526,"대국",거룡리!$F$7:$F$526) -> 0 | H40: =COUNTIF(거룡리!$M$7:$M$526,"대공") -> 0 | I40: / | J40: =SUMIF(거룡리!$M$7:$M$526,"대공",거룡리!$F$7:$F$526) -> 0 | K40: =B40-E40-H40 -> 0 | L40: / | M40: =D40-G40-J40 -> 0
A41: 도로 | B41: =COUNTIF(거룡리!$D$7:$D$526,"도") -> 17 | C41: / | D41: =SUMIF(거룡리!$D$7:$D$526,"도",거룡리!$F$7:$F$526) -> 1676 | E41: =COUNTIF(거룡리!$M$7:$M$526,"도국") -> 3 | F41: / | G41: =SUMIF(거룡리!$M$7:$M$526,"도국",거룡리!$F$7:$F$526) -> 93 | H41: =COUNTIF(거룡리!$M$7:$M$526,"도공") -> 7 | I41: / | J41: =SUMIF(거룡리!$M$7:$M$526,"도공",거룡리!$F$7:$F$526) -> 1275 | K41: =B41-E41-H41 -> 7 | L41: / | M41: =D41-G41-J41 -> 308
A42: 구거 | B42: =COUNTIF(거룡리!$D$7:$D$526,"구") -> 7 | C42: / | D42: =SUMIF(거룡리!$D$7:$D$526,"구",거룡리!$F$7:$F$526) -> 1058 | E42: =COUNTIF(거룡리!$M$7:$M$526,"구국") -> 4 | F42: / | G42: =SUMIF(거룡리!$M$7:$M$526,"구국",거룡리!$F$7:$F$526) -> 812 | H42: =COUNTIF(거룡리!$M$7:$M$526,"구공") -> 0 | I42: / | J42: =SUMIF(거룡리!$M$7:$M$526,"구공",거룡리!$F$7:$F$526) -> 0 | K42: =B42-E42-H42 -> 3 | L42: / | M42: =D42-G42-J42 -> 246
A43: 하천 | B43: =COUNTIF(거룡리!$D$7:$D$526,"천") -> 0 | C43: / | D43: =SUMIF(거룡리!$D$7:$D$526,"천",거룡리!$F$7:$F$526) -> 0 | E43: =COUNTIF(거룡리!$M$7:$M$526,"천국") -> 0 | F43: / | G43: =SUMIF(거룡리!$M$7:$M$526,"천국",거룡리!$F$7:$F$526) -> 0 | H43: =COUNTIF(거룡리!$M$7:$M$526,"천공") -> 0 | I43: / | J43: =SUMIF(거룡리!$M$7:$M$526,"천공",거룡리!$F$7:$F$526) -> 0 | K43: =B43-E43-H43 -> 0 | L43: / | M43: =D43-G43-J43 -> 0
A44: 유지 | B44: =COUNTIF(거룡리!$D$7:$D$526,"유") -> 0 | C44: / | D44: =SUMIF(거룡리!$D$7:$D$526,"유",거룡리!$F$7:$F$526) -> 0 | E44: =COUNTIF(거룡리!$M$7:$M$526,"유국") -> 0 | F44: / | G44: =SUMIF(거룡리!$M$7:$M$526,"유국",거룡리!$F$7:$F$526) -> 0 | H44: =COUNTIF(거룡리!$M$7:$M$526,"유공") -> 0 | I44: / | J44: =SUMIF(거룡리!$M$7:$M$526,"유공",거룡리!$F$7:$F$526) -> 0 | K44: =B44-E44-H44 -> 0 | L44: / | M44: =D44-G44-J44 -> 0
A45: 제방 | B45: =COUNTIF(거룡리!$D$7:$D$526,"제") -> 0 | C45: / | D45: =SUMIF(거룡리!$D$7:$D$526,"제",거룡리!$F$7:$F$526) -> 0 | E45: =COUNTIF(거룡리!$M$7:$M$526,"제국") -> 0 | F45: / | G45: =SUMIF(거룡리!$M$7:$M$526,"제국",거룡리!$F$7:$F$526) -> 0 | H45: =COUNTIF(거룡리!$M$7:$M$526,"제공") -> 0 | I45: / | J45: =SUMIF(거룡리!$M$7:$M$526,"제공",거룡리!$F$7:$F$526) -> 0 | K45: =B45-E45-H45 -> 0 | L45: / | M45: =D45-G45-J45 -> 0
A46: 과수원 | B46: =COUNTIF(거룡리!$D$7:$D$526,"과") -> 0 | C46: / | D46: =SUMIF(거룡리!$D$7:$D$526,"과",거룡리!$F$7:$F$526) -> 0 | E46: =COUNTIF(거룡리!$M$7:$M$526,"과국") -> 0 | F46: / | G46: =SUMIF(거룡리!$M$7:$M$526,"과국",거룡리!$F$7:$F$526) -> 0 | H46: =COUNTIF(거룡리!$M$7:$M$526,"과공") -> 0 | I46: / | J46: =SUMIF(거룡리!$M$7:$M$526,"과공",거룡리!$F$7:$F$526) -> 0 | K46: =B46-E46-H46 -> 0 | L46: / | M46: =D46-G46-J46 -> 0
A47: 공장 | B47: =COUNTIF(거룡리!$D$7:$D$526,"장") -> 0 | C47: / | D47: =SUMIF(거룡리!$D$7:$D$526,"장",거룡리!$F$7:$F$526) -> 0 | E47: =COUNTIF(거룡리!$M$7:$M$526,"장국") -> 0 | F47: / | G47: =SUMIF(거룡리!$M$7:$M$526,"장국",거룡리!$F$7:$F$526) -> 0 | H47: =COUNTIF(거룡리!$M$7:$M$526,"장공") -> 0 | I47: / | J47: =SUMIF(거룡리!$M$7:$M$526,"장공",거룡리!$F$7:$F$526) -> 0 | K47: =B47-E47-H47 -> 0 | L47: / | M47: =D47-G47-J47 -> 0
A48: 목장 | B48: =COUNTIF(거룡리!$D$7:$D$526,"목") -> 0 | C48: / | D48: =SUMIF(거룡리!$D$7:$D$526,"목",거룡리!$F$7:$F$526) -> 0 | E48: =COUNTIF(거룡리!$M$7:$M$526,"목국") -> 0 | F48: / | G48: =SUMIF(거룡리!$M$7:$M$526,"목국",거룡리!$F$7:$F$526) -> 0 | H48: =COUNTIF(거룡리!$M$7:$M$526,"목공") -> 0 | I48: / | J48: =SUMIF(거룡리!$M$7:$M$526,"목공",거룡리!$F$7:$F$526) -> 0 | K48: =B48-E48-H48 -> 0 | L48: / | M48: =D48-G48-J48 -> 0
A49: 학교용지 | B49: =COUNTIF(거룡리!$D$7:$D$526,"학") -> 0 | C49: / | D49: =SUMIF(거룡리!$D$7:$D$526,"학",거룡리!$F$7:$F$526) -> 0 | E49: =COUNTIF(거룡리!$M$7:$M$526,"학국") -> 0 | F49: / | G49: =SUMIF(거룡리!$M$7:$M$526,"학국",거룡리!$F$7:$F$526) -> 0 | H49: =COUNTIF(거룡리!$M$7:$M$526,"학공") -> 0 | I49: / | J49: =SUMIF(거룡리!$M$7:$M$526,"학공",거룡리!$F$7:$F$526) -> 0 | K49: =B49-E49-H49 -> 0 | L49: / | M49: =D49-G49-J49 -> 0
A50: 철도 | B50: =COUNTIF(거룡리!$D$7:$D$526,"철") -> 0 | C50: / | D50: =SUMIF(거룡리!$D$7:$D$526,"철",거룡리!$F$7:$F$526) -> 0 | E50: =COUNTIF(거룡리!$M$7:$M$526,"철국") -> 0 | F50: / | G50: =SUMIF(거룡리!$M$7:$M$526,"철국",거룡리!$F$7:$F$526) -> 0 | H50: =COUNTIF(거룡리!$M$7:$M$526,"철공") -> 0 | I50: / | J50: =SUMIF(거룡리!$M$7:$M$526,"철공",거룡리!$F$7:$F$526) -> 0 | K50: =B50-E50-H50 -> 0 | L50: / | M50: =D50-G50-J50 -> 0
A51: 묘지 | B51: =COUNTIF(거룡리!$D$7:$D$526,"묘") -> 0 | C51: / | D51: =SUMIF(거룡리!$D$7:$D$526,"묘",거룡리!$F$7:$F$526) -> 0 | E51: =COUNTIF(거룡리!$M$7:$M$526,"묘국") -> 0 | F51: / | G51: =SUMIF(거룡리!$M$7:$M$526,"묘국",거룡리!$F$7:$F$526) -> 0 | H51: =COUNTIF(거룡리!$M$7:$M$526,"묘공") -> 0 | I51: / | J51: =SUMIF(거룡리!$M$7:$M$526,"묘공",거룡리!$F$7:$F$526) -> 0 | K51: =B51-E51-H51 -> 0 | L51: / | M51: =D51-G51-J51 -> 0
A52: 주차장 | B52: =COUNTIF(거룡리!$D$7:$D$526,"차") -> 0 | C52: / | D52: =SUMIF(거룡리!$D$7:$D$526,"차",거룡리!$F$7:$F$526) -> 0 | E52: =COUNTIF(거룡리!$M$7:$M$526,"차국") -> 0 | F52: / | G52: =SUMIF(거룡리!$M$7:$M$526,"차국",거룡리!$F$7:$F$526) -> 0 | H52: =COUNTIF(거룡리!$M$7:$M$526,"차공") -> 0 | I52: / | J52: =SUMIF(거룡리!$M$7:$M$526,"차공",거룡리!$F$7:$F$526) -> 0 | K52: =B52-E52-H52 -> 0 | L52: / | M52: =D52-G52-J52 -> 0
A53: 잡종지 | B53: =COUNTIF(거룡리!$D$7:$D$526,"잡") -> 0 | C53: / | D53: =SUMIF(거룡리!$D$7:$D$526,"잡",거룡리!$F$7:$F$526) -> 0 | E53: =COUNTIF(거룡리!$M$7:$M$526,"잡국") -> 0 | F53: / | G53: =SUMIF(거룡리!$M$7:$M$526,"잡국",거룡리!$F$7:$F$526) -> 0 | H53: =COUNTIF(거룡리!$M$7:$M$526,"잡공") -> 0 | I53: / | J53: =SUMIF(거룡리!$M$7:$M$526,"잡공",거룡리!$F$7:$F$526) -> 0 | K53: =B53-E53-H53 -> 0 | L53: / | M53: =D53-G53-J53 -> 0
A54: 종교 | B54: =COUNTIF(거룡리!$D$7:$D$526,"종") -> 0 | C54: / | D54: =SUMIF(거룡리!$D$7:$D$526,"종",거룡리!$F$7:$F$526) -> 0 | E54: =COUNTIF(거룡리!$M$7:$M$526,"종국") -> 0 | F54: / | G54: =SUMIF(거룡리!$M$7:$M$526,"종국",거룡리!$F$7:$F$526) -> 0 | H54: =COUNTIF(거룡리!$M$7:$M$526,"종공") -> 0 | I54: / | J54: =SUMIF(거룡리!$M$7:$M$526,"종공",거룡리!$F$7:$F$526) -> 0 | K54: =B54-E54-H54 -> 0 | L54: / | M54: =D54-G54-J54 -> 0
A55: 주유소 | B55: =COUNTIF(거룡리!$D$7:$D$526,"주") -> 0 | C55: / | D55: =SUMIF(거룡리!$D$7:$D$526,"주",거룡리!$F$7:$F$526) -> 0 | E55: =COUNTIF(거룡리!$M$7:$M$526,"주국") -> 0 | F55: / | G55: =SUMIF(거룡리!$M$7:$M$526,"주국",거룡리!$F$7:$F$526) -> 0 | H55: =COUNTIF(거룡리!$M$7:$M$526,"주공") -> 0 | I55: / | J55: =SUMIF(거룡리!$M$7:$M$526,"주공",거룡리!$F$7:$F$526) -> 0 | K55: =B55-E55-H55 -> 0 | L55: / | M55: =D55-G55-J55 -> 0
A56: 공원 | B56: =COUNTIF(거룡리!$D$7:$D$526,"공") -> 0 | C56: / | D56: =SUMIF(거룡리!$D$7:$D$526,"공",거룡리!$F$7:$F$526) -> 0 | E56: =COUNTIF(거룡리!$M$7:$M$526,"국국") -> 0 | F56: / | G56: =SUMIF(거룡리!$M$7:$M$526,"공국",거룡리!$F$7:$F$526) -> 0 | H56: =COUNTIF(거룡리!$M$7:$M$526,"공공") -> 0 | I56: / | J56: =SUMIF(거룡리!$M$7:$M$526,"공공",거룡리!$F$7:$F$526) -> 0 | K56: =B56-E56-H56 -> 0 | L56: / | M56: =D56-G56-J56 -> 0
A57: 체육 | B57: =COUNTIF(거룡리!$D$7:$D$526,"체") -> 0 | C57: / | D57: =SUMIF(거룡리!$D$7:$D$526,"체",거룡리!$F$7:$F$526) -> 0 | E57: =COUNTIF(거룡리!$M$7:$M$526,"체국") -> 0 | F57: / | G57: =SUMIF(거룡리!$M$7:$M$526,"체국",거룡리!$F$7:$F$526) -> 0 | H57: =COUNTIF(거룡리!$M$7:$M$526,"체공") -> 0 | I57: / | J57: =SUMIF(거룡리!$M$7:$M$526,"체공",거룡리!$F$7:$F$526) -> 0 | K57: =B57-E57-H57 -> 0 | L57: / | M57: =D57-G57-J57 -> 0
A58: 유원지 | B58: =COUNTIF(거룡리!$D$7:$D$526,"원") -> 0 | C58: / | D58: =SUMIF(거룡리!$D$7:$D$526,"원",거룡리!$F$7:$F$526) -> 0 | E58: =COUNTIF(거룡리!$M$7:$M$526,"원국") -> 0 | F58: / | G58: =SUMIF(거룡리!$M$7:$M$526,"원국",거룡리!$F$7:$F$526) -> 0 | H58: =COUNTIF(거룡리!$M$7:$M$526,"원공") -> 0 | I58: / | J58: =SUMIF(거룡리!$M$7:$M$526,"원공",거룡리!$F$7:$F$526) -> 0 | K58: =B58-E58-H58 -> 0 | L58: / | M58: =D58-G58-J58 -> 0
A59: 수도용지 | B59: =COUNTIF(거룡리!$D$7:$D$526,"수") -> 0 | C59: / | D59: =SUMIF(거룡리!$D$7:$D$526,"수",거룡리!$F$7:$F$526) -> 0 | E59: =COUNTIF(거룡리!$M$7:$M$526,"수국") -> 0 | F59: / | G59: =SUMIF(거룡리!$M$7:$M$526,"수국",거룡리!$F$7:$F$526) -> 0 | H59: =COUNTIF(거룡리!$M$7:$M$526,"수공") -> 0 | I59: / | J59: =SUMIF(거룡리!$M$7:$M$526,"수공",거룡리!$F$7:$F$526) -> 0 | K59: =B59-E59-H59 -> 0 | L59: / | M59: =D59-G59-J59 -> 0
A60: 창 고 | B60: =COUNTIF(거룡리!$D$7:$D$526,"창") -> 0 | C60: / | D60: =SUMIF(거룡리!$D$7:$D$526,"창",거룡리!$F$7:$F$526) -> 0 | E60: =COUNTIF(거룡리!$M$7:$M$526,"창국") -> 0 | F60: / | G60: =SUMIF(거룡리!$M$7:$M$526,"창국",거룡리!$F$7:$F$526) -> 0 | H60: =COUNTIF(거룡리!$M$7:$M$526,"창공") -> 0 | I60: / | J60: =SUMIF(거룡리!$M$7:$M$526,"창공",거룡리!$F$7:$F$526) -> 0 | K60: =B60-E60-H60 -> 0 | L60: / | M60: =D60-G60-J60 -> 0
A61: 무 지 번 | B61: =COUNTIF(거룡리!$D$7:$D$526,"가") -> 0 | C61: / | D61: =SUMIF(거룡리!$D$7:$D$526,"가",거룡리!$F$7:$F$526) -> 0 | E61: =COUNTIF(거룡리!$M$7:$M$526,"가국") -> 0 | F61: / | G61: =SUMIF(거룡리!$M$7:$M$526,"가국",거룡리!$F$7:$F$526) -> 0 | H61: =COUNTIF(거룡리!$M$7:$M$526,"가공") -> 0 | I61: / | J61: =SUMIF(거룡리!$M$7:$M$526,"가공",거룡리!$F$7:$F$526) -> 0 | K61: =B61-E61-H61 -> 0 | L61: / | M61: =D61-G61-J61 -> 0

Sheet 만길리
B1: 용 지 조 서 | T1: 지역 | U1: 전(과.목) | V1: 답 | W1: 대지(장.창) | X1: 임야 | Y1: 기타 | Z1: 참고문헌:도로.철도부문사업의 예비서타당성조사 표준지ㅣ침 수정.보완연구(제5판)
S2: 수도권 | T2: ①시부 | U2: 1.5 | V2: 1.5 | W2: 1.4 | X2: 2 | Y2: 2 | Z2: - 한국개발연구원 발행 2008.12
I3: 전남 진도군 의신면 만길리 | T3: ②군부 | U3: 1.75 | V3: 1.75 | W3: 1.5 | X3: 2.5 | Y3: 2.5 | Z3: - <표3-52> 지역별 지목별 보상배율
A5: 구 | B5: 일련 | C5: 지 번 | D5: 지목 | E5: 지 적 | F5: 편입면적 | G5: 소 유 자 | I5: 관 계 인 | L5: 비고 | R5: 요율적용 | S5: 수도권외 | T5: ③시부 | U5: 1.75 | V5: 1.75 | W5: 1.65 | X5: 2.3 | Y5: 2.3 | Z5: 본사업적용 | AA5: 전(과.목) | AB5: 답 | AC5: 대지(장.창) | AD5: 임야 | AE5: 기타
A6: 분 | B6: 번호 | E6: ( ㎡ ) | F6: ( ㎡ ) | G6: 성 명 | H6: 주 소 | I6: 성 명 | J6: 주 소 | K6: 권리 관계 | O6: 국계법에 따른 용도지역 | P6: 개별공시지가(2019.01) | T6: ④군부 | U6: 1.8 | V6: 1.8 | W6: 1.65 | X6: 2.5 | Y6: 2.5 | Z6: 수도권 군부 | AA6: 1.8 | AB6: 1.8 | AC6: 1.65 | AD6: 2.5 | AE6: 2.5
A7: 1 | B7: 15 | C7: 1530-3 | D7: 임 | E7: 7293 | F7: 329 | G7: 김*완 | H7: 서울시 강남구 대치동 316 은마아파트 19동 307 | M7: =CONCATENATE(D7,G7) -> 임김*완 | O7: 보전관리지역 | R7: =U7&V7&W7&X7&Y7 -> 0002.500 | S7: 4 | T7: =S7&D7 -> 4임 | U7: =IF($T7="4전","1.80",IF($T7="4과","1.80",IF($T7="4목","1.80",0))) -> 0 | V7: =IF($T7="4답","1.80",0) -> 0 | W7: =IF($T7="4대","1.65",IF($T7="4장","1.65",IF($T7="4창","1.65",0))) -> 0 | X7: =IF($T7="4임","2.50",0) -> 2.50 | Y7: =IF($D7="전",0,IF($D7="답",0,IF($D7="대",0,IF($D7="임",0,IF($D7="과",0,IF($D7="목",0,IF($D7="장",0,IF($D7="창",0,2.5)))))))) -> 0
A8: 2 | B8: 16 | C8: 1534-1 | D8: 전 | E8: 2456 | F8: 301 | G8: 김*경 | H8: 경기도 고양시 덕양구 삼원로2길 14-7 301호(삼송동) | M8: =CONCATENATE(D8,G8) -> 전김*경 | O8: 보전관리지역 | P8: 1790 | R8: =U8&V8&W8&X8&Y8 -> 1.800000 | S8: 4 | T8: =S8&D8 -> 4전 | U8: =IF($T8="4전","1.80",IF($T8="4과","1.80",IF($T8="4목","1.80",0))) -> 1.80 | V8: =IF($T8="4답","1.80",0) -> 0 | W8: =IF($T8="4대","1.65",IF($T8="4장","1.65",IF($T8="4창","1.65",0))) -> 0 | X8: =IF($T8="4임","2.50",0) -> 0 | Y8: =IF($D8="전",0,IF($D8="답",0,IF($D8="대",0,IF($D8="임",0,IF($D8="과",0,IF($D8="목",0,IF($D8="장",0,IF($D8="창",0,2.5)))))))) -> 0 | Z8: 0
A9: 3 | B9: 19 | C9: 1548-3 | D9: 전 | E9: 334 | F9: 153 | G9: 문*언 | H9: 1338 | M9: =CONCATENATE(D9,G9) -> 전문*언 | O9: 계획관리지역 | P9: 5090 | R9: =U9&V9&W9&X9&Y9 -> 1.800000 | S9: 4 | T9: =S9&D9 -> 4전 | U9: =IF($T9="4전","1.80",IF($T9="4과","1.80",IF($T9="4목","1.80",0))) -> 1.80 | V9: =IF($T9="4답","1.80",0) -> 0 | W9: =IF($T9="4대","1.65",IF($T9="4장","1.65",IF($T9="4창","1.65",0))) -> 0 | X9: =IF($T9="4임","2.50",0) -> 0 | Y9: =IF($D9="전",0,IF($D9="답",0,IF($D9="대",0,IF($D9="임",0,IF($D9="과",0,IF($D9="목",0,IF($D9="장",0,IF($D9="창",0,2.5)))))))) -> 0 | Z9: 0
A10: 4 | B10: 20 | C10: 1547 | D10: 임 | E10: 841 | F10: 118 | G10: 문*옥 | H10: 전라남도 진도군 의신면 만길리 1018 | M10: =CONCATENATE(D10,G10) -> 임문*옥 | O10: 계획관리지역 | P10: 2640
A11: 5 | B11: 21 | C11: 1546-1 | D11: 전 | E11: 585 | F11: 192 | G11: 곽*자 | H11: 전라남도 목포시 대성동 34-4 | M11: =CONCATENATE(D11,G11) -> 전곽*자 | O11: 계획관리지역 | P11: 5090
A12: 6 | B12: 22 | C12: 1545 | D12: 전 | E12: 1362 | F12: 43 | G12: 윤*식 | H12: 전라남도 진도군 의신면 송군길 39 | M12: =CONCATENATE(D12,G12) -> 전윤*식 | O12: 계획관리지역 | P12: 5090
A13: 7 | B13: 23 | C13: 1718-32 | D13: 도 | E13: 631 | F13: 16 | G13: 국 | H13: 국토교통부 | M13: =CONCATENATE(D13,G13) -> 도국 | O13: 계획관리지역 | P13: 1250
M14: =CONCATENATE(D14,G14) | R14: =U14&V14&W14&X14&Y14 -> 00002.5 | S14: 4 | T14: =S14&D14 -> 4 | U14: =IF($T14="4전","1.80",IF($T14="4과","1.80",IF($T14="4목","1.80",0))) -> 0 | V14: =IF($T14="4답","1.80",0) -> 0 | W14: =IF($T14="4대","1.65",IF($T14="4장","1.65",IF($T14="4창","1.65",0))) -> 0 | X14: =IF($T14="4임","2.50",0) -> 0 | Y14: =IF($D14="전",0,IF($D14="답",0,IF($D14="대",0,IF($D14="임",0,IF($D14="과",0,IF($D14="목",0,IF($D14="장",0,IF($D14="창",0,2.5)))))))) -> 2.5 | Z14: 0
M15: =CONCATENATE(D15,G15) | Y15: =IF($D11="전",0,IF($D11="답",0,IF($D11="대",0,IF($D11="임",0,IF($D11="과",0,IF($D11="목",0,IF($D11="장",0,IF($D11="창",0,2.5)))))))) -> 0
M16: =CONCATENATE(D16,G16) | Y16: =IF($D16="전",0,IF($D16="답",0,IF($D16="대",0,IF($D16="임",0,IF($D16="과",0,IF($D16="목",0,IF($D16="장",0,IF($D16="창",0,2.5)))))))) -> 2.5
M17: =CONCATENATE(D17,G17) | Y17: =IF($D13="전",0,IF($D13="답",0,IF($D13="대",0,IF($D13="임",0,IF($D13="과",0,IF($D13="목",0,IF($D13="장",0,IF($D13="창",0,2.5)))))))) -> 2.5
M18: =CONCATENATE(D18,G18) | Y18: =IF($D18="전",0,IF($D18="답",0,IF($D18="대",0,IF($D18="임",0,IF($D18="과",0,IF($D18="목",0,IF($D18="장",0,IF($D18="창",0,2.5)))))))) -> 2.5
M19: =CONCATENATE(D19,G19)
M20: =CONCATENATE(D20,G20)
M21: =CONCATENATE(D21,G21)
M22: =CONCATENATE(D22,G22)
M24: =CONCATENATE(D24,G24)
M25: =CONCATENATE(D25,G25)
A26: 합계 | E26: =SUM(E7:E25) -> 13502 | F26: =SUM(F7:F25) -> 1152 | M26: =CONCATENATE(D26,G26) | T26: =S26&D26 | U26: =IF($T26="4전","1.80",IF($T26="4과","1.80",IF($T26="4목","1.80",0))) -> 0 | V26: =IF($T26="4답","1.80",0) -> 0 | W26: =IF($T26="4대","1.65",IF($T26="4장","1.65",IF($T26="4창","1.65",0))) -> 0 | X26: =IF($T26="4임","2.50",0) -> 0 | Y26: =IF($D26="전",0,IF($D26="답",0,IF($D26="대",0,IF($D26="임",0,IF($D26="과",0,IF($D26="목",0,IF($D26="장",0,IF($D26="창",0,2.5)))))))) -> 2.5
M27: =CONCATENATE(D27,G27)
M28: =CONCATENATE(D28,G28)
M29: =CONCATENATE(D29,G29)
M30: =CONCATENATE(D30,G30)
M31: =CONCATENATE(D31,G31)
M32: =CONCATENATE(D32,G32)
M33: =CONCATENATE(D33,G33)
M34: =CONCATENATE(D34,G34)
M35: =CONCATENATE(D35,G35)
M36: =CONCATENATE(D36,G36)
M37: =CONCATENATE(D37,G37)
M38: =CONCATENATE(D38,G38)
... M46: =CONCATENATE(D46,G46)
C47: 소 계 | E47: =SUM(E27:E46) -> 0 | F47: =SUM(F27:F46) -> 0 | M47: =CONCATENATE(D47,G47) | T47: =S47&D47 | U47: =IF($T47="4전","1.80",IF($T47="4과","1.80",IF($T47="4목","1.80",0))) -> 0 | V47: =IF($T47="4답","1.80",0) -> 0 | W47: =IF($T47="4대","1.65",IF($T47="4장","1.65",IF($T47="4창","1.65",0))) -> 0 | X47: =IF($T47="4임","2.50",0) -> 0 | Y47: =IF($D47="전",0,IF($D47="답",0,IF($D47="대",0,IF($D47="임",0,IF($D47="과",0,IF($D47="목",0,IF($D47="장",0,IF($D47="창",0,2.5)))))))) -> 2.5
M48: =CONCATENATE(D48,G48)
M49: =CONCATENATE(D49,G49)
M50: =CONCATENATE(D50,G50)
M51: =CONCATENATE(D51,G51)
M52: =CONCATENATE(D52,G52)
M53: =CONCATENATE(D53,G53)
M54: =CONCATENATE(D54,G54)
M55: =CONCATENATE(D55,G55)
M56: =CONCATENATE(D56,G56)
M57: =CONCATENATE(D57,G57)
M58: =CONCATENATE(D58,G58)
M59: =CONCATENATE(D59,G59)
... M67: =CONCATENATE(D67,G67)
C68: 소 계 | E68: =SUM(E48:E67) -> 0 | F68: =SUM(F48:F67) -> 0 | M68: =CONCATENATE(D68,G68) | T68: =S68&D68 | U68: =IF($T68="4전","1.80",IF($T68="4과","1.80",IF($T68="4목","1.80",0))) -> 0 | V68: =IF($T68="4답","1.80",0) -> 0 | W68: =IF($T68="4대","1.65",IF($T68="4장","1.65",IF($T68="4창","1.65",0))) -> 0 | X68: =IF($T68="4임","2.50",0) -> 0 | Y68: =IF($D68="전",0,IF($D68="답",0,IF($D68="대",0,IF($D68="임",0,IF($D68="과",0,IF($D68="목",0,IF($D68="장",0,IF($D68="창",0,2.5)))))))) -> 2.5
A70: 41 | B70: 41 | M70: =CONCATENATE(D70,G70) | R70: =U70&V70&W70&X70&Y70 -> 00002.5 | S70: 4 | T70: =S70&D70 -> 4 | U70: =IF($T70="4전","1.80",IF($T70="4과","1.80",IF($T70="4목","1.80",0))) -> 0 | V70: =IF($T70="4답","1.80",0) -> 0 | W70: =IF($T70="4대","1.65",IF($T70="4장","1.65",IF($T70="4창","1.65",0))) -> 0 | X70: =IF($T70="4임","2.50",0) -> 0 | Y70: =IF($D70="전",0,IF($D70="답",0,IF($D70="대",0,IF($D70="임",0,IF($D70="과",0,IF($D70="목",0,IF($D70="장",0,IF($D70="창",0,2.5)))))))) -> 2.5 | Z70: 0
A71: 42 | B71: 42 | M71: =CONCATENATE(D71,G71) | R71: =U71&V71&W71&X71&Y71 -> 00002.5 | S71: 4 | T71: =S71&D71 -> 4 | U71: =IF($T71="4전","1.80",IF($T71="4과","1.80",IF($T71="4목","1.80",0))) -> 0 | V71: =IF($T71="4답","1.80",0) -> 0 | W71: =IF($T71="4대","1.65",IF($T71="4장","1.65",IF($T71="4창","1.65",0))) -> 0 | X71: =IF($T71="4임","2.50",0) -> 0 | Y71: =IF($D71="전",0,IF($D71="답",0,IF($D71="대",0,IF($D71="임",0,IF($D71="과",0,IF($D71="목",0,IF($D71="장",0,IF($D71="창",0,2.5)))))))) -> 2.5 | Z71: 0
A72: 43 | B72: 43 | M72: =CONCATENATE(D72,G72) | R72: =U72&V72&W72&X72&Y72 -> 00002.5 | S72: 4 | T72: =S72&D72 -> 4 | U72: =IF($T72="4전","1.80",IF($T72="4과","1.80",IF($T72="4목","1.80",0))) -> 0 | V72: =IF($T72="4답","1.80",0) -> 0 | W72: =IF($T72="4대","1.65",IF($T72="4장","1.65",IF($T72="4창","1.65",0))) -> 0 | X72: =IF($T72="4임","2.50",0) -> 0 | Y72: =IF($D72="전",0,IF($D72="답",0,IF($D72="대",0,IF($D72="임",0,IF($D72="과",0,IF($D72="목",0,IF($D72="장",0,IF($D72="창",0,2.5)))))))) -> 2.5 | Z72: 0
A73: 44 | B73: 44 | M73: =CONCATENATE(D73,G73) | R73: =U73&V73&W73&X73&Y73 -> 00002.5 | S73: 4 | T73: =S73&D73 -> 4 | U73: =IF($T73="4전","1.80",IF($T73="4과","1.80",IF($T73="4목","1.80",0))) -> 0 | V73: =IF($T73="4답","1.80",0) -> 0 | W73: =IF($T73="4대","1.65",IF($T73="4장","1.65",IF($T73="4창","1.65",0))) -> 0 | X73: =IF($T73="4임","2.50",0) -> 0 | Y73: =IF($D73="전",0,IF($D73="답",0,IF($D73="대",0,IF($D73="임",0,IF($D73="과",0,IF($D73="목",0,IF($D73="장",0,IF($D73="창",0,2.5)))))))) -> 2.5 | Z73: 0
A74: 45 | B74: 45 | M74: =CONCATENATE(D74,G74) | R74: =U74&V74&W74&X74&Y74 -> 00002.5 | S74: 4 | T74: =S74&D74 -> 4 | U74: =IF($T74="4전","1.80",IF($T74="4과","1.80",IF($T74="4목","1.80",0))) -> 0 | V74: =IF($T74="4답","1.80",0) -> 0 | W74: =IF($T74="4대","1.65",IF($T74="4장","1.65",IF($T74="4창","1.65",0))) -> 0 | X74: =IF($T74="4임","2.50",0) -> 0 | Y74: =IF($D74="전",0,IF($D74="답",0,IF($D74="대",0,IF($D74="임",0,IF($D74="과",0,IF($D74="목",0,IF($D74="장",0,IF($D74="창",0,2.5)))))))) -> 2.5 | Z74: 0
A75: 46 | B75: 46 | M75: =CONCATENATE(D75,G75) | R75: =U75&V75&W75&X75&Y75 -> 00002.5 | S75: 4 | T75: =S75&D75 -> 4 | U75: =IF($T75="4전","1.80",IF($T75="4과","1.80",IF($T75="4목","1.80",0))) -> 0 | V75: =IF($T75="4답","1.80",0) -> 0 | W75: =IF($T75="4대","1.65",IF($T75="4장","1.65",IF($T75="4창","1.65",0))) -> 0 | X75: =IF($T75="4임","2.50",0) -> 0 | Y75: =IF($D75="전",0,IF($D75="답",0,IF($D75="대",0,IF($D75="임",0,IF($D75="과",0,IF($D75="목",0,IF($D75="장",0,IF($D75="창",0,2.5)))))))) -> 2.5 | Z75: 0
A76: 47 | B76: 47 | M76: =CONCATENATE(D76,G76) | R76: =U76&V76&W76&X76&Y76 -> 00002.5 | S76: 4 | T76: =S76&D76 -> 4 | U76: =IF($T76="4전","1.80",IF($T76="4과","1.80",IF($T76="4목","1.80",0))) -> 0 | V76: =IF($T76="4답","1.80",0) -> 0 | W76: =IF($T76="4대","1.65",IF($T76="4장","1.65",IF($T76="4창","1.65",0))) -> 0 | X76: =IF($T76="4임","2.50",0) -> 0 | Y76: =IF($D76="전",0,IF($D76="답",0,IF($D76="대",0,IF($D76="임",0,IF($D76="과",0,IF($D76="목",0,IF($D76="장",0,IF($D76="창",0,2.5)))))))) -> 2.5 | Z76: 0
A77: 48 | B77: 48 | M77: =CONCATENATE(D77,G77) | R77: =U77&V77&W77&X77&Y77 -> 00002.5 | S77: 4 | T77: =S77&D77 -> 4 | U77: =IF($T77="4전","1.80",IF($T77="4과","1.80",IF($T77="4목","1.80",0))) -> 0 | V77: =IF($T77="4답","1.80",0) -> 0 | W77: =IF($T77="4대","1.65",IF($T77="4장","1.65",IF($T77="4창","1.65",0))) -> 0 | X77: =IF($T77="4임","2.50",0) -> 0 | Y77: =IF($D77="전",0,IF($D77="답",0,IF($D77="대",0,IF($D77="임",0,IF($D77="과",0,IF($D77="목",0,IF($D77="장",0,IF($D77="창",0,2.5)))))))) -> 2.5 | Z77: 0
A78: 49 | B78: 49 | M78: =CONCATENATE(D78,G78) | R78: =U78&V78&W78&X78&Y78 -> 00002.5 | S78: 4 | T78: =S78&D78 -> 4 | U78: =IF($T78="4전","1.80",IF($T78="4과","1.80",IF($T78="4목","1.80",0))) -> 0 | V78: =IF($T78="4답","1.80",0) -> 0 | W78: =IF($T78="4대","1.65",IF($T78="4장","1.65",IF($T78="4창","1.65",0))) -> 0 | X78: =IF($T78="4임","2.50",0) -> 0 | Y78: =IF($D78="전",0,IF($D78="답",0,IF($D78="대",0,IF($D78="임",0,IF($D78="과",0,IF($D78="목",0,IF($D78="장",0,IF($D78="창",0,2.5)))))))) -> 2.5 | Z78: 0
A79: 50 | B79: 50 | M79: =CONCATENATE(D79,G79) | R79: =U79&V79&W79&X79&Y79 -> 00002.5 | S79: 4 | T79: =S79&D79 -> 4 | U79: =IF($T79="4전","1.80",IF($T79="4과","1.80",IF($T79="4목","1.80",0))) -> 0 | V79: =IF($T79="4답","1.80",0) -> 0 | W79: =IF($T79="4대","1.65",IF($T79="4장","1.65",IF($T79="4창","1.65",0))) -> 0 | X79: =IF($T79="4임","2.50",0) -> 0 | Y79: =IF($D79="전",0,IF($D79="답",0,IF($D79="대",0,IF($D79="임",0,IF($D79="과",0,IF($D79="목",0,IF($D79="장",0,IF($D79="창",0,2.5)))))))) -> 2.5 | Z79: 0
A80: 51 | B80: 51 | M80: =CONCATENATE(D80,G80) | R80: =U80&V80&W80&X80&Y80 -> 00002.5 | S80: 4 | T80: =S80&D80 -> 4 | U80: =IF($T80="4전","1.80",IF($T80="4과","1.80",IF($T80="4목","1.80",0))) -> 0 | V80: =IF($T80="4답","1.80",0) -> 0 | W80: =IF($T80="4대","1.65",IF($T80="4장","1.65",IF($T80="4창","1.65",0))) -> 0 | X80: =IF($T80="4임","2.50",0) -> 0 | Y80: =IF($D80="전",0,IF($D80="답",0,IF($D80="대",0,IF($D80="임",0,IF($D80="과",0,IF($D80="목",0,IF($D80="장",0,IF($D80="창",0,2.5)))))))) -> 2.5 | Z80: 0
A81: 52 | B81: 52 | M81: =CONCATENATE(D81,G81) | R81: =U81&V81&W81&X81&Y81 -> 00002.5 | S81: 4 | T81: =S81&D81 -> 4 | U81: =IF($T81="4전","1.80",IF($T81="4과","1.80",IF($T81="4목","1.80",0))) -> 0 | V81: =IF($T81="4답","1.80",0) -> 0 | W81: =IF($T81="4대","1.65",IF($T81="4장","1.65",IF($T81="4창","1.65",0))) -> 0 | X81: =IF($T81="4임","2.50",0) -> 0 | Y81: =IF($D81="전",0,IF($D81="답",0,IF($D81="대",0,IF($D81="임",0,IF($D81="과",0,IF($D81="목",0,IF($D81="장",0,IF($D81="창",0,2.5)))))))) -> 2.5 | Z81: 0
... A89: 60 | B89: 60 | M89: =CONCATENATE(D89,G89) | R89: =U89&V89&W89&X89&Y89 -> 00002.5 | S89: 4 | T89: =S89&D89 -> 4 | U89: =IF($T89="4전","1.80",IF($T89="4과","1.80",IF($T89="4목","1.80",0))) -> 0 | V89: =IF($T89="4답","1.80",0) -> 0 | W89: =IF($T89="4대","1.65",IF($T89="4장","1.65",IF($T89="4창","1.65",0))) -> 0 | X89: =IF($T89="4임","2.50",0) -> 0 | Y89: =IF($D89="전",0,IF($D89="답",0,IF($D89="대",0,IF($D89="임",0,IF($D89="과",0,IF($D89="목",0,IF($D89="장",0,IF($D89="창",0,2.5)))))))) -> 2.5 | Z89: 0
C90: 소 계 | E90: =SUM(E70:E89) -> 0 | F90: =SUM(F70:F89) -> 0 | M90: =CONCATENATE(D90,G90) | T90: =S90&D90 | U90: =IF($T90="4전","1.80",IF($T90="4과","1.80",IF($T90="4목","1.80",0))) -> 0 | V90: =IF($T90="4답","1.80",0) -> 0 | W90: =IF($T90="4대","1.65",IF($T90="4장","1.65",IF($T90="4창","1.65",0))) -> 0 | X90: =IF($T90="4임","2.50",0) -> 0 | Y90: =IF($D90="전",0,IF($D90="답",0,IF($D90="대",0,IF($D90="임",0,IF($D90="과",0,IF($D90="목",0,IF($D90="장",0,IF($D90="창",0,2.5)))))))) -> 2.5
A91: 61 | B91: 61 | M91: =CONCATENATE(D91,G91) | R91: =U91&V91&W91&X91&Y91 -> 00002.5 | S91: 4 | T91: =S91&D91 -> 4 | U91: =IF($T91="4전","1.80",IF($T91="4과","1.80",IF($T91="4목","1.80",0))) -> 0 | V91: =IF($T91="4답","1.80",0) -> 0 | W91: =IF($T91="4대","1.65",IF($T91="4장","1.65",IF($T91="4창","1.65",0))) -> 0 | X91: =IF($T91="4임","2.50",0) -> 0 | Y91: =IF($D91="전",0,IF($D91="답",0,IF($D91="대",0,IF($D91="임",0,IF($D91="과",0,IF($D91="목",0,IF($D91="장",0,IF($D91="창",0,2.5)))))))) -> 2.5 | Z91: 0
A92: 62 | B92: 62 | M92: =CONCATENATE(D92,G92) | R92: =U92&V92&W92&X92&Y92 -> 00002.5 | S92: 4 | T92: =S92&D92 -> 4 | U92: =IF($T92="4전","1.80",IF($T92="4과","1.80",IF($T92="4목","1.80",0))) -> 0 | V92: =IF($T92="4답","1.80",0) -> 0 | W92: =IF($T92="4대","1.65",IF($T92="4장","1.65",IF($T92="4창","1.65",0))) -> 0 | X92: =IF($T92="4임","2.50",0) -> 0 | Y92: =IF($D92="전",0,IF($D92="답",0,IF($D92="대",0,IF($D92="임",0,IF($D92="과",0,IF($D92="목",0,IF($D92="장",0,IF($D92="창",0,2.5)))))))) -> 2.5 | Z92: 0
A93: 63 | B93: 63 | M93: =CONCATENATE(D93,G93) | R93: =U93&V93&W93&X93&Y93 -> 00002.5 | S93: 4 | T93: =S93&D93 -> 4 | U93: =IF($T93="4전","1.80",IF($T93="4과","1.80",IF($T93="4목","1.80",0))) -> 0 | V93: =IF($T93="4답","1.80",0) -> 0 | W93: =IF($T93="4대","1.65",IF($T93="4장","1.65",IF($T93="4창","1.65",0))) -> 0 | X93: =IF($T93="4임","2.50",0) -> 0 | Y93: =IF($D93="전",0,IF($D93="답",0,IF($D93="대",0,IF($D93="임",0,IF($D93="과",0,IF($D93="목",0,IF($D93="장",0,IF($D93="창",0,2.5)))))))) -> 2.5 | Z93: 0
A94: 64 | B94: 64 | M94: =CONCATENATE(D94,G94) | R94: =U94&V94&W94&X94&Y94 -> 00002.5 | S94: 4 | T94: =S94&D94 -> 4 | U94: =IF($T94="4전","1.80",IF($T94="4과","1.80",IF($T94="4목","1.80",0))) -> 0 | V94: =IF($T94="4답","1.80",0) -> 0 | W94: =IF($T94="4대","1.65",IF($T94="4장","1.65",IF($T94="4창","1.65",0))) -> 0 | X94: =IF($T94="4임","2.50",0) -> 0 | Y94: =IF($D94="전",0,IF($D94="답",0,IF($D94="대",0,IF($D94="임",0,IF($D94="과",0,IF($D94="목",0,IF($D94="장",0,IF($D94="창",0,2.5)))))))) -> 2.5 | Z94: 0
A95: 65 | B95: 65 | M95: =CONCATENATE(D95,G95) | R95: =U95&V95&W95&X95&Y95 -> 00002.5 | S95: 4 | T95: =S95&D95 -> 4 | U95: =IF($T95="4전","1.80",IF($T95="4과","1.80",IF($T95="4목","1.80",0))) -> 0 | V95: =IF($T95="4답","1.80",0) -> 0 | W95: =IF($T95="4대","1.65",IF($T95="4장","1.65",IF($T95="4창","1.65",0))) -> 0 | X95: =IF($T95="4임","2.50",0) -> 0 | Y95: =IF($D95="전",0,IF($D95="답",0,IF($D95="대",0,IF($D95="임",0,IF($D95="과",0,IF($D95="목",0,IF($D95="장",0,IF($D95="창",0,2.5)))))))) -> 2.5 | Z95: 0
A96: 66 | B96: 66 | M96: =CONCATENATE(D96,G96) | R96: =U96&V96&W96&X96&Y96 -> 00002.5 | S96: 4 | T96: =S96&D96 -> 4 | U96: =IF($T96="4전","1.80",IF($T96="4과","1.80",IF($T96="4목","1.80",0))) -> 0 | V96: =IF($T96="4답","1.80",0) -> 0 | W96: =IF($T96="4대","1.65",IF($T96="4장","1.65",IF($T96="4창","1.65",0))) -> 0 | X96: =IF($T96="4임","2.50",0) -> 0 | Y96: =IF($D96="전",0,IF($D96="답",0,IF($D96="대",0,IF($D96="임",0,IF($D96="과",0,IF($D96="목",0,IF($D96="장",0,IF($D96="창",0,2.5)))))))) -> 2.5 | Z96: 0
A97: 67 | B97: 67 | M97: =CONCATENATE(D97,G97) | R97: =U97&V97&W97&X97&Y97 -> 00002.5 | S97: 4 | T97: =S97&D97 -> 4 | U97: =IF($T97="4전","1.80",IF($T97="4과","1.80",IF($T97="4목","1.80",0))) -> 0 | V97: =IF($T97="4답","1.80",0) -> 0 | W97: =IF($T97="4대","1.65",IF($T97="4장","1.65",IF($T97="4창","1.65",0))) -> 0 | X97: =IF($T97="4임","2.50",0) -> 0 | Y97: =IF($D97="전",0,IF($D97="답",0,IF($D97="대",0,IF($D97="임",0,IF($D97="과",0,IF($D97="목",0,IF($D97="장",0,IF($D97="창",0,2.5)))))))) -> 2.5 | Z97: 0
A98: 68 | B98: 68 | M98: =CONCATENATE(D98,G98) | R98: =U98&V98&W98&X98&Y98 -> 00002.5 | S98: 4 | T98: =S98&D98 -> 4 | U98: =IF($T98="4전","1.80",IF($T98="4과","1.80",IF($T98="4목","1.80",0))) -> 0 | V98: =IF($T98="4답","1.80",0) -> 0 | W98: =IF($T98="4대","1.65",IF($T98="4장","1.65",IF($T98="4창","1.65",0))) -> 0 | X98: =IF($T98="4임","2.50",0) -> 0 | Y98: =IF($D98="전",0,IF($D98="답",0,IF($D98="대",0,IF($D98="임",0,IF($D98="과",0,IF($D98="목",0,IF($D98="장",0,IF($D98="창",0,2.5)))))))) -> 2.5 | Z98: 0
A99: 69 | B99: 69 | M99: =CONCATENATE(D99,G99) | R99: =U99&V99&W99&X99&Y99 -> 00002.5 | S99: 4 | T99: =S99&D99 -> 4 | U99: =IF($T99="4전","1.80",IF($T99="4과","1.80",IF($T99="4목","1.80",0))) -> 0 | V99: =IF($T99="4답","1.80",0) -> 0 | W99: =IF($T99="4대","1.65",IF($T99="4장","1.65",IF($T99="4창","1.65",0))) -> 0 | X99: =IF($T99="4임","2.50",0) -> 0 | Y99: =IF($D99="전",0,IF($D99="답",0,IF($D99="대",0,IF($D99="임",0,IF($D99="과",0,IF($D99="목",0,IF($D99="장",0,IF($D99="창",0,2.5)))))))) -> 2.5 | Z99: 0
A100: 70 | B100: 70 | M100: =CONCATENATE(D100,G100) | R100: =U100&V100&W100&X100&Y100 -> 00002.5 | S100: 4 | T100: =S100&D100 -> 4 | U100: =IF($T100="4전","1.80",IF($T100="4과","1.80",IF($T100="4목","1.80",0))) -> 0 | V100: =IF($T100="4답","1.80",0) -> 0 | W100: =IF($T100="4대","1.65",IF($T100="4장","1.65",IF($T100="4창","1.65",0))) -> 0 | X100: =IF($T100="4임","2.50",0) -> 0 | Y100: =IF($D100="전",0,IF($D100="답",0,IF($D100="대",0,IF($D100="임",0,IF($D100="과",0,IF($D100="목",0,IF($D100="장",0,IF($D100="창",0,2.5)))))))) -> 2.5 | Z100: 0
A101: 71 | B101: 71 | M101: =CONCATENATE(D101,G101) | R101: =U101&V101&W101&X101&Y101 -> 00002.5 | S101: 4 | T101: =S101&D101 -> 4 | U101: =IF($T101="4전","1.80",IF($T101="4과","1.80",IF($T101="4목","1.80",0))) -> 0 | V101: =IF($T101="4답","1.80",0) -> 0 | W101: =IF($T101="4대","1.65",IF($T101="4장","1.65",IF($T101="4창","1.65",0))) -> 0 | X101: =IF($T101="4임","2.50",0) -> 0 | Y101: =IF($D101="전",0,IF($D101="답",0,IF($D101="대",0,IF($D101="임",0,IF($D101="과",0,IF($D101="목",0,IF($D101="장",0,IF($D101="창",0,2.5)))))))) -> 2.5 | Z101: 0
A102: 72 | B102: 72 | M102: =CONCATENATE(D102,G102) | R102: =U102&V102&W102&X102&Y102 -> 00002.5 | S102: 4 | T102: =S102&D102 -> 4 | U102: =IF($T102="4전","1.80",IF($T102="4과","1.80",IF($T102="4목","1.80",0))) -> 0 | V102: =IF($T102="4답","1.80",0) -> 0 | W102: =IF($T102="4대","1.65",IF($T102="4장","1.65",IF($T102="4창","1.65",0))) -> 0 | X102: =IF($T102="4임","2.50",0) -> 0 | Y102: =IF($D102="전",0,IF($D102="답",0,IF($D102="대",0,IF($D102="임",0,IF($D102="과",0,IF($D102="목",0,IF($D102="장",0,IF($D102="창",0,2.5)))))))) -> 2.5 | Z102: 0
... A110: 80 | B110: 80 | M110: =CONCATENATE(D110,G110) | R110: =U110&V110&W110&X110&Y110 -> 00002.5 | S110: 4 | T110: =S110&D110 -> 4 | U110: =IF($T110="4전","1.80",IF($T110="4과","1.80",IF($T110="4목","1.80",0))) -> 0 | V110: =IF($T110="4답","1.80",0) -> 0 | W110: =IF($T110="4대","1.65",IF($T110="4장","1.65",IF($T110="4창","1.65",0))) -> 0 | X110: =IF($T110="4임","2.50",0) -> 0 | Y110: =IF($D110="전",0,IF($D110="답",0,IF($D110="대",0,IF($D110="임",0,IF($D110="과",0,IF($D110="목",0,IF($D110="장",0,IF($D110="창",0,2.5)))))))) -> 2.5 | Z110: 0
C111: 소 계 | E111: =SUM(E91:E110) -> 0 | F111: =SUM(F91:F110) -> 0 | M111: =CONCATENATE(D111,G111) | T111: =S111&D111 | U111: =IF($T111="4전","1.80",IF($T111="4과","1.80",IF($T111="4목","1.80",0))) -> 0 | V111: =IF($T111="4답","1.80",0) -> 0 | W111: =IF($T111="4대","1.65",IF($T111="4장","1.65",IF($T111="4창","1.65",0))) -> 0 | X111: =IF($T111="4임","2.50",0) -> 0 | Y111: =IF($D111="전",0,IF($D111="답",0,IF($D111="대",0,IF($D111="임",0,IF($D111="과",0,IF($D111="목",0,IF($D111="장",0,IF($D111="창",0,2.5)))))))) -> 2.5
A112: 81 | B112: 81 | M112: =CONCATENATE(D112,G112) | R112: =U112&V112&W112&X112&Y112 -> 00002.5 | S112: 4 | T112: =S112&D112 -> 4 | U112: =IF($T112="4전","1.80",IF($T112="4과","1.80",IF($T112="4목","1.80",0))) -> 0 | V112: =IF($T112="4답","1.80",0) -> 0 | W112: =IF($T112="4대","1.65",IF($T112="4장","1.65",IF($T112="4창","1.65",0))) -> 0 | X112: =IF($T112="4임","2.50",0) -> 0 | Y112: =IF($D112="전",0,IF($D112="답",0,IF($D112="대",0,IF($D112="임",0,IF($D112="과",0,IF($D112="목",0,IF($D112="장",0,IF($D112="창",0,2.5)))))))) -> 2.5 | Z112: 0
A113: 82 | B113: 82 | M113: =CONCATENATE(D113,G113) | R113: =U113&V113&W113&X113&Y113 -> 00002.5 | S113: 4 | T113: =S113&D113 -> 4 | U113: =IF($T113="4전","1.80",IF($T113="4과","1.80",IF($T113="4목","1.80",0))) -> 0 | V113: =IF($T113="4답","1.80",0) -> 0 | W113: =IF($T113="4대","1.65",IF($T113="4장","1.65",IF($T113="4창","1.65",0))) -> 0 | X113: =IF($T113="4임","2.50",0) -> 0 | Y113: =IF($D113="전",0,IF($D113="답",0,IF($D113="대",0,IF($D113="임",0,IF($D113="과",0,IF($D113="목",0,IF($D113="장",0,IF($D113="창",0,2.5)))))))) -> 2.5 | Z113: 0
A114: 83 | B114: 83 | M114: =CONCATENATE(D114,G114) | R114: =U114&V114&W114&X114&Y114 -> 00002.5 | S114: 4 | T114: =S114&D114 -> 4 | U114: =IF($T114="4전","1.80",IF($T114="4과","1.80",IF($T114="4목","1.80",0))) -> 0 | V114: =IF($T114="4답","1.80",0) -> 0 | W114: =IF($T114="4대","1.65",IF($T114="4장","1.65",IF($T114="4창","1.65",0))) -> 0 | X114: =IF($T114="4임","2.50",0) -> 0 | Y114: =IF($D114="전",0,IF($D114="답",0,IF($D114="대",0,IF($D114="임",0,IF($D114="과",0,IF($D114="목",0,IF($D114="장",0,IF($D114="창",0,2.5)))))))) -> 2.5 | Z114: 0
A115: 84 | B115: 84 | M115: =CONCATENATE(D115,G115) | R115: =U115&V115&W115&X115&Y115 -> 00002.5 | S115: 4 | T115: =S115&D115 -> 4 | U115: =IF($T115="4전","1.80",IF($T115="4과","1.80",IF($T115="4목","1.80",0))) -> 0 | V115: =IF($T115="4답","1.80",0) -> 0 | W115: =IF($T115="4대","1.65",IF($T115="4장","1.65",IF($T115="4창","1.65",0))) -> 0 | X115: =IF($T115="4임","2.50",0) -> 0 | Y115: =IF($D115="전",0,IF($D115="답",0,IF($D115="대",0,IF($D115="임",0,IF($D115="과",0,IF($D115="목",0,IF($D115="장",0,IF($D115="창",0,2.5)))))))) -> 2.5 | Z115: 0
M116: =CONCATENATE(D116,G116) | T116: =S116&D116 | U116: =IF($T116="4전","1.80",IF($T116="4과","1.80",IF($T116="4목","1.80",0))) -> 0 | V116: =IF($T116="4답","1.80",0) -> 0 | W116: =IF($T116="4대","1.65",IF($T116="4장","1.65",IF($T116="4창","1.65",0))) -> 0 | X116: =IF($T116="4임","2.50",0) -> 0 | Y116: =IF($D116="전",0,IF($D116="답",0,IF($D116="대",0,IF($D116="임",0,IF($D116="과",0,IF($D116="목",0,IF($D116="장",0,IF($D116="창",0,2.5)))))))) -> 2.5 | Z116: 0
M117: =CONCATENATE(D117,G117) | T117: =S117&D117 | U117: =IF($T117="4전","1.80",IF($T117="4과","1.80",IF($T117="4목","1.80",0))) -> 0 | V117: =IF($T117="4답","1.80",0) -> 0 | W117: =IF($T117="4대","1.65",IF($T117="4장","1.65",IF($T117="4창","1.65",0))) -> 0 | X117: =IF($T117="4임","2.50",0) -> 0 | Y117: =IF($D117="전",0,IF($D117="답",0,IF($D117="대",0,IF($D117="임",0,IF($D117="과",0,IF($D117="목",0,IF($D117="장",0,IF($D117="창",0,2.5)))))))) -> 2.5 | Z117: 0
M118: =CONCATENATE(D118,G118) | T118: =S118&D118 | U118: =IF($T118="4전","1.80",IF($T118="4과","1.80",IF($T118="4목","1.80",0))) -> 0 | V118: =IF($T118="4답","1.80",0) -> 0 | W118: =IF($T118="4대","1.65",IF($T118="4장","1.65",IF($T118="4창","1.65",0))) -> 0 | X118: =IF($T118="4임","2.50",0) -> 0 | Y118: =IF($D118="전",0,IF($D118="답",0,IF($D118="대",0,IF($D118="임",0,IF($D118="과",0,IF($D118="목",0,IF($D118="장",0,IF($D118="창",0,2.5)))))))) -> 2.5 | Z118: 0
M119: =CONCATENATE(D119,G119) | T119: =S119&D119 | U119: =IF($T119="4전","1.80",IF($T119="4과","1.80",IF($T119="4목","1.80",0))) -> 0 | V119: =IF($T119="4답","1.80",0) -> 0 | W119: =IF($T119="4대","1.65",IF($T119="4장","1.65",IF($T119="4창","1.65",0))) -> 0 | X119: =IF($T119="4임","2.50",0) -> 0 | Y119: =IF($D119="전",0,IF($D119="답",0,IF($D119="대",0,IF($D119="임",0,IF($D119="과",0,IF($D119="목",0,IF($D119="장",0,IF($D119="창",0,2.5)))))))) -> 2.5 | Z119: 0
M120: =CONCATENATE(D120,G120) | T120: =S120&D120 | U120: =IF($T120="4전","1.80",IF($T120="4과","1.80",IF($T120="4목","1.80",0))) -> 0 | V120: =IF($T120="4답","1.80",0) -> 0 | W120: =IF($T120="4대","1.65",IF($T120="4장","1.65",IF($T120="4창","1.65",0))) -> 0 | X120: =IF($T120="4임","2.50",0) -> 0 | Y120: =IF($D120="전",0,IF($D120="답",0,IF($D120="대",0,IF($D120="임",0,IF($D120="과",0,IF($D120="목",0,IF($D120="장",0,IF($D120="창",0,2.5)))))))) -> 2.5 | Z120: 0
M121: =CONCATENATE(D121,G121) | T121: =S121&D121 | U121: =IF($T121="4전","1.80",IF($T121="4과","1.80",IF($T121="4목","1.80",0))) -> 0 | V121: =IF($T121="4답","1.80",0) -> 0 | W121: =IF($T121="4대","1.65",IF($T121="4장","1.65",IF($T121="4창","1.65",0))) -> 0 | X121: =IF($T121="4임","2.50",0) -> 0 | Y121: =IF($D121="전",0,IF($D121="답",0,IF($D121="대",0,IF($D121="임",0,IF($D121="과",0,IF($D121="목",0,IF($D121="장",0,IF($D121="창",0,2.5)))))))) -> 2.5 | Z121: 0
M122: =CONCATENATE(D122,G122) | T122: =S122&D122 | U122: =IF($T122="4전","1.80",IF($T122="4과","1.80",IF($T122="4목","1.80",0))) -> 0 | V122: =IF($T122="4답","1.80",0) -> 0 | W122: =IF($T122="4대","1.65",IF($T122="4장","1.65",IF($T122="4창","1.65",0))) -> 0 | X122: =IF($T122="4임","2.50",0) -> 0 | Y122: =IF($D122="전",0,IF($D122="답",0,IF($D122="대",0,IF($D122="임",0,IF($D122="과",0,IF($D122="목",0,IF($D122="장",0,IF($D122="창",0,2.5)))))))) -> 2.5 | Z122: 0
M123: =CONCATENATE(D123,G123) | T123: =S123&D123 | U123: =IF($T123="4전","1.80",IF($T123="4과","1.80",IF($T123="4목","1.80",0))) -> 0 | V123: =IF($T123="4답","1.80",0) -> 0 | W123: =IF($T123="4대","1.65",IF($T123="4장","1.65",IF($T123="4창","1.65",0))) -> 0 | X123: =IF($T123="4임","2.50",0) -> 0 | Y123: =IF($D123="전",0,IF($D123="답",0,IF($D123="대",0,IF($D123="임",0,IF($D123="과",0,IF($D123="목",0,IF($D123="장",0,IF($D123="창",0,2.5)))))))) -> 2.5 | Z123: 0
M124: =CONCATENATE(D124,G124) | T124: =S124&D124 | U124: =IF($T124="4전","1.80",IF($T124="4과","1.80",IF($T124="4목","1.80",0))) -> 0 | V124: =IF($T124="4답","1.80",0) -> 0 | W124: =IF($T124="4대","1.65",IF($T124="4장","1.65",IF($T124="4창","1.65",0))) -> 0 | X124: =IF($T124="4임","2.50",0) -> 0 | Y124: =IF($D124="전",0,IF($D124="답",0,IF($D124="대",0,IF($D124="임",0,IF($D124="과",0,IF($D124="목",0,IF($D124="장",0,IF($D124="창",0,2.5)))))))) -> 2.5 | Z124: 0
M125: =CONCATENATE(D125,G125) | T125: =S125&D125 | U125: =IF($T125="4전","1.80",IF($T125="4과","1.80",IF($T125="4목","1.80",0))) -> 0 | V125: =IF($T125="4답","1.80",0) -> 0 | W125: =IF($T125="4대","1.65",IF($T125="4장","1.65",IF($T125="4창","1.65",0))) -> 0 | X125: =IF($T125="4임","2.50",0) -> 0 | Y125: =IF($D125="전",0,IF($D125="답",0,IF($D125="대",0,IF($D125="임",0,IF($D125="과",0,IF($D125="목",0,IF($D125="장",0,IF($D125="창",0,2.5)))))))) -> 2.5 | Z125: 0
M126: =CONCATENATE(D126,G126) | T126: =S126&D126 | U126: =IF($T126="4전","1.80",IF($T126="4과","1.80",IF($T126="4목","1.80",0))) -> 0 | V126: =IF($T126="4답","1.80",0) -> 0 | W126: =IF($T126="4대","1.65",IF($T126="4장","1.65",IF($T126="4창","1.65",0))) -> 0 | X126: =IF($T126="4임","2.50",0) -> 0 | Y126: =IF($D126="전",0,IF($D126="답",0,IF($D126="대",0,IF($D126="임",0,IF($D126="과",0,IF($D126="목",0,IF($D126="장",0,IF($D126="창",0,2.5)))))))) -> 2.5 | Z126: 0
M127: =CONCATENATE(D127,G127) | T127: =S127&D127 | U127: =IF($T127="4전","1.80",IF($T127="4과","1.80",IF($T127="4목","1.80",0))) -> 0 | V127: =IF($T127="4답","1.80",0) -> 0 | W127: =IF($T127="4대","1.65",IF($T127="4장","1.65",IF($T127="4창","1.65",0))) -> 0 | X127: =IF($T127="4임","2.50",0) -> 0 | Y127: =IF($D127="전",0,IF($D127="답",0,IF($D127="대",0,IF($D127="임",0,IF($D127="과",0,IF($D127="목",0,IF($D127="장",0,IF($D127="창",0,2.5)))))))) -> 2.5 | Z127: 0
... M130: =CONCATENATE(D130,G130) | T130: =S130&D130 | U130: =IF($T130="4전","1.80",IF($T130="4과","1.80",IF($T130="4목","1.80",0))) -> 0 | V130: =IF($T130="4답","1.80",0) -> 0 | W130: =IF($T130="4대","1.65",IF($T130="4장","1.65",IF($T130="4창","1.65",0))) -> 0 | X130: =IF($T130="4임","2.50",0) -> 0 | Y130: =IF($D130="전",0,IF($D130="답",0,IF($D130="대",0,IF($D130="임",0,IF($D130="과",0,IF($D130="목",0,IF($D130="장",0,IF($D130="창",0,2.5)))))))) -> 2.5 | Z130: 0
C131: 소 계 | E131: =SUM(E112:E130) -> 0 | F131: =SUM(F112:F130) -> 0 | M131: =CONCATENATE(D131,G131) | T131: =S131&D131 | U131: =IF($T131="4전","1.80",IF($T131="4과","1.80",IF($T131="4목","1.80",0))) -> 0 | V131: =IF($T131="4답","1.80",0) -> 0 | W131: =IF($T131="4대","1.65",IF($T131="4장","1.65",IF($T131="4창","1.65",0))) -> 0 | X131: =IF($T131="4임","2.50",0) -> 0 | Y131: =IF($D131="전",0,IF($D131="답",0,IF($D131="대",0,IF($D131="임",0,IF($D131="과",0,IF($D131="목",0,IF($D131="장",0,IF($D131="창",0,2.5)))))))) -> 2.5 | Z131: 0
C132: 합 계 | E132: =E131+E111+E90+#REF!+#REF! -> #REF! | F132: =F131+F111+F90+#REF!+#REF! -> #REF! | M132: =CONCATENATE(D132,G132) | T132: =S132&D132 | U132: =IF($T132="4전","1.80",IF($T132="4과","1.80",IF($T132="4목","1.80",0))) -> 0 | V132: =IF($T132="4답","1.80",0) -> 0 | W132: =IF($T132="4대","1.65",IF($T132="4장","1.65",IF($T132="4창","1.65",0))) -> 0 | X132: =IF($T132="4임","2.50",0) -> 0 | Y132: =IF($D132="전",0,IF($D132="답",0,IF($D132="대",0,IF($D132="임",0,IF($D132="과",0,IF($D132="목",0,IF($D132="장",0,IF($D132="창",0,2.5)))))))) -> 2.5
M133: =CONCATENATE(D133,G133) | Y133: 0 | Z133: 0
...

Sheet 거룡리
B1: 용 지 조 서 | T1: 지역 | U1: 전(과.목) | V1: 답 | W1: 대지(장.창) | X1: 임야 | Y1: 기타 | Z1: 참고문헌:도로.철도부문사업의 예비서타당성조사 표준지ㅣ침 수정.보완연구(제5판)
S2: 수도권 | T2: ①시부 | U2: 1.5 | V2: 1.5 | W2: 1.4 | X2: 2 | Y2: 2 | Z2: - 한국개발연구원 발행 2008.12
I3: 전남 진도군 의신면 거룡리 | T3: ②군부 | U3: 1.75 | V3: 1.75 | W3: 1.5 | X3: 2.5 | Y3: 2.5 | Z3: - <표3-52> 지역별 지목별 보상배율
A5: 구 | B5: 일련 | C5: 지 번 | D5: 지목 | E5: 지 적 | F5: 편입면적 | G5: 소 유 자 | I5: 관 계 인 | L5: 비고 | R5: 요율적용 | S5: 수도권외 | T5: ③시부 | U5: 1.75 | V5: 1.75 | W5: 1.65 | X5: 2.3 | Y5: 2.3 | Z5: 본사업적용 | AA5: 전(과.목) | AB5: 답 | AC5: 대지(장.창) | AD5: 임야 | AE5: 기타
A6: 분 | B6: 번호 | E6: ( ㎡ ) | F6: ( ㎡ ) | G6: 성 명 | H6: 주 소 | I6: 성 명 | J6: 주 소 | K6: 권리 관계 | O6: 국계법에 따른 용도지역 | P6: 개별공시지가(2019.01) | T6: ④군부 | U6: 1.8 | V6: 1.8 | W6: 1.65 | X6: 2.5 | Y6: 2.5 | Z6: 수도권 군부 | AA6: 1.8 | AB6: 1.8 | AC6: 1.65 | AD6: 2.5 | AE6: 2.5
A7: 1 | B7: 1 | C7: 490-3 | D7: 답 | E7: 172 | F7: 6 | G7: 국 | H7: 기획재정부 | M7: =CONCATENATE(D7,G7) -> 답국 | O7: 농림지역 | P7: 5570 | R7: =U7&V7&W7&X7&Y7 -> 01.80000 | S7: 4 | T7: =S7&D7 -> 4답 | U7: =IF($T7="4전","1.80",IF($T7="4과","1.80",IF($T7="4목","1.80",0))) -> 0 | V7: =IF($T7="4답","1.80",0) -> 1.80 | W7: =IF($T7="4대","1.65",IF($T7="4장","1.65",IF($T7="4창","1.65",0))) -> 0 | X7: =IF($T7="4임","2.50",0) -> 0 | Y7: =IF($D7="전",0,IF($D7="답",0,IF($D7="대",0,IF($D7="임",0,IF($D7="과",0,IF($D7="목",0,IF($D7="장",0,IF($D7="창",0,2.5)))))))) -> 0
A8: 2 | B8: 2 | C8: 489-1 | D8: 답 | E8: 1702 | F8: 769 | G8: 최*심 | H8: 전라남도 진도군 의신면 의신송정길 33-7 | M8: =CONCATENATE(D8,G8) -> 답최*심 | O8: 농림지역 | P8: 5860
A9: 3 | B9: 3 | C9: 484-1 | D9: 답 | E9: 2594 | F9: 427 | G9: 한*교 외1인 | H9: 진도면 성내리 183 | M9: =CONCATENATE(D9,G9) -> 답한*교 외1인 | O9: 농림지역 | P9: 5160 | R9: =U9&V9&W9&X9&Y9 -> 01.80000 | S9: 4 | T9: =S9&D9 -> 4답 | U9: =IF($T9="4전","1.80",IF($T9="4과","1.80",IF($T9="4목","1.80",0))) -> 0 | V9: =IF($T9="4답","1.80",0) -> 1.80 | W9: =IF($T9="4대","1.65",IF($T9="4장","1.65",IF($T9="4창","1.65",0))) -> 0 | X9: =IF($T9="4임","2.50",0) -> 0 | Y9: =IF($D9="전",0,IF($D9="답",0,IF($D9="대",0,IF($D9="임",0,IF($D9="과",0,IF($D9="목",0,IF($D9="장",0,IF($D9="창",0,2.5)))))))) -> 0 | Z9: 0
A10: 4 | B10: 4 | C10: 482-3 | D10: 전 | E10: 801 | F10: 433 | G10: 김*자 | H10: 의신면 거룡리763 | M10: =CONCATENATE(D10,G10) -> 전김*자 | O10: 농림지역 | P10: 5160 | R10: =U10&V10&W10&X10&Y10 -> 1.800000 | S10: 4 | T10: =S10&D10 -> 4전 | U10: =IF($T10="4전","1.80",IF($T10="4과","1.80",IF($T10="4목","1.80",0))) -> 1.80 | V10: =IF($T10="4답","1.80",0) -> 0 | W10: =IF($T10="4대","1.65",IF($T10="4장","1.65",IF($T10="4창","1.65",0))) -> 0 | X10: =IF($T10="4임","2.50",0) -> 0 | Y10: =IF($D10="전",0,IF($D10="답",0,IF($D10="대",0,IF($D10="임",0,IF($D10="과",0,IF($D10="목",0,IF($D10="장",0,IF($D10="창",0,2.5)))))))) -> 0 | Z10: 0
A11: 5 | B11: 5 | C11: 482-11 | D11: 구 | E11: 396 | F11: 156 | G11: 농업기반공사 | H11: 경기도 의왕시 포일동 487 | M11: =CONCATENATE(D11,G11) -> 구농업기반공사 | O11: 농림지역 | P11: 1710
A12: 6 | B12: 6 | C12: 482-8 | D12: 구 | E12: 13 | F12: 13 | G12: 농업기반공사 | H12: 경기도 의왕시 포일동 487 | M12: =CONCATENATE(D12,G12) -> 구농업기반공사 | O12: 농림지역 | P12: 1710
A13: 7 | B13: 7 | C13: 1024-8 | D13: 도 | E13: 111 | F13: 21 | G13: 국 | H13: 국토교통부 | M13: =CONCATENATE(D13,G13) -> 도국 | O13: 농림지역 | P13: 1710
A14: 8 | B14: 8 | C14: 1025-5 | D14: 구 | E14: 175 | F14: 27 | G14: 국 | H14: 기획재정부 | M14: =CONCATENATE(D14,G14) -> 구국 | O14: 농림지역 | P14: 1710
A15: 9 | B15: 9 | C15: 481-4 | D15: 구 | E15: 545 | F15: 77 | G15: 농업기반공사 | H15: 경기도 의왕시 포일동 487 | M15: =CONCATENATE(D15,G15) -> 구농업기반공사 | O15: 농림지역 | P15: 1710 | R15: =U15&V15&W15&X15&Y15 -> 00002.5 | S15: 4 | T15: =S15&D15 -> 4구 | U15: =IF($T15="4전","1.80",IF($T15="4과","1.80",IF($T15="4목","1.80",0))) -> 0 | V15: =IF($T15="4답","1.80",0) -> 0 | W15: =IF($T15="4대","1.65",IF($T15="4장","1.65",IF($T15="4창","1.65",0))) -> 0 | X15: =IF($T15="4임","2.50",0) -> 0 | Y15: =IF($D15="전",0,IF($D15="답",0,IF($D15="대",0,IF($D15="임",0,IF($D15="과",0,IF($D15="목",0,IF($D15="장",0,IF($D15="창",0,2.5)))))))) -> 2.5 | Z15: 0
A16: 10 | B16: 10 | C16: 481-1 | D16: 답 | E16: 2145 | F16: 159 | G16: 문*윤 | H16: 의신면 거룡리 996 | M16: =CONCATENATE(D16,G16) -> 답문*윤 | O16: 보전관리지역 | P16: 6200 | Y16: =IF($D12="전",0,IF($D12="답",0,IF($D12="대",0,IF($D12="임",0,IF($D12="과",0,IF($D12="목",0,IF($D12="장",0,IF($D12="창",0,2.5)))))))) -> 2.5
A17: 11 | B17: 11 | C17: 480-8 | D17: 도 | E17: 20 | F17: 20 | G17: 공 | H17: 전라남도 | M17: =CONCATENATE(D17,G17) -> 도공 | O17: 보전관리지역 | P17: 1380 | Y17: =IF($D17="전",0,IF($D17="답",0,IF($D17="대",0,IF($D17="임",0,IF($D17="과",0,IF($D17="목",0,IF($D17="장",0,IF($D17="창",0,2.5)))))))) -> 2.5
A18: 12 | B18: 12 | C18: 480-9 | D18: 도 | E18: 88 | F18: 88 | G18: 박*례 | H18: 전라남도 진도군 의신면 신정길 36-3 | M18: =CONCATENATE(D18,G18) -> 도박*례 | O18: 보전관리지역 | P18: 1380 | Y18: =IF($D14="전",0,IF($D14="답",0,IF($D14="대",0,IF($D14="임",0,IF($D14="과",0,IF($D14="목",0,IF($D14="장",0,IF($D14="창",0,2.5)))))))) -> 2.5
A19: 13 | B19: 13 | C19: 480-3 | D19: 답 | E19: 603 | F19: 261 | G19: 박*례 | H19: 전라남도 진도군 의신면 신정길 36-3 | M19: =CONCATENATE(D19,G19) -> 답박*례 | O19: 보전관리지역 | P19: 6200 | Y19: =IF($D19="전",0,IF($D19="답",0,IF($D19="대",0,IF($D19="임",0,IF($D19="과",0,IF($D19="목",0,IF($D19="장",0,IF($D19="창",0,2.5)))))))) -> 0
A20: 14 | B20: 14 | C20: 480-5 | D20: 도 | E20: 36 | F20: 36 | G20: 공 | H20: 진도군 | M20: =CONCATENATE(D20,G20) -> 도공 | O20: 보전관리지역 | P20: 1380
A21: 15 | B21: 17 | C21: 433-3 | D21: 답 | E21: 501 | F21: 295 | G21: 진*덕 | H21: 송정리 813 | M21: =CONCATENATE(D21,G21) -> 답진*덕 | O21: 계획관리지역 | P21: 5500
A22: 16 | B22: 18 | C22: 424-3 | D22: 답 | E22: 127 | F22: 127 | G22: 진*덕 | H22: 송정리 813 | M22: =CONCATENATE(D22,G22) -> 답진*덕 | O22: 계획관리지역 | P22: 5500
A23: 17 | B23: 24 | C23: 419-3 | D23: 답 | E23: 185 | F23: 80 | G23: 서*옥 | H23: 의신면 거룡리 226 | M23: =CONCATENATE(D23,G23) -> 답서*옥 | O23: 보전관리지역 | P23: 5660
A24: 18 | B24: 25 | C24: 418-3 | D24: 답 | E24: 486 | F24: 181 | G24: 양*영 | H24: 전라남도 진도군 의신면 거룡길 39-14 | M24: =CONCATENATE(D24,G24) -> 답양*영 | O24: 보전관리지역 | P24: 4980
A25: 19 | B25: 26 | C25: 417-1 | D25: 답 | E25: 1339 | F25: 519 | G25: 양*영 | H25: 전라남도 진도군 의신면 거룡길 39-14 | M25: =CONCATENATE(D25,G25) -> 답양*영 | O25: 보전관리지역 | P25: 4600
A26: 소계 | E26: =SUM(E7:E25) -> 12039 | F26: =SUM(F7:F25) -> 3695
A27: 20 | B27: 27 | C27: 416-3 | D27: 답 | E27: 1051 | F27: 489 | G27: 채*원 | H27: 의신면 거룡리 375 | M27: =CONCATENATE(D27,G27) -> 답채*원 | O27: 보전관리지역 | P27: 5660
A28: 21 | B28: 28 | C28: 397-5 | D28: 답 | E28: 131 | F28: 131 | G28: 박*식 | H28: 인천 남구 도화동 223-21 | M28: =CONCATENATE(D28,G28) -> 답박*식 | O28: 보전관리지역 | P28: 5660
A29: 22 | B29: 29 | C29: 413-2 | D29: 답 | E29: 972 | F29: 135 | G29: 채*원 | H29: 의신면 거룡리 375 | M29: =CONCATENATE(D29,G29) -> 답채*원 | O29: 보전관리지역 | P29: 5660
A30: 23 | B30: 30 | C30: 399-2 | D30: 도 | E30: 7 | F30: 7 | G30: 서*현 | H30: 의신면 거룡리 192 | M30: =CONCATENATE(D30,G30) -> 도서*현 | O30: 보전관리지역 | P30: 0
A31: 24 | B31: 31 | C31: 397-4 | D31: 도 | E31: 165 | F31: 96 | G31: 서*중 | M31: =CONCATENATE(D31,G31) -> 도서*중 | O31: 보전관리지역
A32: 25 | B32: 32 | C32: 396-4 | D32: 도 | E32: 1150 | F32: 497 | G32: 공 | H32: 진도군 | M32: =CONCATENATE(D32,G32) -> 도공 | O32: 보전관리지역 | P32: 1350
A33: 26 | B33: 33 | C33: 1042 | D33: 도 | E33: 528 | F33: 44 | G33: 국 | H33: 농림축산부 | M33: =CONCATENATE(D33,G33) -> 도국 | O33: 농림지역,보전관리지역 | P33: 1350
A34: 27 | B34: 34 | C34: 1039-15 | D34: 도 | E34: 50 | F34: 32 | G34: 공 | H34: 진도군 | M34: =CONCATENATE(D34,G34) -> 도공 | O34: 농림지역 | P34: 1780
A35: 28 | B35: 35 | C35: 1041-1 | D35: 구 | E35: 1064 | F35: 344 | G35: 국 | H35: 농림축산부 | M35: =CONCATENATE(D35,G35) -> 구국 | O35: 농림지역 | P35: 1780
A36: 29 | B36: 36 | C36: 1039-14 | D36: 도 | E36: 433 | F36: 433 | G36: 공 | H36: 전라남도 | M36: =CONCATENATE(D36,G36) -> 도공 | O36: 농림지역 | P36: 1780
A37: 30 | B37: 37 | C37: 1039 | D37: 답 | E37: 1896 | F37: 677 | G37: 이* | H37: 경기도 부천시 역곡로 471번가길 5, 2층 1호(고강동) | M37: =CONCATENATE(D37,G37) -> 답이* | O37: 농림지역 | P37: 6470
A38: 31 | B38: 38 | C38: 1041 | D38: 구 | E38: 2328 | F38: 112 | G38: 국 | H38: 농림축산부 | M38: =CONCATENATE(D38,G38) -> 구국 | O38: 농림지역 | P38: 1780
A39: 32 | B39: 39 | C39: 1040 | D39: 답 | E39: 3303 | F39: 13 | G39: 박*태 | H39: 진도군 의신면 거룡리 218 | M39: =CONCATENATE(D39,G39) -> 답박*태 | O39: 농림지역 | P39: 6290
A40: 33 | B40: 40 | C40: 1042-1 | D40: 도 | E40: 1352 | F40: 28 | G40: 국 | H40: 농림축산부 | M40: =CONCATENATE(D40,G40) -> 도국 | O40: 농림지역 | P40: 1780
A41: 34 | B41: 41 | C41: 482-4 | D41: 도 | E41: 2504 | F41: 240 | G41: 공 | H41: 진도군 | M41: =CONCATENATE(D41,G41) -> 도공 | O41: 농림지역 | P41: 1710
A42: 35 | B42: 42 | C42: 1072-11 | D42: 도 | E42: 22 | F42: 22 | G42: 차*리 외 3인 | H42: 진도군 의신면 거룡리 719 | M42: =CONCATENATE(D42,G42) -> 도차*리 외 3인 | O42: 농림지역 | P42: 1710 | Q42: 지적21.2
A43: 36 | B43: 43 | C43: 468-4 | D43: 도 | E43: 18 | F43: 18 | G43: 이*영 | H43: 군내면 둔전리 | M43: =CONCATENATE(D43,G43) -> 도이*영 | O43: 생산관리지역 | P43: 1320
A44: 37 | B44: 44 | C44: 468-2 | D44: 도 | E44: 69 | F44: 64 | G44: 이*영 | H44: 군내면 둔전리 | M44: =CONCATENATE(D44,G44) -> 도이*영 | O44: 생산관리지역 | P44: 1320
A45: 38 | B45: 45 | C45: 470-2 | D45: 도 | E45: 613 | F45: 17 | G45: 공 | H45: 진도군 | M45: =CONCATENATE(D45,G45) -> 도공 | O45: 생산관리지역 | P45: 1320
A46: 소계 | E46: =SUM(E27:E45) -> 17656 | F46: =SUM(F27:F45) -> 3399
A47: 39 | B47: 46 | C47: 1133 | D47: 구 | E47: 1030.6 | F47: 329 | G47: 국 | H47: 농림축산부 | M47: =CONCATENATE(D47,G47) -> 구국 | O47: 농림지역 | P47: 1710
A48: 40 | B48: 47 | C48: 1072-10 | D48: 도 | E48: 13 | F48: 13 | G48: 차*리 외 3인 | H48: 진도군 의신면 거룡리 719 | M48: =CONCATENATE(D48,G48) -> 도차*리 외 3인 | O48: 농림지역 | P48: 1710 | Q48: 지적12.5
A49: 41 | B49: 48 | C49: 1072-6 | D49: 답 | E49: 2065.8 | F49: 323 | G49: 김*리 외 3인 | H49: 전라남도 진도군 의신면 송정리 721 | M49: =CONCATENATE(D49,G49) -> 답김*리 외 3인 | O49: 농림지역 | P49: 6400
A50: 소계 | E50: =SUM(E47:E49) -> 3109.4 | F50: =SUM(F47:F49) -> 665
A51: 합계 | E51: =E26+E46+E50 -> 32804.4 | F51: =F26+F46+F50 -> 7759 | M51: =CONCATENATE(D51,G51) | T51: =S51&D51 | U51: =IF($T51="4전","1.80",IF($T51="4과","1.80",IF($T51="4목","1.80",0))) -> 0 | V51: =IF($T51="4답","1.80",0) -> 0 | W51: =IF($T51="4대","1.65",IF($T51="4장","1.65",IF($T51="4창","1.65",0))) -> 0 | X51: =IF($T51="4임","2.50",0) -> 0 | Y51: =IF($D51="전",0,IF($D51="답",0,IF($D51="대",0,IF($D51="임",0,IF($D51="과",0,IF($D51="목",0,IF($D51="장",0,IF($D51="창",0,2.5)))))))) -> 2.5
M52: =CONCATENATE(D52,G52)
M53: =CONCATENATE(D53,G53)
M54: =CONCATENATE(D54,G54)
M55: =CONCATENATE(D55,G55)
M56: =CONCATENATE(D56,G56)
M57: =CONCATENATE(D57,G57)
M58: =CONCATENATE(D58,G58)
M59: =CONCATENATE(D59,G59)
M60: =CONCATENATE(D60,G60)
M61: =CONCATENATE(D61,G61)
M62: =CONCATENATE(D62,G62)
M63: =CONCATENATE(D63,G63)
... M71: =CONCATENATE(D71,G71)
C72: 소 계 | E72: =SUM(E52:E71) -> 0 | F72: =SUM(F52:F71) -> 0 | M72: =CONCATENATE(D72,G72) | T72: =S72&D72 | U72: =IF($T72="4전","1.80",IF($T72="4과","1.80",IF($T72="4목","1.80",0))) -> 0 | V72: =IF($T72="4답","1.80",0) -> 0 | W72: =IF($T72="4대","1.65",IF($T72="4장","1.65",IF($T72="4창","1.65",0))) -> 0 | X72: =IF($T72="4임","2.50",0) -> 0 | Y72: =IF($D72="전",0,IF($D72="답",0,IF($D72="대",0,IF($D72="임",0,IF($D72="과",0,IF($D72="목",0,IF($D72="장",0,IF($D72="창",0,2.5)))))))) -> 2.5
M73: =CONCATENATE(D73,G73)
M74: =CONCATENATE(D74,G74)
M75: =CONCATENATE(D75,G75)
M76: =CONCATENATE(D76,G76)
M77: =CONCATENATE(D77,G77)
M78: =CONCATENATE(D78,G78)
M79: =CONCATENATE(D79,G79)
M80: =CONCATENATE(D80,G80)
M81: =CONCATENATE(D81,G81)
M82: =CONCATENATE(D82,G82)
M83: =CONCATENATE(D83,G83)
M84: =CONCATENATE(D84,G84)
... M92: =CONCATENATE(D92,G92)
C93: 소 계 | E93: =SUM(E73:E92) -> 0 | F93: =SUM(F73:F92) -> 0 | M93: =CONCATENATE(D93,G93) | T93: =S93&D93 | U93: =IF($T93="4전","1.80",IF($T93="4과","1.80",IF($T93="4목","1.80",0))) -> 0 | V93: =IF($T93="4답","1.80",0) -> 0 | W93: =IF($T93="4대","1.65",IF($T93="4장","1.65",IF($T93="4창","1.65",0))) -> 0 | X93: =IF($T93="4임","2.50",0) -> 0 | Y93: =IF($D93="전",0,IF($D93="답",0,IF($D93="대",0,IF($D93="임",0,IF($D93="과",0,IF($D93="목",0,IF($D93="장",0,IF($D93="창",0,2.5)))))))) -> 2.5
A95: 41 | B95: 41 | M95: =CONCATENATE(D95,G95) | R95: =U95&V95&W95&X95&Y95 -> 00002.5 | S95: 4 | T95: =S95&D95 -> 4 | U95: =IF($T95="4전","1.80",IF($T95="4과","1.80",IF($T95="4목","1.80",0))) -> 0 | V95: =IF($T95="4답","1.80",0) -> 0 | W95: =IF($T95="4대","1.65",IF($T95="4장","1.65",IF($T95="4창","1.65",0))) -> 0 | X95: =IF($T95="4임","2.50",0) -> 0 | Y95: =IF($D95="전",0,IF($D95="답",0,IF($D95="대",0,IF($D95="임",0,IF($D95="과",0,IF($D95="목",0,IF($D95="장",0,IF($D95="창",0,2.5)))))))) -> 2.5 | Z95: 0
A96: 42 | B96: 42 | M96: =CONCATENATE(D96,G96) | R96: =U96&V96&W96&X96&Y96 -> 00002.5 | S96: 4 | T96: =S96&D96 -> 4 | U96: =IF($T96="4전","1.80",IF($T96="4과","1.80",IF($T96="4목","1.80",0))) -> 0 | V96: =IF($T96="4답","1.80",0) -> 0 | W96: =IF($T96="4대","1.65",IF($T96="4장","1.65",IF($T96="4창","1.65",0))) -> 0 | X96: =IF($T96="4임","2.50",0) -> 0 | Y96: =IF($D96="전",0,IF($D96="답",0,IF($D96="대",0,IF($D96="임",0,IF($D96="과",0,IF($D96="목",0,IF($D96="장",0,IF($D96="창",0,2.5)))))))) -> 2.5 | Z96: 0
A97: 43 | B97: 43 | M97: =CONCATENATE(D97,G97) | R97: =U97&V97&W97&X97&Y97 -> 00002.5 | S97: 4 | T97: =S97&D97 -> 4 | U97: =IF($T97="4전","1.80",IF($T97="4과","1.80",IF($T97="4목","1.80",0))) -> 0 | V97: =IF($T97="4답","1.80",0) -> 0 | W97: =IF($T97="4대","1.65",IF($T97="4장","1.65",IF($T97="4창","1.65",0))) -> 0 | X97: =IF($T97="4임","2.50",0) -> 0 | Y97: =IF($D97="전",0,IF($D97="답",0,IF($D97="대",0,IF($D97="임",0,IF($D97="과",0,IF($D97="목",0,IF($D97="장",0,IF($D97="창",0,2.5)))))))) -> 2.5 | Z97: 0
A98: 44 | B98: 44 | M98: =CONCATENATE(D98,G98) | R98: =U98&V98&W98&X98&Y98 -> 00002.5 | S98: 4 | T98: =S98&D98 -> 4 | U98: =IF($T98="4전","1.80",IF($T98="4과","1.80",IF($T98="4목","1.80",0))) -> 0 | V98: =IF($T98="4답","1.80",0) -> 0 | W98: =IF($T98="4대","1.65",IF($T98="4장","1.65",IF($T98="4창","1.65",0))) -> 0 | X98: =IF($T98="4임","2.50",0) -> 0 | Y98: =IF($D98="전",0,IF($D98="답",0,IF($D98="대",0,IF($D98="임",0,IF($D98="과",0,IF($D98="목",0,IF($D98="장",0,IF($D98="창",0,2.5)))))))) -> 2.5 | Z98: 0
A99: 45 | B99: 45 | M99: =CONCATENATE(D99,G99) | R99: =U99&V99&W99&X99&Y99 -> 00002.5 | S99: 4 | T99: =S99&D99 -> 4 | U99: =IF($T99="4전","1.80",IF($T99="4과","1.80",IF($T99="4목","1.80",0))) -> 0 | V99: =IF($T99="4답","1.80",0) -> 0 | W99: =IF($T99="4대","1.65",IF($T99="4장","1.65",IF($T99="4창","1.65",0))) -> 0 | X99: =IF($T99="4임","2.50",0) -> 0 | Y99: =IF($D99="전",0,IF($D99="답",0,IF($D99="대",0,IF($D99="임",0,IF($D99="과",0,IF($D99="목",0,IF($D99="장",0,IF($D99="창",0,2.5)))))))) -> 2.5 | Z99: 0
A100: 46 | B100: 46 | M100: =CONCATENATE(D100,G100) | R100: =U100&V100&W100&X100&Y100 -> 00002.5 | S100: 4 | T100: =S100&D100 -> 4 | U100: =IF($T100="4전","1.80",IF($T100="4과","1.80",IF($T100="4목","1.80",0))) -> 0 | V100: =IF($T100="4답","1.80",0) -> 0 | W100: =IF($T100="4대","1.65",IF($T100="4장","1.65",IF($T100="4창","1.65",0))) -> 0 | X100: =IF($T100="4임","2.50",0) -> 0 | Y100: =IF($D100="전",0,IF($D100="답",0,IF($D100="대",0,IF($D100="임",0,IF($D100="과",0,IF($D100="목",0,IF($D100="장",0,IF($D100="창",0,2.5)))))))) -> 2.5 | Z100: 0
A101: 47 | B101: 47 | M101: =CONCATENATE(D101,G101) | R101: =U101&V101&W101&X101&Y101 -> 00002.5 | S101: 4 | T101: =S101&D101 -> 4 | U101: =IF($T101="4전","1.80",IF($T101="4과","1.80",IF($T101="4목","1.80",0))) -> 0 | V101: =IF($T101="4답","1.80",0) -> 0 | W101: =IF($T101="4대","1.65",IF($T101="4장","1.65",IF($T101="4창","1.65",0))) -> 0 | X101: =IF($T101="4임","2.50",0) -> 0 | Y101: =IF($D101="전",0,IF($D101="답",0,IF($D101="대",0,IF($D101="임",0,IF($D101="과",0,IF($D101="목",0,IF($D101="장",0,IF($D101="창",0,2.5)))))))) -> 2.5 | Z101: 0
A102: 48 | B102: 48 | M102: =CONCATENATE(D102,G102) | R102: =U102&V102&W102&X102&Y102 -> 00002.5 | S102: 4 | T102: =S102&D102 -> 4 | U102: =IF($T102="4전","1.80",IF($T102="4과","1.80",IF($T102="4목","1.80",0))) -> 0 | V102: =IF($T102="4답","1.80",0) -> 0 | W102: =IF($T102="4대","1.65",IF($T102="4장","1.65",IF($T102="4창","1.65",0))) -> 0 | X102: =IF($T102="4임","2.50",0) -> 0 | Y102: =IF($D102="전",0,IF($D102="답",0,IF($D102="대",0,IF($D102="임",0,IF($D102="과",0,IF($D102="목",0,IF($D102="장",0,IF($D102="창",0,2.5)))))))) -> 2.5 | Z102: 0
A103: 49 | B103: 49 | M103: =CONCATENATE(D103,G103) | R103: =U103&V103&W103&X103&Y103 -> 00002.5 | S103: 4 | T103: =S103&D103 -> 4 | U103: =IF($T103="4전","1.80",IF($T103="4과","1.80",IF($T103="4목","1.80",0))) -> 0 | V103: =IF($T103="4답","1.80",0) -> 0 | W103: =IF($T103="4대","1.65",IF($T103="4장","1.65",IF($T103="4창","1.65",0))) -> 0 | X103: =IF($T103="4임","2.50",0) -> 0 | Y103: =IF($D103="전",0,IF($D103="답",0,IF($D103="대",0,IF($D103="임",0,IF($D103="과",0,IF($D103="목",0,IF($D103="장",0,IF($D103="창",0,2.5)))))))) -> 2.5 | Z103: 0
A104: 50 | B104: 50 | M104: =CONCATENATE(D104,G104) | R104: =U104&V104&W104&X104&Y104 -> 00002.5 | S104: 4 | T104: =S104&D104 -> 4 | U104: =IF($T104="4전","1.80",IF($T104="4과","1.80",IF($T104="4목","1.80",0))) -> 0 | V104: =IF($T104="4답","1.80",0) -> 0 | W104: =IF($T104="4대","1.65",IF($T104="4장","1.65",IF($T104="4창","1.65",0))) -> 0 | X104: =IF($T104="4임","2.50",0) -> 0 | Y104: =IF($D104="전",0,IF($D104="답",0,IF($D104="대",0,IF($D104="임",0,IF($D104="과",0,IF($D104="목",0,IF($D104="장",0,IF($D104="창",0,2.5)))))))) -> 2.5 | Z104: 0
A105: 51 | B105: 51 | M105: =CONCATENATE(D105,G105) | R105: =U105&V105&W105&X105&Y105 -> 00002.5 | S105: 4 | T105: =S105&D105 -> 4 | U105: =IF($T105="4전","1.80",IF($T105="4과","1.80",IF($T105="4목","1.80",0))) -> 0 | V105: =IF($T105="4답","1.80",0) -> 0 | W105: =IF($T105="4대","1.65",IF($T105="4장","1.65",IF($T105="4창","1.65",0))) -> 0 | X105: =IF($T105="4임","2.50",0) -> 0 | Y105: =IF($D105="전",0,IF($D105="답",0,IF($D105="대",0,IF($D105="임",0,IF($D105="과",0,IF($D105="목",0,IF($D105="장",0,IF($D105="창",0,2.5)))))))) -> 2.5 | Z105: 0
A106: 52 | B106: 52 | M106: =CONCATENATE(D106,G106) | R106: =U106&V106&W106&X106&Y106 -> 00002.5 | S106: 4 | T106: =S106&D106 -> 4 | U106: =IF($T106="4전","1.80",IF($T106="4과","1.80",IF($T106="4목","1.80",0))) -> 0 | V106: =IF($T106="4답","1.80",0) -> 0 | W106: =IF($T106="4대","1.65",IF($T106="4장","1.65",IF($T106="4창","1.65",0))) -> 0 | X106: =IF($T106="4임","2.50",0) -> 0 | Y106: =IF($D106="전",0,IF($D106="답",0,IF($D106="대",0,IF($D106="임",0,IF($D106="과",0,IF($D106="목",0,IF($D106="장",0,IF($D106="창",0,2.5)))))))) -> 2.5 | Z106: 0
... A114: 60 | B114: 60 | M114: =CONCATENATE(D114,G114) | R114: =U114&V114&W114&X114&Y114 -> 00002.5 | S114: 4 | T114: =S114&D114 -> 4 | U114: =IF($T114="4전","1.80",IF($T114="4과","1.80",IF($T114="4목","1.80",0))) -> 0 | V114: =IF($T114="4답","1.80",0) -> 0 | W114: =IF($T114="4대","1.65",IF($T114="4장","1.65",IF($T114="4창","1.65",0))) -> 0 | X114: =IF($T114="4임","2.50",0) -> 0 | Y114: =IF($D114="전",0,IF($D114="답",0,IF($D114="대",0,IF($D114="임",0,IF($D114="과",0,IF($D114="목",0,IF($D114="장",0,IF($D114="창",0,2.5)))))))) -> 2.5 | Z114: 0
C115: 소 계 | E115: =SUM(E95:E114) -> 0 | F115: =SUM(F95:F114) -> 0 | M115: =CONCATENATE(D115,G115) | T115: =S115&D115 | U115: =IF($T115="4전","1.80",IF($T115="4과","1.80",IF($T115="4목","1.80",0))) -> 0 | V115: =IF($T115="4답","1.80",0) -> 0 | W115: =IF($T115="4대","1.65",IF($T115="4장","1.65",IF($T115="4창","1.65",0))) -> 0 | X115: =IF($T115="4임","2.50",0) -> 0 | Y115: =IF($D115="전",0,IF($D115="답",0,IF($D115="대",0,IF($D115="임",0,IF($D115="과",0,IF($D115="목",0,IF($D115="장",0,IF($D115="창",0,2.5)))))))) -> 2.5
A116: 61 | B116: 61 | M116: =CONCATENATE(D116,G116) | R116: =U116&V116&W116&X116&Y116 -> 00002.5 | S116: 4 | T116: =S116&D116 -> 4 | U116: =IF($T116="4전","1.80",IF($T116="4과","1.80",IF($T116="4목","1.80",0))) -> 0 | V116: =IF($T116="4답","1.80",0) -> 0 | W116: =IF($T116="4대","1.65",IF($T116="4장","1.65",IF($T116="4창","1.65",0))) -> 0 | X116: =IF($T116="4임","2.50",0) -> 0 | Y116: =IF($D116="전",0,IF($D116="답",0,IF($D116="대",0,IF($D116="임",0,IF($D116="과",0,IF($D116="목",0,IF($D116="장",0,IF($D116="창",0,2.5)))))))) -> 2.5 | Z116: 0
A117: 62 | B117: 62 | M117: =CONCATENATE(D117,G117) | R117: =U117&V117&W117&X117&Y117 -> 00002.5 | S117: 4 | T117: =S117&D117 -> 4 | U117: =IF($T117="4전","1.80",IF($T117="4과","1.80",IF($T117="4목","1.80",0))) -> 0 | V117: =IF($T117="4답","1.80",0) -> 0 | W117: =IF($T117="4대","1.65",IF($T117="4장","1.65",IF($T117="4창","1.65",0))) -> 0 | X117: =IF($T117="4임","2.50",0) -> 0 | Y117: =IF($D117="전",0,IF($D117="답",0,IF($D117="대",0,IF($D117="임",0,IF($D117="과",0,IF($D117="목",0,IF($D117="장",0,IF($D117="창",0,2.5)))))))) -> 2.5 | Z117: 0
A118: 63 | B118: 63 | M118: =CONCATENATE(D118,G118) | R118: =U118&V118&W118&X118&Y118 -> 00002.5 | S118: 4 | T118: =S118&D118 -> 4 | U118: =IF($T118="4전","1.80",IF($T118="4과","1.80",IF($T118="4목","1.80",0))) -> 0 | V118: =IF($T118="4답","1.80",0) -> 0 | W118: =IF($T118="4대","1.65",IF($T118="4장","1.65",IF($T118="4창","1.65",0))) -> 0 | X118: =IF($T118="4임","2.50",0) -> 0 | Y118: =IF($D118="전",0,IF($D118="답",0,IF($D118="대",0,IF($D118="임",0,IF($D118="과",0,IF($D118="목",0,IF($D118="장",0,IF($D118="창",0,2.5)))))))) -> 2.5 | Z118: 0
A119: 64 | B119: 64 | M119: =CONCATENATE(D119,G119) | R119: =U119&V119&W119&X119&Y119 -> 00002.5 | S119: 4 | T119: =S119&D119 -> 4 | U119: =IF($T119="4전","1.80",IF($T119="4과","1.80",IF($T119="4목","1.80",0))) -> 0 | V119: =IF($T119="4답","1.80",0) -> 0 | W119: =IF($T119="4대","1.65",IF($T119="4장","1.65",IF($T119="4창","1.65",0))) -> 0 | X119: =IF($T119="4임","2.50",0) -> 0 | Y119: =IF($D119="전",0,IF($D119="답",0,IF($D119="대",0,IF($D119="임",0,IF($D119="과",0,IF($D119="목",0,IF($D119="장",0,IF($D119="창",0,2.5)))))))) -> 2.5 | Z119: 0
A120: 65 | B120: 65 | M120: =CONCATENATE(D120,G120) | R120: =U120&V120&W120&X120&Y120 -> 00002.5 | S120: 4 | T120: =S120&D120 -> 4 | U120: =IF($T120="4전","1.80",IF($T120="4과","1.80",IF($T120="4목","1.80",0))) -> 0 | V120: =IF($T120="4답","1.80",0) -> 0 | W120: =IF($T120="4대","1.65",IF($T120="4장","1.65",IF($T120="4창","1.65",0))) -> 0 | X120: =IF($T120="4임","2.50",0) -> 0 | Y120: =IF($D120="전",0,IF($D120="답",0,IF($D120="대",0,IF($D120="임",0,IF($D120="과",0,IF($D120="목",0,IF($D120="장",0,IF($D120="창",0,2.5)))))))) -> 2.5 | Z120: 0
A121: 66 | B121: 66 | M121: =CONCATENATE(D121,G121) | R121: =U121&V121&W121&X121&Y121 -> 00002.5 | S121: 4 | T121: =S121&D121 -> 4 | U121: =IF($T121="4전","1.80",IF($T121="4과","1.80",IF($T121="4목","1.80",0))) -> 0 | V121: =IF($T121="4답","1.80",0) -> 0 | W121: =IF($T121="4대","1.65",IF($T121="4장","1.65",IF($T121="4창","1.65",0))) -> 0 | X121: =IF($T121="4임","2.50",0) -> 0 | Y121: =IF($D121="전",0,IF($D121="답",0,IF($D121="대",0,IF($D121="임",0,IF($D121="과",0,IF($D121="목",0,IF($D121="장",0,IF($D121="창",0,2.5)))))))) -> 2.5 | Z121: 0
A122: 67 | B122: 67 | M122: =CONCATENATE(D122,G122) | R122: =U122&V122&W122&X122&Y122 -> 00002.5 | S122: 4 | T122: =S122&D122 -> 4 | U122: =IF($T122="4전","1.80",IF($T122="4과","1.80",IF($T122="4목","1.80",0))) -> 0 | V122: =IF($T122="4답","1.80",0) -> 0 | W122: =IF($T122="4대","1.65",IF($T122="4장","1.65",IF($T122="4창","1.65",0))) -> 0 | X122: =IF($T122="4임","2.50",0) -> 0 | Y122: =IF($D122="전",0,IF($D122="답",0,IF($D122="대",0,IF($D122="임",0,IF($D122="과",0,IF($D122="목",0,IF($D122="장",0,IF($D122="창",0,2.5)))))))) -> 2.5 | Z122: 0
A123: 68 | B123: 68 | M123: =CONCATENATE(D123,G123) | R123: =U123&V123&W123&X123&Y123 -> 00002.5 | S123: 4 | T123: =S123&D123 -> 4 | U123: =IF($T123="4전","1.80",IF($T123="4과","1.80",IF($T123="4목","1.80",0))) -> 0 | V123: =IF($T123="4답","1.80",0) -> 0 | W123: =IF($T123="4대","1.65",IF($T123="4장","1.65",IF($T123="4창","1.65",0))) -> 0 | X123: =IF($T123="4임","2.50",0) -> 0 | Y123: =IF($D123="전",0,IF($D123="답",0,IF($D123="대",0,IF($D123="임",0,IF($D123="과",0,IF($D123="목",0,IF($D123="장",0,IF($D123="창",0,2.5)))))))) -> 2.5 | Z123: 0
...

Sheet 명동리
A1: 용 지 조 서 | R1: 지역 | S1: 전(과.목) | T1: 답 | U1: 대지(장.창) | V1: 임야 | W1: 기타 | X1: 참고문헌:도로.철도부문사업의 예비서타당성조사 표준지ㅣ침 수정.보완연구(제5판)
Q2: 수도권 | R2: ①시부 | S2: 1.5 | T2: 1.5 | U2: 1.4 | V2: 2 | W2: 2 | X2: - 한국개발연구원 발행 2008.12
J3: 홍천군 남면 명동리 | R3: ②군부 | S3: 1.75 | T3: 1.75 | U3: 1.5 | V3: 2.5 | W3: 2.5 | X3: - <표3-52> 지역별 지목별 보상배율
A5: 일련 | B5: 소재지 | C5: 소재지 | D5: 지 번 | E5: 지목 | F5: 지 적 | G5: 편입면적 | H5: 소 유 자 | J5: 관 계 인 | M5: 비고 | P5: 요율적용 | Q5: 수도권외 | R5: ③시부 | S5: 1.75 | T5: 1.75 | U5: 1.65 | V5: 2.3 | W5: 2.3 | X5: 본사업적용 | Y5: 전(과.목) | Z5: 답 | AA5: 대지(장.창) | AB5: 임야 | AC5: 기타
A6: 번호 | B6: 읍·면 | C6: 리 | F6: ( ㎡ ) | G6: ( ㎡ ) | H6: 성 명 | I6: 주 소 | J6: 성 명 | K6: 주 소 | L6: 권리관계 | R6: ④군부 | S6: 1.8 | T6: 1.8 | U6: 1.65 | V6: 2.5 | W6: 2.5 | X6: 수도권 군부 | Y6: 1.8 | Z6: 1.8 | AA6: 1.65 | AB6: 2.5 | AC6: 2.5
A7: 9 | B7: 남면 | C7: 명동리 | D7: 산13-1 | E7: 임 | F7: 6219 | G7: 2231 | H7: 공 | I7: 홍천군 | N7: =CONCATENATE(E7,H7) -> 임공 | P7: =S7&T7&U7&V7&W7 -> 0002.500 | Q7: 4 | R7: =Q7&E7 -> 4임 | S7: =IF($R7="4전","1.80",IF($R7="4과","1.80",IF($R7="4목","1.80",0))) -> 0 | T7: =IF($R7="4답","1.80",0) -> 0 | U7: =IF($R7="4대","1.65",IF($R7="4장","1.65",IF($R7="4창","1.65",0))) -> 0 | V7: =IF($R7="4임","2.50",0) -> 2.50 | W7: =IF($E7="전",0,IF($E7="답",0,IF($E7="대",0,IF($E7="임",0,IF($E7="과",0,IF($E7="목",0,IF($E7="장",0,IF($E7="창",0,2.5)))))))) -> 0
N8: =CONCATENATE(E8,H8) | P8: =S8&T8&U8&V8&W8 -> 00002.5 | Q8: 4 | R8: =Q8&E8 -> 4 | S8: =IF($R8="4전","1.80",IF($R8="4과","1.80",IF($R8="4목","1.80",0))) -> 0 | T8: =IF($R8="4답","1.80",0) -> 0 | U8: =IF($R8="4대","1.65",IF($R8="4장","1.65",IF($R8="4창","1.65",0))) -> 0 | V8: =IF($R8="4임","2.50",0) -> 0 | W8: =IF($E8="전",0,IF($E8="답",0,IF($E8="대",0,IF($E8="임",0,IF($E8="과",0,IF($E8="목",0,IF($E8="장",0,IF($E8="창",0,2.5)))))))) -> 2.5 | X8: 0
N9: =CONCATENATE(E9,H9) | P9: =S9&T9&U9&V9&W9 -> 00002.5 | Q9: 4 | R9: =Q9&E9 -> 4 | S9: =IF($R9="4전","1.80",IF($R9="4과","1.80",IF($R9="4목","1.80",0))) -> 0 | T9: =IF($R9="4답","1.80",0) -> 0 | U9: =IF($R9="4대","1.65",IF($R9="4장","1.65",IF($R9="4창","1.65",0))) -> 0 | V9: =IF($R9="4임","2.50",0) -> 0 | W9: =IF($E9="전",0,IF($E9="답",0,IF($E9="대",0,IF($E9="임",0,IF($E9="과",0,IF($E9="목",0,IF($E9="장",0,IF($E9="창",0,2.5)))))))) -> 2.5 | X9: 0
N10: =CONCATENATE(E10,H10) | P10: =S10&T10&U10&V10&W10 -> 00002.5 | Q10: 4 | R10: =Q10&E10 -> 4 | S10: =IF($R10="4전","1.80",IF($R10="4과","1.80",IF($R10="4목","1.80",0))) -> 0 | T10: =IF($R10="4답","1.80",0) -> 0 | U10: =IF($R10="4대","1.65",IF($R10="4장","1.65",IF($R10="4창","1.65",0))) -> 0 | V10: =IF($R10="4임","2.50",0) -> 0 | W10: =IF($E10="전",0,IF($E10="답",0,IF($E10="대",0,IF($E10="임",0,IF($E10="과",0,IF($E10="목",0,IF($E10="장",0,IF($E10="창",0,2.5)))))))) -> 2.5 | X10: 0
N11: =CONCATENATE(E11,H11) | P11: =S11&T11&U11&V11&W11 -> 00002.5 | Q11: 4 | R11: =Q11&E11 -> 4 | S11: =IF($R11="4전","1.80",IF($R11="4과","1.80",IF($R11="4목","1.80",0))) -> 0 | T11: =IF($R11="4답","1.80",0) -> 0 | U11: =IF($R11="4대","1.65",IF($R11="4장","1.65",IF($R11="4창","1.65",0))) -> 0 | V11: =IF($R11="4임","2.50",0) -> 0 | W11: =IF($E11="전",0,IF($E11="답",0,IF($E11="대",0,IF($E11="임",0,IF($E11="과",0,IF($E11="목",0,IF($E11="장",0,IF($E11="창",0,2.5)))))))) -> 2.5 | X11: 0
N12: =CONCATENATE(E12,H12) | P12: =S12&T12&U12&V12&W12 -> 00002.5 | Q12: 4 | R12: =Q12&E12 -> 4 | S12: =IF($R12="4전","1.80",IF($R12="4과","1.80",IF($R12="4목","1.80",0))) -> 0 | T12: =IF($R12="4답","1.80",0) -> 0 | U12: =IF($R12="4대","1.65",IF($R12="4장","1.65",IF($R12="4창","1.65",0))) -> 0 | V12: =IF($R12="4임","2.50",0) -> 0 | W12: =IF($E12="전",0,IF($E12="답",0,IF($E12="대",0,IF($E12="임",0,IF($E12="과",0,IF($E12="목",0,IF($E12="장",0,IF($E12="창",0,2.5)))))))) -> 2.5 | X12: 0
N13: =CONCATENATE(E13,H13) | P13: =S13&T13&U13&V13&W13 -> 00002.5 | Q13: 4 | R13: =Q13&E13 -> 4 | S13: =IF($R13="4전","1.80",IF($R13="4과","1.80",IF($R13="4목","1.80",0))) -> 0 | T13: =IF($R13="4답","1.80",0) -> 0 | U13: =IF($R13="4대","1.65",IF($R13="4장","1.65",IF($R13="4창","1.65",0))) -> 0 | V13: =IF($R13="4임","2.50",0) -> 0 | W13: =IF($E13="전",0,IF($E13="답",0,IF($E13="대",0,IF($E13="임",0,IF($E13="과",0,IF($E13="목",0,IF($E13="장",0,IF($E13="창",0,2.5)))))))) -> 2.5 | X13: 0
N14: =CONCATENATE(E14,H14) | P14: =S14&T14&U14&V14&W14 -> 00002.5 | Q14: 4 | R14: =Q14&E14 -> 4 | S14: =IF($R14="4전","1.80",IF($R14="4과","1.80",IF($R14="4목","1.80",0))) -> 0 | T14: =IF($R14="4답","1.80",0) -> 0 | U14: =IF($R14="4대","1.65",IF($R14="4장","1.65",IF($R14="4창","1.65",0))) -> 0 | V14: =IF($R14="4임","2.50",0) -> 0 | W14: =IF($E14="전",0,IF($E14="답",0,IF($E14="대",0,IF($E14="임",0,IF($E14="과",0,IF($E14="목",0,IF($E14="장",0,IF($E14="창",0,2.5)))))))) -> 2.5 | X14: 0
D26: 소 계 | F26: =SUM(F7:F25) -> 6219 | G26: =SUM(G7:G25) -> 2231 | R26: =Q26&E26 | S26: =IF($R26="4전","1.80",IF($R26="4과","1.80",IF($R26="4목","1.80",0))) -> 0 | T26: =IF($R26="4답","1.80",0) -> 0 | U26: =IF($R26="4대","1.65",IF($R26="4장","1.65",IF($R26="4창","1.65",0))) -> 0 | V26: =IF($R26="4임","2.50",0) -> 0 | W26: =IF($E26="전",0,IF($E26="답",0,IF($E26="대",0,IF($E26="임",0,IF($E26="과",0,IF($E26="목",0,IF($E26="장",0,IF($E26="창",0,2.5)))))))) -> 2.5
A28: 41 | N28: =CONCATENATE(E28,H28) | P28: =S28&T28&U28&V28&W28 -> 00002.5 | Q28: 4 | R28: =Q28&E28 -> 4 | S28: =IF($R28="4전","1.80",IF($R28="4과","1.80",IF($R28="4목","1.80",0))) -> 0 | T28: =IF($R28="4답","1.80",0) -> 0 | U28: =IF($R28="4대","1.65",IF($R28="4장","1.65",IF($R28="4창","1.65",0))) -> 0 | V28: =IF($R28="4임","2.50",0) -> 0 | W28: =IF($E28="전",0,IF($E28="답",0,IF($E28="대",0,IF($E28="임",0,IF($E28="과",0,IF($E28="목",0,IF($E28="장",0,IF($E28="창",0,2.5)))))))) -> 2.5 | X28: 0
A29: 42 | N29: =CONCATENATE(E29,H29) | P29: =S29&T29&U29&V29&W29 -> 00002.5 | Q29: 4 | R29: =Q29&E29 -> 4 | S29: =IF($R29="4전","1.80",IF($R29="4과","1.80",IF($R29="4목","1.80",0))) -> 0 | T29: =IF($R29="4답","1.80",0) -> 0 | U29: =IF($R29="4대","1.65",IF($R29="4장","1.65",IF($R29="4창","1.65",0))) -> 0 | V29: =IF($R29="4임","2.50",0) -> 0 | W29: =IF($E29="전",0,IF($E29="답",0,IF($E29="대",0,IF($E29="임",0,IF($E29="과",0,IF($E29="목",0,IF($E29="장",0,IF($E29="창",0,2.5)))))))) -> 2.5 | X29: 0
A30: 43 | N30: =CONCATENATE(E30,H30) | P30: =S30&T30&U30&V30&W30 -> 00002.5 | Q30: 4 | R30: =Q30&E30 -> 4 | S30: =IF($R30="4전","1.80",IF($R30="4과","1.80",IF($R30="4목","1.80",0))) -> 0 | T30: =IF($R30="4답","1.80",0) -> 0 | U30: =IF($R30="4대","1.65",IF($R30="4장","1.65",IF($R30="4창","1.65",0))) -> 0 | V30: =IF($R30="4임","2.50",0) -> 0 | W30: =IF($E30="전",0,IF($E30="답",0,IF($E30="대",0,IF($E30="임",0,IF($E30="과",0,IF($E30="목",0,IF($E30="장",0,IF($E30="창",0,2.5)))))))) -> 2.5 | X30: 0
A31: 44 | N31: =CONCATENATE(E31,H31) | P31: =S31&T31&U31&V31&W31 -> 00002.5 | Q31: 4 | R31: =Q31&E31 -> 4 | S31: =IF($R31="4전","1.80",IF($R31="4과","1.80",IF($R31="4목","1.80",0))) -> 0 | T31: =IF($R31="4답","1.80",0) -> 0 | U31: =IF($R31="4대","1.65",IF($R31="4장","1.65",IF($R31="4창","1.65",0))) -> 0 | V31: =IF($R31="4임","2.50",0) -> 0 | W31: =IF($E31="전",0,IF($E31="답",0,IF($E31="대",0,IF($E31="임",0,IF($E31="과",0,IF($E31="목",0,IF($E31="장",0,IF($E31="창",0,2.5)))))))) -> 2.5 | X31: 0
A32: 45 | N32: =CONCATENATE(E32,H32) | P32: =S32&T32&U32&V32&W32 -> 00002.5 | Q32: 4 | R32: =Q32&E32 -> 4 | S32: =IF($R32="4전","1.80",IF($R32="4과","1.80",IF($R32="4목","1.80",0))) -> 0 | T32: =IF($R32="4답","1.80",0) -> 0 | U32: =IF($R32="4대","1.65",IF($R32="4장","1.65",IF($R32="4창","1.65",0))) -> 0 | V32: =IF($R32="4임","2.50",0) -> 0 | W32: =IF($E32="전",0,IF($E32="답",0,IF($E32="대",0,IF($E32="임",0,IF($E32="과",0,IF($E32="목",0,IF($E32="장",0,IF($E32="창",0,2.5)))))))) -> 2.5 | X32: 0
A33: 46 | N33: =CONCATENATE(E33,H33) | P33: =S33&T33&U33&V33&W33 -> 00002.5 | Q33: 4 | R33: =Q33&E33 -> 4 | S33: =IF($R33="4전","1.80",IF($R33="4과","1.80",IF($R33="4목","1.80",0))) -> 0 | T33: =IF($R33="4답","1.80",0) -> 0 | U33: =IF($R33="4대","1.65",IF($R33="4장","1.65",IF($R33="4창","1.65",0))) -> 0 | V33: =IF($R33="4임","2.50",0) -> 0 | W33: =IF($E33="전",0,IF($E33="답",0,IF($E33="대",0,IF($E33="임",0,IF($E33="과",0,IF($E33="목",0,IF($E33="장",0,IF($E33="창",0,2.5)))))))) -> 2.5 | X33: 0
A34: 47 | N34: =CONCATENATE(E34,H34) | P34: =S34&T34&U34&V34&W34 -> 00002.5 | Q34: 4 | R34: =Q34&E34 -> 4 | S34: =IF($R34="4전","1.80",IF($R34="4과","1.80",IF($R34="4목","1.80",0))) -> 0 | T34: =IF($R34="4답","1.80",0) -> 0 | U34: =IF($R34="4대","1.65",IF($R34="4장","1.65",IF($R34="4창","1.65",0))) -> 0 | V34: =IF($R34="4임","2.50",0) -> 0 | W34: =IF($E34="전",0,IF($E34="답",0,IF($E34="대",0,IF($E34="임",0,IF($E34="과",0,IF($E34="목",0,IF($E34="장",0,IF($E34="창",0,2.5)))))))) -> 2.5 | X34: 0
A35: 48 | N35: =CONCATENATE(E35,H35) | P35: =S35&T35&U35&V35&W35 -> 00002.5 | Q35: 4 | R35: =Q35&E35 -> 4 | S35: =IF($R35="4전","1.80",IF($R35="4과","1.80",IF($R35="4목","1.80",0))) -> 0 | T35: =IF($R35="4답","1.80",0) -> 0 | U35: =IF($R35="4대","1.65",IF($R35="4장","1.65",IF($R35="4창","1.65",0))) -> 0 | V35: =IF($R35="4임","2.50",0) -> 0 | W35: =IF($E35="전",0,IF($E35="답",0,IF($E35="대",0,IF($E35="임",0,IF($E35="과",0,IF($E35="목",0,IF($E35="장",0,IF($E35="창",0,2.5)))))))) -> 2.5 | X35: 0
A36: 49 | N36: =CONCATENATE(E36,H36) | P36: =S36&T36&U36&V36&W36 -> 00002.5 | Q36: 4 | R36: =Q36&E36 -> 4 | S36: =IF($R36="4전","1.80",IF($R36="4과","1.80",IF($R36="4목","1.80",0))) -> 0 | T36: =IF($R36="4답","1.80",0) -> 0 | U36: =IF($R36="4대","1.65",IF($R36="4장","1.65",IF($R36="4창","1.65",0))) -> 0 | V36: =IF($R36="4임","2.50",0) -> 0 | W36: =IF($E36="전",0,IF($E36="답",0,IF($E36="대",0,IF($E36="임",0,IF($E36="과",0,IF($E36="목",0,IF($E36="장",0,IF($E36="창",0,2.5)))))))) -> 2.5 | X36: 0
A37: 50 | N37: =CONCATENATE(E37,H37) | P37: =S37&T37&U37&V37&W37 -> 00002.5 | Q37: 4 | R37: =Q37&E37 -> 4 | S37: =IF($R37="4전","1.80",IF($R37="4과","1.80",IF($R37="4목","1.80",0))) -> 0 | T37: =IF($R37="4답","1.80",0) -> 0 | U37: =IF($R37="4대","1.65",IF($R37="4장","1.65",IF($R37="4창","1.65",0))) -> 0 | V37: =IF($R37="4임","2.50",0) -> 0 | W37: =IF($E37="전",0,IF($E37="답",0,IF($E37="대",0,IF($E37="임",0,IF($E37="과",0,IF($E37="목",0,IF($E37="장",0,IF($E37="창",0,2.5)))))))) -> 2.5 | X37: 0
A38: 51 | N38: =CONCATENATE(E38,H38) | P38: =S38&T38&U38&V38&W38 -> 00002.5 | Q38: 4 | R38: =Q38&E38 -> 4 | S38: =IF($R38="4전","1.80",IF($R38="4과","1.80",IF($R38="4목","1.80",0))) -> 0 | T38: =IF($R38="4답","1.80",0) -> 0 | U38: =IF($R38="4대","1.65",IF($R38="4장","1.65",IF($R38="4창","1.65",0))) -> 0 | V38: =IF($R38="4임","2.50",0) -> 0 | W38: =IF($E38="전",0,IF($E38="답",0,IF($E38="대",0,IF($E38="임",0,IF($E38="과",0,IF($E38="목",0,IF($E38="장",0,IF($E38="창",0,2.5)))))))) -> 2.5 | X38: 0
A39: 52 | N39: =CONCATENATE(E39,H39) | P39: =S39&T39&U39&V39&W39 -> 00002.5 | Q39: 4 | R39: =Q39&E39 -> 4 | S39: =IF($R39="4전","1.80",IF($R39="4과","1.80",IF($R39="4목","1.80",0))) -> 0 | T39: =IF($R39="4답","1.80",0) -> 0 | U39: =IF($R39="4대","1.65",IF($R39="4장","1.65",IF($R39="4창","1.65",0))) -> 0 | V39: =IF($R39="4임","2.50",0) -> 0 | W39: =IF($E39="전",0,IF($E39="답",0,IF($E39="대",0,IF($E39="임",0,IF($E39="과",0,IF($E39="목",0,IF($E39="장",0,IF($E39="창",0,2.5)))))))) -> 2.5 | X39: 0
... A47: 60 | N47: =CONCATENATE(E47,H47) | P47: =S47&T47&U47&V47&W47 -> 00002.5 | Q47: 4 | R47: =Q47&E47 -> 4 | S47: =IF($R47="4전","1.80",IF($R47="4과","1.80",IF($R47="4목","1.80",0))) -> 0 | T47: =IF($R47="4답","1.80",0) -> 0 | U47: =IF($R47="4대","1.65",IF($R47="4장","1.65",IF($R47="4창","1.65",0))) -> 0 | V47: =IF($R47="4임","2.50",0) -> 0 | W47: =IF($E47="전",0,IF($E47="답",0,IF($E47="대",0,IF($E47="임",0,IF($E47="과",0,IF($E47="목",0,IF($E47="장",0,IF($E47="창",0,2.5)))))))) -> 2.5 | X47: 0
D48: 소 계 | F48: =SUM(F28:F47) -> 0 | G48: =SUM(G28:G47) -> 0 | N48: =CONCATENATE(E48,H48) | R48: =Q48&E48 | S48: =IF($R48="4전","1.80",IF($R48="4과","1.80",IF($R48="4목","1.80",0))) -> 0 | T48: =IF($R48="4답","1.80",0) -> 0 | U48: =IF($R48="4대","1.65",IF($R48="4장","1.65",IF($R48="4창","1.65",0))) -> 0 | V48: =IF($R48="4임","2.50",0) -> 0 | W48: =IF($E48="전",0,IF($E48="답",0,IF($E48="대",0,IF($E48="임",0,IF($E48="과",0,IF($E48="목",0,IF($E48="장",0,IF($E48="창",0,2.5)))))))) -> 2.5
A49: 61 | N49: =CONCATENATE(E49,H49) | P49: =S49&T49&U49&V49&W49 -> 00002.5 | Q49: 4 | R49: =Q49&E49 -> 4 | S49: =IF($R49="4전","1.80",IF($R49="4과","1.80",IF($R49="4목","1.80",0))) -> 0 | T49: =IF($R49="4답","1.80",0) -> 0 | U49: =IF($R49="4대","1.65",IF($R49="4장","1.65",IF($R49="4창","1.65",0))) -> 0 | V49: =IF($R49="4임","2.50",0) -> 0 | W49: =IF($E49="전",0,IF($E49="답",0,IF($E49="대",0,IF($E49="임",0,IF($E49="과",0,IF($E49="목",0,IF($E49="장",0,IF($E49="창",0,2.5)))))))) -> 2.5 | X49: 0
A50: 62 | N50: =CONCATENATE(E50,H50) | P50: =S50&T50&U50&V50&W50 -> 00002.5 | Q50: 4 | R50: =Q50&E50 -> 4 | S50: =IF($R50="4전","1.80",IF($R50="4과","1.80",IF($R50="4목","1.80",0))) -> 0 | T50: =IF($R50="4답","1.80",0) -> 0 | U50: =IF($R50="4대","1.65",IF($R50="4장","1.65",IF($R50="4창","1.65",0))) -> 0 | V50: =IF($R50="4임","2.50",0) -> 0 | W50: =IF($E50="전",0,IF($E50="답",0,IF($E50="대",0,IF($E50="임",0,IF($E50="과",0,IF($E50="목",0,IF($E50="장",0,IF($E50="창",0,2.5)))))))) -> 2.5 | X50: 0
A51: 63 | N51: =CONCATENATE(E51,H51) | P51: =S51&T51&U51&V51&W51 -> 00002.5 | Q51: 4 | R51: =Q51&E51 -> 4 | S51: =IF($R51="4전","1.80",IF($R51="4과","1.80",IF($R51="4목","1.80",0))) -> 0 | T51: =IF($R51="4답","1.80",0) -> 0 | U51: =IF($R51="4대","1.65",IF($R51="4장","1.65",IF($R51="4창","1.65",0))) -> 0 | V51: =IF($R51="4임","2.50",0) -> 0 | W51: =IF($E51="전",0,IF($E51="답",0,IF($E51="대",0,IF($E51="임",0,IF($E51="과",0,IF($E51="목",0,IF($E51="장",0,IF($E51="창",0,2.5)))))))) -> 2.5 | X51: 0
A52: 64 | N52: =CONCATENATE(E52,H52) | P52: =S52&T52&U52&V52&W52 -> 00002.5 | Q52: 4 | R52: =Q52&E52 -> 4 | S52: =IF($R52="4전","1.80",IF($R52="4과","1.80",IF($R52="4목","1.80",0))) -> 0 | T52: =IF($R52="4답","1.80",0) -> 0 | U52: =IF($R52="4대","1.65",IF($R52="4장","1.65",IF($R52="4창","1.65",0))) -> 0 | V52: =IF($R52="4임","2.50",0) -> 0 | W52: =IF($E52="전",0,IF($E52="답",0,IF($E52="대",0,IF($E52="임",0,IF($E52="과",0,IF($E52="목",0,IF($E52="장",0,IF($E52="창",0,2.5)))))))) -> 2.5 | X52: 0
A53: 65 | N53: =CONCATENATE(E53,H53) | P53: =S53&T53&U53&V53&W53 -> 00002.5 | Q53: 4 | R53: =Q53&E53 -> 4 | S53: =IF($R53="4전","1.80",IF($R53="4과","1.80",IF($R53="4목","1.80",0))) -> 0 | T53: =IF($R53="4답","1.80",0) -> 0 | U53: =IF($R53="4대","1.65",IF($R53="4장","1.65",IF($R53="4창","1.65",0))) -> 0 | V53: =IF($R53="4임","2.50",0) -> 0 | W53: =IF($E53="전",0,IF($E53="답",0,IF($E53="대",0,IF($E53="임",0,IF($E53="과",0,IF($E53="목",0,IF($E53="장",0,IF($E53="창",0,2.5)))))))) -> 2.5 | X53: 0
A54: 66 | N54: =CONCATENATE(E54,H54) | P54: =S54&T54&U54&V54&W54 -> 00002.5 | Q54: 4 | R54: =Q54&E54 -> 4 | S54: =IF($R54="4전","1.80",IF($R54="4과","1.80",IF($R54="4목","1.80",0))) -> 0 | T54: =IF($R54="4답","1.80",0) -> 0 | U54: =IF($R54="4대","1.65",IF($R54="4장","1.65",IF($R54="4창","1.65",0))) -> 0 | V54: =IF($R54="4임","2.50",0) -> 0 | W54: =IF($E54="전",0,IF($E54="답",0,IF($E54="대",0,IF($E54="임",0,IF($E54="과",0,IF($E54="목",0,IF($E54="장",0,IF($E54="창",0,2.5)))))))) -> 2.5 | X54: 0
A55: 67 | N55: =CONCATENATE(E55,H55) | P55: =S55&T55&U55&V55&W55 -> 00002.5 | Q55: 4 | R55: =Q55&E55 -> 4 | S55: =IF($R55="4전","1.80",IF($R55="4과","1.80",IF($R55="4목","1.80",0))) -> 0 | T55: =IF($R55="4답","1.80",0) -> 0 | U55: =IF($R55="4대","1.65",IF($R55="4장","1.65",IF($R55="4창","1.65",0))) -> 0 | V55: =IF($R55="4임","2.50",0) -> 0 | W55: =IF($E55="전",0,IF($E55="답",0,IF($E55="대",0,IF($E55="임",0,IF($E55="과",0,IF($E55="목",0,IF($E55="장",0,IF($E55="창",0,2.5)))))))) -> 2.5 | X55: 0
A56: 68 | N56: =CONCATENATE(E56,H56) | P56: =S56&T56&U56&V56&W56 -> 00002.5 | Q56: 4 | R56: =Q56&E56 -> 4 | S56: =IF($R56="4전","1.80",IF($R56="4과","1.80",IF($R56="4목","1.80",0))) -> 0 | T56: =IF($R56="4답","1.80",0) -> 0 | U56: =IF($R56="4대","1.65",IF($R56="4장","1.65",IF($R56="4창","1.65",0))) -> 0 | V56: =IF($R56="4임","2.50",0) -> 0 | W56: =IF($E56="전",0,IF($E56="답",0,IF($E56="대",0,IF($E56="임",0,IF($E56="과",0,IF($E56="목",0,IF($E56="장",0,IF($E56="창",0,2.5)))))))) -> 2.5 | X56: 0
A57: 69 | N57: =CONCATENATE(E57,H57) | P57: =S57&T57&U57&V57&W57 -> 00002.5 | Q57: 4 | R57: =Q57&E57 -> 4 | S57: =IF($R57="4전","1.80",IF($R57="4과","1.80",IF($R57="4목","1.80",0))) -> 0 | T57: =IF($R57="4답","1.80",0) -> 0 | U57: =IF($R57="4대","1.65",IF($R57="4장","1.65",IF($R57="4창","1.65",0))) -> 0 | V57: =IF($R57="4임","2.50",0) -> 0 | W57: =IF($E57="전",0,IF($E57="답",0,IF($E57="대",0,IF($E57="임",0,IF($E57="과",0,IF($E57="목",0,IF($E57="장",0,IF($E57="창",0,2.5)))))))) -> 2.5 | X57: 0
A58: 70 | N58: =CONCATENATE(E58,H58) | P58: =S58&T58&U58&V58&W58 -> 00002.5 | Q58: 4 | R58: =Q58&E58 -> 4 | S58: =IF($R58="4전","1.80",IF($R58="4과","1.80",IF($R58="4목","1.80",0))) -> 0 | T58: =IF($R58="4답","1.80",0) -> 0 | U58: =IF($R58="4대","1.65",IF($R58="4장","1.65",IF($R58="4창","1.65",0))) -> 0 | V58: =IF($R58="4임","2.50",0) -> 0 | W58: =IF($E58="전",0,IF($E58="답",0,IF($E58="대",0,IF($E58="임",0,IF($E58="과",0,IF($E58="목",0,IF($E58="장",0,IF($E58="창",0,2.5)))))))) -> 2.5 | X58: 0
A59: 71 | N59: =CONCATENATE(E59,H59) | P59: =S59&T59&U59&V59&W59 -> 00002.5 | Q59: 4 | R59: =Q59&E59 -> 4 | S59: =IF($R59="4전","1.80",IF($R59="4과","1.80",IF($R59="4목","1.80",0))) -> 0 | T59: =IF($R59="4답","1.80",0) -> 0 | U59: =IF($R59="4대","1.65",IF($R59="4장","1.65",IF($R59="4창","1.65",0))) -> 0 | V59: =IF($R59="4임","2.50",0) -> 0 | W59: =IF($E59="전",0,IF($E59="답",0,IF($E59="대",0,IF($E59="임",0,IF($E59="과",0,IF($E59="목",0,IF($E59="장",0,IF($E59="창",0,2.5)))))))) -> 2.5 | X59: 0
A60: 72 | N60: =CONCATENATE(E60,H60) | P60: =S60&T60&U60&V60&W60 -> 00002.5 | Q60: 4 | R60: =Q60&E60 -> 4 | S60: =IF($R60="4전","1.80",IF($R60="4과","1.80",IF($R60="4목","1.80",0))) -> 0 | T60: =IF($R60="4답","1.80",0) -> 0 | U60: =IF($R60="4대","1.65",IF($R60="4장","1.65",IF($R60="4창","1.65",0))) -> 0 | V60: =IF($R60="4임","2.50",0) -> 0 | W60: =IF($E60="전",0,IF($E60="답",0,IF($E60="대",0,IF($E60="임",0,IF($E60="과",0,IF($E60="목",0,IF($E60="장",0,IF($E60="창",0,2.5)))))))) -> 2.5 | X60: 0
... A68: 80 | N68: =CONCATENATE(E68,H68) | P68: =S68&T68&U68&V68&W68 -> 00002.5 | Q68: 4 | R68: =Q68&E68 -> 4 | S68: =IF($R68="4전","1.80",IF($R68="4과","1.80",IF($R68="4목","1.80",0))) -> 0 | T68: =IF($R68="4답","1.80",0) -> 0 | U68: =IF($R68="4대","1.65",IF($R68="4장","1.65",IF($R68="4창","1.65",0))) -> 0 | V68: =IF($R68="4임","2.50",0) -> 0 | W68: =IF($E68="전",0,IF($E68="답",0,IF($E68="대",0,IF($E68="임",0,IF($E68="과",0,IF($E68="목",0,IF($E68="장",0,IF($E68="창",0,2.5)))))))) -> 2.5 | X68: 0
D69: 소 계 | F69: =SUM(F49:F68) -> 0 | G69: =SUM(G49:G68) -> 0 | N69: =CONCATENATE(E69,H69) | R69: =Q69&E69 | S69: =IF($R69="4전","1.80",IF($R69="4과","1.80",IF($R69="4목","1.80",0))) -> 0 | T69: =IF($R69="4답","1.80",0) -> 0 | U69: =IF($R69="4대","1.65",IF($R69="4장","1.65",IF($R69="4창","1.65",0))) -> 0 | V69: =IF($R69="4임","2.50",0) -> 0 | W69: =IF($E69="전",0,IF($E69="답",0,IF($E69="대",0,IF($E69="임",0,IF($E69="과",0,IF($E69="목",0,IF($E69="장",0,IF($E69="창",0,2.5)))))))) -> 2.5
A70: 81 | N70: =CONCATENATE(E70,H70) | P70: =S70&T70&U70&V70&W70 -> 00002.5 | Q70: 4 | R70: =Q70&E70 -> 4 | S70: =IF($R70="4전","1.80",IF($R70="4과","1.80",IF($R70="4목","1.80",0))) -> 0 | T70: =IF($R70="4답","1.80",0) -> 0 | U70: =IF($R70="4대","1.65",IF($R70="4장","1.65",IF($R70="4창","1.65",0))) -> 0 | V70: =IF($R70="4임","2.50",0) -> 0 | W70: =IF($E70="전",0,IF($E70="답",0,IF($E70="대",0,IF($E70="임",0,IF($E70="과",0,IF($E70="목",0,IF($E70="장",0,IF($E70="창",0,2.5)))))))) -> 2.5 | X70: 0
A71: 82 | N71: =CONCATENATE(E71,H71) | P71: =S71&T71&U71&V71&W71 -> 00002.5 | Q71: 4 | R71: =Q71&E71 -> 4 | S71: =IF($R71="4전","1.80",IF($R71="4과","1.80",IF($R71="4목","1.80",0))) -> 0 | T71: =IF($R71="4답","1.80",0) -> 0 | U71: =IF($R71="4대","1.65",IF($R71="4장","1.65",IF($R71="4창","1.65",0))) -> 0 | V71: =IF($R71="4임","2.50",0) -> 0 | W71: =IF($E71="전",0,IF($E71="답",0,IF($E71="대",0,IF($E71="임",0,IF($E71="과",0,IF($E71="목",0,IF($E71="장",0,IF($E71="창",0,2.5)))))))) -> 2.5 | X71: 0
A72: 83 | N72: =CONCATENATE(E72,H72) | P72: =S72&T72&U72&V72&W72 -> 00002.5 | Q72: 4 | R72: =Q72&E72 -> 4 | S72: =IF($R72="4전","1.80",IF($R72="4과","1.80",IF($R72="4목","1.80",0))) -> 0 | T72: =IF($R72="4답","1.80",0) -> 0 | U72: =IF($R72="4대","1.65",IF($R72="4장","1.65",IF($R72="4창","1.65",0))) -> 0 | V72: =IF($R72="4임","2.50",0) -> 0 | W72: =IF($E72="전",0,IF($E72="답",0,IF($E72="대",0,IF($E72="임",0,IF($E72="과",0,IF($E72="목",0,IF($E72="장",0,IF($E72="창",0,2.5)))))))) -> 2.5 | X72: 0
A73: 84 | N73: =CONCATENATE(E73,H73) | P73: =S73&T73&U73&V73&W73 -> 00002.5 | Q73: 4 | R73: =Q73&E73 -> 4 | S73: =IF($R73="4전","1.80",IF($R73="4과","1.80",IF($R73="4목","1.80",0))) -> 0 | T73: =IF($R73="4답","1.80",0) -> 0 | U73: =IF($R73="4대","1.65",IF($R73="4장","1.65",IF($R73="4창","1.65",0))) -> 0 | V73: =IF($R73="4임","2.50",0) -> 0 | W73: =IF($E73="전",0,IF($E73="답",0,IF($E73="대",0,IF($E73="임",0,IF($E73="과",0,IF($E73="목",0,IF($E73="장",0,IF($E73="창",0,2.5)))))))) -> 2.5 | X73: 0
N74: =CONCATENATE(E74,H74) | R74: =Q74&E74 | S74: =IF($R74="4전","1.80",IF($R74="4과","1.80",IF($R74="4목","1.80",0))) -> 0 | T74: =IF($R74="4답","1.80",0) -> 0 | U74: =IF($R74="4대","1.65",IF($R74="4장","1.65",IF($R74="4창","1.65",0))) -> 0 | V74: =IF($R74="4임","2.50",0) -> 0 | W74: =IF($E74="전",0,IF($E74="답",0,IF($E74="대",0,IF($E74="임",0,IF($E74="과",0,IF($E74="목",0,IF($E74="장",0,IF($E74="창",0,2.5)))))))) -> 2.5 | X74: 0
N75: =CONCATENATE(E75,H75) | R75: =Q75&E75 | S75: =IF($R75="4전","1.80",IF($R75="4과","1.80",IF($R75="4목","1.80",0))) -> 0 | T75: =IF($R75="4답","1.80",0) -> 0 | U75: =IF($R75="4대","1.65",IF($R75="4장","1.65",IF($R75="4창","1.65",0))) -> 0 | V75: =IF($R75="4임","2.50",0) -> 0 | W75: =IF($E75="전",0,IF($E75="답",0,IF($E75="대",0,IF($E75="임",0,IF($E75="과",0,IF($E75="목",0,IF($E75="장",0,IF($E75="창",0,2.5)))))))) -> 2.5 | X75: 0
N76: =CONCATENATE(E76,H76) | R76: =Q76&E76 | S76: =IF($R76="4전","1.80",IF($R76="4과","1.80",IF($R76="4목","1.80",0))) -> 0 | T76: =IF($R76="4답","1.80",0) -> 0 | U76: =IF($R76="4대","1.65",IF($R76="4장","1.65",IF($R76="4창","1.65",0))) -> 0 | V76: =IF($R76="4임","2.50",0) -> 0 | W76: =IF($E76="전",0,IF($E76="답",0,IF($E76="대",0,IF($E76="임",0,IF($E76="과",0,IF($E76="목",0,IF($E76="장",0,IF($E76="창",0,2.5)))))))) -> 2.5 | X76: 0
N77: =CONCATENATE(E77,H77) | R77: =Q77&E77 | S77: =IF($R77="4전","1.80",IF($R77="4과","1.80",IF($R77="4목","1.80",0))) -> 0 | T77: =IF($R77="4답","1.80",0) -> 0 | U77: =IF($R77="4대","1.65",IF($R77="4장","1.65",IF($R77="4창","1.65",0))) -> 0 | V77: =IF($R77="4임","2.50",0) -> 0 | W77: =IF($E77="전",0,IF($E77="답",0,IF($E77="대",0,IF($E77="임",0,IF($E77="과",0,IF($E77="목",0,IF($E77="장",0,IF($E77="창",0,2.5)))))))) -> 2.5 | X77: 0
N78: =CONCATENATE(E78,H78) | R78: =Q78&E78 | S78: =IF($R78="4전","1.80",IF($R78="4과","1.80",IF($R78="4목","1.80",0))) -> 0 | T78: =IF($R78="4답","1.80",0) -> 0 | U78: =IF($R78="4대","1.65",IF($R78="4장","1.65",IF($R78="4창","1.65",0))) -> 0 | V78: =IF($R78="4임","2.50",0) -> 0 | W78: =IF($E78="전",0,IF($E78="답",0,IF($E78="대",0,IF($E78="임",0,IF($E78="과",0,IF($E78="목",0,IF($E78="장",0,IF($E78="창",0,2.5)))))))) -> 2.5 | X78: 0
N79: =CONCATENATE(E79,H79) | R79: =Q79&E79 | S79: =IF($R79="4전","1.80",IF($R79="4과","1.80",IF($R79="4목","1.80",0))) -> 0 | T79: =IF($R79="4답","1.80",0) -> 0 | U79: =IF($R79="4대","1.65",IF($R79="4장","1.65",IF($R79="4창","1.65",0))) -> 0 | V79: =IF($R79="4임","2.50",0) -> 0 | W79: =IF($E79="전",0,IF($E79="답",0,IF($E79="대",0,IF($E79="임",0,IF($E79="과",0,IF($E79="목",0,IF($E79="장",0,IF($E79="창",0,2.5)))))))) -> 2.5 | X79: 0
N80: =CONCATENATE(E80,H80) | R80: =Q80&E80 | S80: =IF($R80="4전","1.80",IF($R80="4과","1.80",IF($R80="4목","1.80",0))) -> 0 | T80: =IF($R80="4답","1.80",0) -> 0 | U80: =IF($R80="4대","1.65",IF($R80="4장","1.65",IF($R80="4창","1.65",0))) -> 0 | V80: =IF($R80="4임","2.50",0) -> 0 | W80: =IF($E80="전",0,IF($E80="답",0,IF($E80="대",0,IF($E80="임",0,IF($E80="과",0,IF($E80="목",0,IF($E80="장",0,IF($E80="창",0,2.5)))))))) -> 2.5 | X80: 0
N81: =CONCATENATE(E81,H81) | R81: =Q81&E81 | S81: =IF($R81="4전","1.80",IF($R81="4과","1.80",IF($R81="4목","1.80",0))) -> 0 | T81: =IF($R81="4답","1.80",0) -> 0 | U81: =IF($R81="4대","1.65",IF($R81="4장","1.65",IF($R81="4창","1.65",0))) -> 0 | V81: =IF($R81="4임","2.50",0) -> 0 | W81: =IF($E81="전",0,IF($E81="답",0,IF($E81="대",0,IF($E81="임",0,IF($E81="과",0,IF($E81="목",0,IF($E81="장",0,IF($E81="창",0,2.5)))))))) -> 2.5 | X81: 0
N82: =CONCATENATE(E82,H82) | R82: =Q82&E82 | S82: =IF($R82="4전","1.80",IF($R82="4과","1.80",IF($R82="4목","1.80",0))) -> 0 | T82: =IF($R82="4답","1.80",0) -> 0 | U82: =IF($R82="4대","1.65",IF($R82="4장","1.65",IF($R82="4창","1.65",0))) -> 0 | V82: =IF($R82="4임","2.50",0) -> 0 | W82: =IF($E82="전",0,IF($E82="답",0,IF($E82="대",0,IF($E82="임",0,IF($E82="과",0,IF($E82="목",0,IF($E82="장",0,IF($E82="창",0,2.5)))))))) -> 2.5 | X82: 0
N83: =CONCATENATE(E83,H83) | R83: =Q83&E83 | S83: =IF($R83="4전","1.80",IF($R83="4과","1.80",IF($R83="4목","1.80",0))) -> 0 | T83: =IF($R83="4답","1.80",0) -> 0 | U83: =IF($R83="4대","1.65",IF($R83="4장","1.65",IF($R83="4창","1.65",0))) -> 0 | V83: =IF($R83="4임","2.50",0) -> 0 | W83: =IF($E83="전",0,IF($E83="답",0,IF($E83="대",0,IF($E83="임",0,IF($E83="과",0,IF($E83="목",0,IF($E83="장",0,IF($E83="창",0,2.5)))))))) -> 2.5 | X83: 0
N84: =CONCATENATE(E84,H84) | R84: =Q84&E84 | S84: =IF($R84="4전","1.80",IF($R84="4과","1.80",IF($R84="4목","1.80",0))) -> 0 | T84: =IF($R84="4답","1.80",0) -> 0 | U84: =IF($R84="4대","1.65",IF($R84="4장","1.65",IF($R84="4창","1.65",0))) -> 0 | V84: =IF($R84="4임","2.50",0) -> 0 | W84: =IF($E84="전",0,IF($E84="답",0,IF($E84="대",0,IF($E84="임",0,IF($E84="과",0,IF($E84="목",0,IF($E84="장",0,IF($E84="창",0,2.5)))))))) -> 2.5 | X84: 0
N85: =CONCATENATE(E85,H85) | R85: =Q85&E85 | S85: =IF($R85="4전","1.80",IF($R85="4과","1.80",IF($R85="4목","1.80",0))) -> 0 | T85: =IF($R85="4답","1.80",0) -> 0 | U85: =IF($R85="4대","1.65",IF($R85="4장","1.65",IF($R85="4창","1.65",0))) -> 0 | V85: =IF($R85="4임","2.50",0) -> 0 | W85: =IF($E85="전",0,IF($E85="답",0,IF($E85="대",0,IF($E85="임",0,IF($E85="과",0,IF($E85="목",0,IF($E85="장",0,IF($E85="창",0,2.5)))))))) -> 2.5 | X85: 0
... N88: =CONCATENATE(E88,H88) | R88: =Q88&E88 | S88: =IF($R88="4전","1.80",IF($R88="4과","1.80",IF($R88="4목","1.80",0))) -> 0 | T88: =IF($R88="4답","1.80",0) -> 0 | U88: =IF($R88="4대","1.65",IF($R88="4장","1.65",IF($R88="4창","1.65",0))) -> 0 | V88: =IF($R88="4임","2.50",0) -> 0 | W88: =IF($E88="전",0,IF($E88="답",0,IF($E88="대",0,IF($E88="임",0,IF($E88="과",0,IF($E88="목",0,IF($E88="장",0,IF($E88="창",0,2.5)))))))) -> 2.5 | X88: 0
D89: 소 계 | F89: =SUM(F70:F88) -> 0 | G89: =SUM(G70:G88) -> 0 | N89: =CONCATENATE(E89,H89) | R89: =Q89&E89 | S89: =IF($R89="4전","1.80",IF($R89="4과","1.80",IF($R89="4목","1.80",0))) -> 0 | T89: =IF($R89="4답","1.80",0) -> 0 | U89: =IF($R89="4대","1.65",IF($R89="4장","1.65",IF($R89="4창","1.65",0))) -> 0 | V89: =IF($R89="4임","2.50",0) -> 0 | W89: =IF($E89="전",0,IF($E89="답",0,IF($E89="대",0,IF($E89="임",0,IF($E89="과",0,IF($E89="목",0,IF($E89="장",0,IF($E89="창",0,2.5)))))))) -> 2.5 | X89: 0
D90: 합 계 | F90: =F89+F69+F48+#REF!+#REF! -> #REF! | G90: =G89+G69+G48+#REF!+#REF! -> #REF! | N90: =CONCATENATE(E90,H90) | R90: =Q90&E90 | S90: =IF($R90="4전","1.80",IF($R90="4과","1.80",IF($R90="4목","1.80",0))) -> 0 | T90: =IF($R90="4답","1.80",0) -> 0 | U90: =IF($R90="4대","1.65",IF($R90="4장","1.65",IF($R90="4창","1.65",0))) -> 0 | V90: =IF($R90="4임","2.50",0) -> 0 | W90: =IF($E90="전",0,IF($E90="답",0,IF($E90="대",0,IF($E90="임",0,IF($E90="과",0,IF($E90="목",0,IF($E90="장",0,IF($E90="창",0,2.5)))))))) -> 2.5
N91: =CONCATENATE(E91,H91) | W91: 0 | X91: 0
N92: =CONCATENATE(E92,H92) | W92: 0 | X92: 0
N93: =CONCATENATE(E93,H93) | W93: 0 | X93: 0
N94: =CONCATENATE(E94,H94) | W94: 0 | X94: 0
N95: =CONCATENATE(E95,H95) | W95: 0 | X95: 0
N96: =CONCATENATE(E96,H96) | W96: 0 | X96: 0
N97: =CONCATENATE(E97,H97) | W97: 0 | X97: 0
N98: =CONCATENATE(E98,H98) | W98: 0 | X98: 0
N99: =CONCATENATE(E99,H99) | W99: 0 | X99: 0
N100: =CONCATENATE(E100,H100) | W100: 0 | X100: 0
N101: =CONCATENATE(E101,H101) | W101: 0 | X101: 0
N102: =CONCATENATE(E102,H102) | W102: 0 | X102: 0
... N110: =CONCATENATE(E110,H110) | W110: 0 | X110: 0
D111: 소 계 | G111: =SUM(G91:G110) -> 0 | N111: =CONCATENATE(E111,H111)
M112: 0 | N112: =CONCATENATE(E112,H112) | W112: 0 | X112: 0
M113: 0 | N113: =CONCATENATE(E113,H113) | W113: 0 | X113: 0
M114: 0 | N114: =CONCATENATE(E114,H114) | W114: 0 | X114: 0
M115: 0 | N115: =CONCATENATE(E115,H115) | W115: 0 | X115: 0
M116: 0 | N116: =CONCATENATE(E116,H116) | W116: 0 | X116: 0
M117: 0 | N117: =CONCATENATE(E117,H117) | W117: 0 | X117: 0
M118: 0 | N118: =CONCATENATE(E118,H118)
M119: 0 | N119: =CONCATENATE(E119,H119)
M120: 0 | N120: =CONCATENATE(E120,H120)
M121: 0 | N121: =CONCATENATE(E121,H121)
M122: 0 | N122: =CONCATENATE(E122,H122)
M123: 0 | N123: =CONCATENATE(E123,H123)
M124: 0 | N124: =CONCATENATE(E124,H124)
M125: 0 | N125: =CONCATENATE(E125,H125)
M126: 0 | N126: =CONCATENATE(E126,H126)
M127: 0 | N127: =CONCATENATE(E127,H127)
M128: 0 | N128: =CONCATENATE(E128,H128)
M129: 0 | N129: =CONCATENATE(E129,H129)
... M131: 0 | N131: =CONCATENATE(E131,H131)
D132: 소 계 | G132: =SUM(G112:G131) -> 0 | N132: =CONCATENATE(E132,H132)
N133: =CONCATENATE(E133,H133)
N134: =CONCATENATE(E134,H134)
N135: =CONCATENATE(E135,H135)
N136: =CONCATENATE(E136,H136)
N137: =CONCATENATE(E137,H137)
...

Sheet 이하출력X->
B13: 102+9 | C13: 9
B14: 5345+334 | C14: 334
B15: 400+3 | C15: 3
B16: 735+8 | C16: 8
B17: 356+2 | C17: 2
B18: 605+6 | C18: 6
B19: 218+19 | C19: 19
B20: 1840+16 | C20: 16
B21: 1838+2+267 | C21: 2
B22: 1235+192 | C22: 192
B23: 762+503 | C23: 503
B24: 706+49 | C24: 49
... B26: 3843+205 | C26: 205
C27: 267
B42: 75+11 | C42: 11
B43: 856+34 | C43: 34
B44: 718+518 | C44: 518
B45: 318+1 | C45: 1
B46: 8276+26+28 | C46: 26
B47: 2262+52 | C47: 52
B48: 138+6 | C48: 6
B49: 109+10 | C49: 10
B50: 78+8 | C50: 8
B51: 199+22 | C51: 22
B52: 649
B53: 104+6 | C53: 6
B54: 389+16 | C54: 16
B55: 46+6 | C55: 6
B56: 544-89+15 | C56: 15 | D56: 89
B57: 695-41+14 | C57: 14 | D57: 41
B58: 1437+3 | C58: 3
B59: 328+14 | C59: 14
B60: 518+13 | C60: 13
C61: 28
B64: 65+36 | C64: 36
B65: 321+3 | C65: 3
B66: 961+9 | C66: 9
B67: 93+6 | C67: 6
B68: 166+13 | C68: 13
B69: 37+3 | C69: 3
B70: 579+5 | C70: 5
B71: 32+27 | C71: 27
B72: 7993+26 | C72: 26
B73: 605+1 | C73: 1
B74: 760+3-1 | C74: 3

Sheet 0리
A1: 토지보상비조서 | U1: 지역 | V1: 전(과.목) | W1: 답 | X1: 대지(장.창) | Y1: 임야 | Z1: 기타 | AA1: 참고문헌:도로.철도부문사업의 예비서타당성조사 표준지ㅣ침 수정.보완연구(제5판)
T2: 수도권 | U2: ①시부 | V2: 1.5 | W2: 1.5 | X2: 1.4 | Y2: 2 | Z2: 1.766 | AA2: - 한국개발연구원 발행 2008.12
H3: 경상북도 예천군 용궁면 무지리 | U3: ②군부 | V3: 1.75 | W3: 1.75 | X3: 1.5 | Y3: 2.5 | Z3: 1.766 | AA3: - <표3-52> 지역별 지목별 보상배율
A5: 일련 | B5: 지 번 | C5: 지목 | D5: 지 적 | E5: 편입면적 | F5: 소 유 자 | H5: 관 계 인 | K5: 공시지가(원) | L5: 공시지가(천원) | N5: 실거래가(천원) | P5: 비고 | S5: 요율적용 | T5: 수도권외 | U5: ③시부 | V5: 1.75 | W5: 1.75 | X5: 1.65 | Y5: 2.3 | Z5: 1.766 | AA5: 본사업적용 | AB5: 전(과.목) | AC5: 답 | AD5: 대지(장.창) | AE5: 임야 | AF5: 기타
A6: 번호 | D6: ( ㎡ ) | E6: ( ㎡ ) | F6: 성 명 | G6: 주 소 | H6: 성 명 | I6: 주 소 | J6: 권리관계 | L6: 단가 | M6: 금액 | N6: 단가 | O6: 금액 | U6: ④군부 | V6: 1.8 | W6: 1.8 | X6: 1.65 | Y6: 2.5 | Z6: 1.766 | AA6: 수도권 군부 | AB6: 1.8 | AC6: 1.8 | AD6: 1.65 | AE6: 2.5 | AF6: 1.766
A7: 1 | L7: =K7/1000 -> 0 | M7: =IF(B7<>"",E7*L7,0) -> 0 | N7: =IF($B7<>"",L7*S7,0) -> 0 | O7: =IF($B7<>"",E7*N7,0) -> 0 | Q7: =CONCATENATE(C7,F7) | S7: =V7&W7&X7&Y7&Z7 -> 00001.766 | T7: 4 | U7: =T7&C7 -> 4 | V7: =IF($U7="4전","1.80",IF($U7="4과","1.80",IF($U7="4목","1.80",0))) -> 0 | W7: =IF($U7="4답","1.80",0) -> 0 | X7: =IF($U7="4대","1.65",IF($U7="4장","1.65",IF($U7="4창","1.65",0))) -> 0 | Y7: =IF($U7="4임","2.50",0) -> 0 | Z7: =IF($C7="전",0,IF($C7="답",0,IF($C7="대",0,IF($C7="임",0,IF($C7="과",0,IF($C7="목",0,IF($C7="장",0,IF($C7="창",0,1.766)))))))) -> 1.766
A8: 2 | L8: =K8/1000 -> 0 | M8: =IF(B8<>"",E8*L8,0) -> 0 | N8: =IF($B8<>"",L8*S8,0) -> 0 | O8: =IF($B8<>"",E8*N8,0) -> 0 | Q8: =CONCATENATE(C8,F8) | S8: =V8&W8&X8&Y8&Z8 -> 00001.766 | T8: 4 | U8: =T8&C8 -> 4 | V8: =IF($U8="4전","1.80",IF($U8="4과","1.80",IF($U8="4목","1.80",0))) -> 0 | W8: =IF($U8="4답","1.80",0) -> 0 | X8: =IF($U8="4대","1.65",IF($U8="4장","1.65",IF($U8="4창","1.65",0))) -> 0 | Y8: =IF($U8="4임","2.50",0) -> 0 | Z8: =IF($C8="전",0,IF($C8="답",0,IF($C8="대",0,IF($C8="임",0,IF($C8="과",0,IF($C8="목",0,IF($C8="장",0,IF($C8="창",0,1.766)))))))) -> 1.766 | AA8: 0
A9: 3 | L9: =K9/1000 -> 0 | M9: =IF(B9<>"",E9*L9,0) -> 0 | N9: =IF($B9<>"",L9*S9,0) -> 0 | O9: =IF($B9<>"",E9*N9,0) -> 0 | Q9: =CONCATENATE(C9,F9) | S9: =V9&W9&X9&Y9&Z9 -> 00001.766 | T9: 4 | U9: =T9&C9 -> 4 | V9: =IF($U9="4전","1.80",IF($U9="4과","1.80",IF($U9="4목","1.80",0))) -> 0 | W9: =IF($U9="4답","1.80",0) -> 0 | X9: =IF($U9="4대","1.65",IF($U9="4장","1.65",IF($U9="4창","1.65",0))) -> 0 | Y9: =IF($U9="4임","2.50",0) -> 0 | Z9: =IF($C9="전",0,IF($C9="답",0,IF($C9="대",0,IF($C9="임",0,IF($C9="과",0,IF($C9="목",0,IF($C9="장",0,IF($C9="창",0,1.766)))))))) -> 1.766 | AA9: 0
A10: 4 | L10: =K10/1000 -> 0 | M10: =IF(B10<>"",E10*L10,0) -> 0 | N10: =IF($B10<>"",L10*S10,0) -> 0 | O10: =IF($B10<>"",E10*N10,0) -> 0 | Q10: =CONCATENATE(C10,F10) | S10: =V10&W10&X10&Y10&Z10 -> 00001.766 | T10: 4 | U10: =T10&C10 -> 4 | V10: =IF($U10="4전","1.80",IF($U10="4과","1.80",IF($U10="4목","1.80",0))) -> 0 | W10: =IF($U10="4답","1.80",0) -> 0 | X10: =IF($U10="4대","1.65",IF($U10="4장","1.65",IF($U10="4창","1.65",0))) -> 0 | Y10: =IF($U10="4임","2.50",0) -> 0 | Z10: =IF($C10="전",0,IF($C10="답",0,IF($C10="대",0,IF($C10="임",0,IF($C10="과",0,IF($C10="목",0,IF($C10="장",0,IF($C10="창",0,1.766)))))))) -> 1.766 | AA10: 0
A11: 5 | L11: =K11/1000 -> 0 | M11: =IF(B11<>"",E11*L11,0) -> 0 | N11: =IF($B11<>"",L11*S11,0) -> 0 | O11: =IF($B11<>"",E11*N11,0) -> 0 | Q11: =CONCATENATE(C11,F11) | S11: =V11&W11&X11&Y11&Z11 -> 00001.766 | T11: 4 | U11: =T11&C11 -> 4 | V11: =IF($U11="4전","1.80",IF($U11="4과","1.80",IF($U11="4목","1.80",0))) -> 0 | W11: =IF($U11="4답","1.80",0) -> 0 | X11: =IF($U11="4대","1.65",IF($U11="4장","1.65",IF($U11="4창","1.65",0))) -> 0 | Y11: =IF($U11="4임","2.50",0) -> 0 | Z11: =IF($C11="전",0,IF($C11="답",0,IF($C11="대",0,IF($C11="임",0,IF($C11="과",0,IF($C11="목",0,IF($C11="장",0,IF($C11="창",0,1.766)))))))) -> 1.766 | AA11: 0
A12: 6 | L12: =K12/1000 -> 0 | M12: =IF(B12<>"",E12*L12,0) -> 0 | N12: =IF($B12<>"",L12*S12,0) -> 0 | O12: =IF($B12<>"",E12*N12,0) -> 0 | Q12: =CONCATENATE(C12,F12) | S12: =V12&W12&X12&Y12&Z12 -> 00001.766 | T12: 4 | U12: =T12&C12 -> 4 | V12: =IF($U12="4전","1.80",IF($U12="4과","1.80",IF($U12="4목","1.80",0))) -> 0 | W12: =IF($U12="4답","1.80",0) -> 0 | X12: =IF($U12="4대","1.65",IF($U12="4장","1.65",IF($U12="4창","1.65",0))) -> 0 | Y12: =IF($U12="4임","2.50",0) -> 0 | Z12: =IF($C12="전",0,IF($C12="답",0,IF($C12="대",0,IF($C12="임",0,IF($C12="과",0,IF($C12="목",0,IF($C12="장",0,IF($C12="창",0,1.766)))))))) -> 1.766 | AA12: 0
A13: 7 | L13: =K13/1000 -> 0 | M13: =IF(B13<>"",E13*L13,0) -> 0 | N13: =IF($B13<>"",L13*S13,0) -> 0 | O13: =IF($B13<>"",E13*N13,0) -> 0 | Q13: =CONCATENATE(C13,F13) | S13: =V13&W13&X13&Y13&Z13 -> 00001.766 | T13: 4 | U13: =T13&C13 -> 4 | V13: =IF($U13="4전","1.80",IF($U13="4과","1.80",IF($U13="4목","1.80",0))) -> 0 | W13: =IF($U13="4답","1.80",0) -> 0 | X13: =IF($U13="4대","1.65",IF($U13="4장","1.65",IF($U13="4창","1.65",0))) -> 0 | Y13: =IF($U13="4임","2.50",0) -> 0 | Z13: =IF($C13="전",0,IF($C13="답",0,IF($C13="대",0,IF($C13="임",0,IF($C13="과",0,IF($C13="목",0,IF($C13="장",0,IF($C13="창",0,1.766)))))))) -> 1.766 | AA13: 0
A14: 8 | L14: =K14/1000 -> 0 | M14: =IF(B14<>"",E14*L14,0) -> 0 | N14: =IF($B14<>"",L14*S14,0) -> 0 | O14: =IF($B14<>"",E14*N14,0) -> 0 | Q14: =CONCATENATE(C14,F14) | S14: =V14&W14&X14&Y14&Z14 -> 00001.766 | T14: 4 | U14: =T14&C14 -> 4 | V14: =IF($U14="4전","1.80",IF($U14="4과","1.80",IF($U14="4목","1.80",0))) -> 0 | W14: =IF($U14="4답","1.80",0) -> 0 | X14: =IF($U14="4대","1.65",IF($U14="4장","1.65",IF($U14="4창","1.65",0))) -> 0 | Y14: =IF($U14="4임","2.50",0) -> 0 | Z14: =IF($C14="전",0,IF($C14="답",0,IF($C14="대",0,IF($C14="임",0,IF($C14="과",0,IF($C14="목",0,IF($C14="장",0,IF($C14="창",0,1.766)))))))) -> 1.766 | AA14: 0
A15: 9 | L15: =K15/1000 -> 0 | M15: =IF(B15<>"",E15*L15,0) -> 0 | N15: =IF($B15<>"",L15*S15,0) -> 0 | O15: =IF($B15<>"",E15*N15,0) -> 0 | Q15: =CONCATENATE(C15,F15) | S15: =V15&W15&X15&Y15&Z15 -> 00001.766 | T15: 4 | U15: =T15&C15 -> 4 | V15: =IF($U15="4전","1.80",IF($U15="4과","1.80",IF($U15="4목","1.80",0))) -> 0 | W15: =IF($U15="4답","1.80",0) -> 0 | X15: =IF($U15="4대","1.65",IF($U15="4장","1.65",IF($U15="4창","1.65",0))) -> 0 | Y15: =IF($U15="4임","2.50",0) -> 0 | Z15: =IF($C15="전",0,IF($C15="답",0,IF($C15="대",0,IF($C15="임",0,IF($C15="과",0,IF($C15="목",0,IF($C15="장",0,IF($C15="창",0,1.766)))))))) -> 1.766 | AA15: 0
A16: 10 | L16: =K16/1000 -> 0 | M16: =IF(B16<>"",E16*L16,0) -> 0 | N16: =IF($B16<>"",L16*S16,0) -> 0 | O16: =IF($B16<>"",E16*N16,0) -> 0 | Q16: =CONCATENATE(C16,F16) | S16: =V16&W16&X16&Y16&Z16 -> 00001.766 | T16: 4 | U16: =T16&C16 -> 4 | V16: =IF($U16="4전","1.80",IF($U16="4과","1.80",IF($U16="4목","1.80",0))) -> 0 | W16: =IF($U16="4답","1.80",0) -> 0 | X16: =IF($U16="4대","1.65",IF($U16="4장","1.65",IF($U16="4창","1.65",0))) -> 0 | Y16: =IF($U16="4임","2.50",0) -> 0 | Z16: =IF($C16="전",0,IF($C16="답",0,IF($C16="대",0,IF($C16="임",0,IF($C16="과",0,IF($C16="목",0,IF($C16="장",0,IF($C16="창",0,1.766)))))))) -> 1.766 | AA16: 0
A17: 11 | L17: =K17/1000 -> 0 | M17: =IF(B17<>"",E17*L17,0) -> 0 | N17: =IF($B17<>"",L17*S17,0) -> 0 | O17: =IF($B17<>"",E17*N17,0) -> 0 | Q17: =CONCATENATE(C17,F17) | S17: =V17&W17&X17&Y17&Z17 -> 00001.766 | T17: 4 | U17: =T17&C17 -> 4 | V17: =IF($U17="4전","1.80",IF($U17="4과","1.80",IF($U17="4목","1.80",0))) -> 0 | W17: =IF($U17="4답","1.80",0) -> 0 | X17: =IF($U17="4대","1.65",IF($U17="4장","1.65",IF($U17="4창","1.65",0))) -> 0 | Y17: =IF($U17="4임","2.50",0) -> 0 | Z17: =IF($C17="전",0,IF($C17="답",0,IF($C17="대",0,IF($C17="임",0,IF($C17="과",0,IF($C17="목",0,IF($C17="장",0,IF($C17="창",0,1.766)))))))) -> 1.766 | AA17: 0
A18: 12 | L18: =K18/1000 -> 0 | M18: =IF(B18<>"",E18*L18,0) -> 0 | N18: =IF($B18<>"",L18*S18,0) -> 0 | O18: =IF($B18<>"",E18*N18,0) -> 0 | Q18: =CONCATENATE(C18,F18) | S18: =V18&W18&X18&Y18&Z18 -> 00001.766 | T18: 4 | U18: =T18&C18 -> 4 | V18: =IF($U18="4전","1.80",IF($U18="4과","1.80",IF($U18="4목","1.80",0))) -> 0 | W18: =IF($U18="4답","1.80",0) -> 0 | X18: =IF($U18="4대","1.65",IF($U18="4장","1.65",IF($U18="4창","1.65",0))) -> 0 | Y18: =IF($U18="4임","2.50",0) -> 0 | Z18: =IF($C18="전",0,IF($C18="답",0,IF($C18="대",0,IF($C18="임",0,IF($C18="과",0,IF($C18="목",0,IF($C18="장",0,IF($C18="창",0,1.766)))))))) -> 1.766 | AA18: 0
A19: 13 | L19: =K19/1000 -> 0 | M19: =IF(B19<>"",E19*L19,0) -> 0 | N19: =IF($B19<>"",L19*S19,0) -> 0 | O19: =IF($B19<>"",E19*N19,0) -> 0 | Q19: =CONCATENATE(C19,F19) | S19: =V19&W19&X19&Y19&Z19 -> 00001.766 | T19: 4 | U19: =T19&C19 -> 4 | V19: =IF($U19="4전","1.80",IF($U19="4과","1.80",IF($U19="4목","1.80",0))) -> 0 | W19: =IF($U19="4답","1.80",0) -> 0 | X19: =IF($U19="4대","1.65",IF($U19="4장","1.65",IF($U19="4창","1.65",0))) -> 0 | Y19: =IF($U19="4임","2.50",0) -> 0 | Z19: =IF($C19="전",0,IF($C19="답",0,IF($C19="대",0,IF($C19="임",0,IF($C19="과",0,IF($C19="목",0,IF($C19="장",0,IF($C19="창",0,1.766)))))))) -> 1.766 | AA19: 0
... A26: 20 | L26: =K26/1000 -> 0 | M26: =IF(B26<>"",E26*L26,0) -> 0 | N26: =IF($B26<>"",L26*S26,0) -> 0 | O26: =IF($B26<>"",E26*N26,0) -> 0 | Q26: =CONCATENATE(C26,F26) | S26: =V26&W26&X26&Y26&Z26 -> 00001.766 | T26: 4 | U26: =T26&C26 -> 4 | V26: =IF($U26="4전","1.80",IF($U26="4과","1.80",IF($U26="4목","1.80",0))) -> 0 | W26: =IF($U26="4답","1.80",0) -> 0 | X26: =IF($U26="4대","1.65",IF($U26="4장","1.65",IF($U26="4창","1.65",0))) -> 0 | Y26: =IF($U26="4임","2.50",0) -> 0 | Z26: =IF($C26="전",0,IF($C26="답",0,IF($C26="대",0,IF($C26="임",0,IF($C26="과",0,IF($C26="목",0,IF($C26="장",0,IF($C26="창",0,1.766)))))))) -> 1.766 | AA26: 0
B27: 소 계 | D27: =SUM(D7:D26) -> 0 | E27: =SUM(E7:E26) -> 0 | O27: =SUM(O7:O26) -> 0 | Q27: =CONCATENATE(C27,F27) | U27: =T27&C27 | V27: =IF($U27="4전","1.80",IF($U27="4과","1.80",IF($U27="4목","1.80",0))) -> 0 | W27: =IF($U27="4답","1.80",0) -> 0 | X27: =IF($U27="4대","1.65",IF($U27="4장","1.65",IF($U27="4창","1.65",0))) -> 0 | Y27: =IF($U27="4임","2.50",0) -> 0
A28: 21 | L28: =K28/1000 -> 0 | M28: =IF(B28<>"",E28*L28,0) -> 0 | N28: =IF($B28<>"",L28*S28,0) -> 0 | O28: =IF($B28<>"",E28*N28,0) -> 0 | Q28: =CONCATENATE(C28,F28) | S28: =V28&W28&X28&Y28&Z28 -> 00001.766 | T28: 4 | U28: =T28&C28 -> 4 | V28: =IF($U28="4전","1.80",IF($U28="4과","1.80",IF($U28="4목","1.80",0))) -> 0 | W28: =IF($U28="4답","1.80",0) -> 0 | X28: =IF($U28="4대","1.65",IF($U28="4장","1.65",IF($U28="4창","1.65",0))) -> 0 | Y28: =IF($U28="4임","2.50",0) -> 0 | Z28: =IF($C28="전",0,IF($C28="답",0,IF($C28="대",0,IF($C28="임",0,IF($C28="과",0,IF($C28="목",0,IF($C28="장",0,IF($C28="창",0,1.766)))))))) -> 1.766 | AA28: 0
A29: 22 | L29: =K29/1000 -> 0 | M29: =IF(B29<>"",E29*L29,0) -> 0 | N29: =IF($B29<>"",L29*S29,0) -> 0 | O29: =IF($B29<>"",E29*N29,0) -> 0 | Q29: =CONCATENATE(C29,F29) | S29: =V29&W29&X29&Y29&Z29 -> 00001.766 | T29: 4 | U29: =T29&C29 -> 4 | V29: =IF($U29="4전","1.80",IF($U29="4과","1.80",IF($U29="4목","1.80",0))) -> 0 | W29: =IF($U29="4답","1.80",0) -> 0 | X29: =IF($U29="4대","1.65",IF($U29="4장","1.65",IF($U29="4창","1.65",0))) -> 0 | Y29: =IF($U29="4임","2.50",0) -> 0 | Z29: =IF($C29="전",0,IF($C29="답",0,IF($C29="대",0,IF($C29="임",0,IF($C29="과",0,IF($C29="목",0,IF($C29="장",0,IF($C29="창",0,1.766)))))))) -> 1.766 | AA29: 0
A30: 23 | L30: =K30/1000 -> 0 | M30: =IF(B30<>"",E30*L30,0) -> 0 | N30: =IF($B30<>"",L30*S30,0) -> 0 | O30: =IF($B30<>"",E30*N30,0) -> 0 | Q30: =CONCATENATE(C30,F30) | S30: =V30&W30&X30&Y30&Z30 -> 00001.766 | T30: 4 | U30: =T30&C30 -> 4 | V30: =IF($U30="4전","1.80",IF($U30="4과","1.80",IF($U30="4목","1.80",0))) -> 0 | W30: =IF($U30="4답","1.80",0) -> 0 | X30: =IF($U30="4대","1.65",IF($U30="4장","1.65",IF($U30="4창","1.65",0))) -> 0 | Y30: =IF($U30="4임","2.50",0) -> 0 | Z30: =IF($C30="전",0,IF($C30="답",0,IF($C30="대",0,IF($C30="임",0,IF($C30="과",0,IF($C30="목",0,IF($C30="장",0,IF($C30="창",0,1.766)))))))) -> 1.766 | AA30: 0
A31: 24 | L31: =K31/1000 -> 0 | M31: =IF(B31<>"",E31*L31,0) -> 0 | N31: =IF($B31<>"",L31*S31,0) -> 0 | O31: =IF($B31<>"",E31*N31,0) -> 0 | Q31: =CONCATENATE(C31,F31) | S31: =V31&W31&X31&Y31&Z31 -> 00001.766 | T31: 4 | U31: =T31&C31 -> 4 | V31: =IF($U31="4전","1.80",IF($U31="4과","1.80",IF($U31="4목","1.80",0))) -> 0 | W31: =IF($U31="4답","1.80",0) -> 0 | X31: =IF($U31="4대","1.65",IF($U31="4장","1.65",IF($U31="4창","1.65",0))) -> 0 | Y31: =IF($U31="4임","2.50",0) -> 0 | Z31: =IF($C31="전",0,IF($C31="답",0,IF($C31="대",0,IF($C31="임",0,IF($C31="과",0,IF($C31="목",0,IF($C31="장",0,IF($C31="창",0,1.766)))))))) -> 1.766 | AA31: 0
A32: 25 | L32: =K32/1000 -> 0 | M32: =IF(B32<>"",E32*L32,0) -> 0 | N32: =IF($B32<>"",L32*S32,0) -> 0 | O32: =IF($B32<>"",E32*N32,0) -> 0 | Q32: =CONCATENATE(C32,F32) | S32: =V32&W32&X32&Y32&Z32 -> 00001.766 | T32: 4 | U32: =T32&C32 -> 4 | V32: =IF($U32="4전","1.80",IF($U32="4과","1.80",IF($U32="4목","1.80",0))) -> 0 | W32: =IF($U32="4답","1.80",0) -> 0 | X32: =IF($U32="4대","1.65",IF($U32="4장","1.65",IF($U32="4창","1.65",0))) -> 0 | Y32: =IF($U32="4임","2.50",0) -> 0 | Z32: =IF($C32="전",0,IF($C32="답",0,IF($C32="대",0,IF($C32="임",0,IF($C32="과",0,IF($C32="목",0,IF($C32="장",0,IF($C32="창",0,1.766)))))))) -> 1.766 | AA32: 0
A33: 26 | L33: =K33/1000 -> 0 | M33: =IF(B33<>"",E33*L33,0) -> 0 | N33: =IF($B33<>"",L33*S33,0) -> 0 | O33: =IF($B33<>"",E33*N33,0) -> 0 | Q33: =CONCATENATE(C33,F33) | S33: =V33&W33&X33&Y33&Z33 -> 00001.766 | T33: 4 | U33: =T33&C33 -> 4 | V33: =IF($U33="4전","1.80",IF($U33="4과","1.80",IF($U33="4목","1.80",0))) -> 0 | W33: =IF($U33="4답","1.80",0) -> 0 | X33: =IF($U33="4대","1.65",IF($U33="4장","1.65",IF($U33="4창","1.65",0))) -> 0 | Y33: =IF($U33="4임","2.50",0) -> 0 | Z33: =IF($C33="전",0,IF($C33="답",0,IF($C33="대",0,IF($C33="임",0,IF($C33="과",0,IF($C33="목",0,IF($C33="장",0,IF($C33="창",0,1.766)))))))) -> 1.766 | AA33: 0
A34: 27 | L34: =K34/1000 -> 0 | M34: =IF(B34<>"",E34*L34,0) -> 0 | N34: =IF($B34<>"",L34*S34,0) -> 0 | O34: =IF($B34<>"",E34*N34,0) -> 0 | Q34: =CONCATENATE(C34,F34) | S34: =V34&W34&X34&Y34&Z34 -> 00001.766 | T34: 4 | U34: =T34&C34 -> 4 | V34: =IF($U34="4전","1.80",IF($U34="4과","1.80",IF($U34="4목","1.80",0))) -> 0 | W34: =IF($U34="4답","1.80",0) -> 0 | X34: =IF($U34="4대","1.65",IF($U34="4장","1.65",IF($U34="4창","1.65",0))) -> 0 | Y34: =IF($U34="4임","2.50",0) -> 0 | Z34: =IF($C34="전",0,IF($C34="답",0,IF($C34="대",0,IF($C34="임",0,IF($C34="과",0,IF($C34="목",0,IF($C34="장",0,IF($C34="창",0,1.766)))))))) -> 1.766 | AA34: 0
A35: 28 | L35: =K35/1000 -> 0 | M35: =IF(B35<>"",E35*L35,0) -> 0 | N35: =IF($B35<>"",L35*S35,0) -> 0 | O35: =IF($B35<>"",E35*N35,0) -> 0 | Q35: =CONCATENATE(C35,F35) | S35: =V35&W35&X35&Y35&Z35 -> 00001.766 | T35: 4 | U35: =T35&C35 -> 4 | V35: =IF($U35="4전","1.80",IF($U35="4과","1.80",IF($U35="4목","1.80",0))) -> 0 | W35: =IF($U35="4답","1.80",0) -> 0 | X35: =IF($U35="4대","1.65",IF($U35="4장","1.65",IF($U35="4창","1.65",0))) -> 0 | Y35: =IF($U35="4임","2.50",0) -> 0 | Z35: =IF($C35="전",0,IF($C35="답",0,IF($C35="대",0,IF($C35="임",0,IF($C35="과",0,IF($C35="목",0,IF($C35="장",0,IF($C35="창",0,1.766)))))))) -> 1.766 | AA35: 0
A36: 29 | L36: =K36/1000 -> 0 | M36: =IF(B36<>"",E36*L36,0) -> 0 | N36: =IF($B36<>"",L36*S36,0) -> 0 | O36: =IF($B36<>"",E36*N36,0) -> 0 | Q36: =CONCATENATE(C36,F36) | S36: =V36&W36&X36&Y36&Z36 -> 00001.766 | T36: 4 | U36: =T36&C36 -> 4 | V36: =IF($U36="4전","1.80",IF($U36="4과","1.80",IF($U36="4목","1.80",0))) -> 0 | W36: =IF($U36="4답","1.80",0) -> 0 | X36: =IF($U36="4대","1.65",IF($U36="4장","1.65",IF($U36="4창","1.65",0))) -> 0 | Y36: =IF($U36="4임","2.50",0) -> 0 | Z36: =IF($C36="전",0,IF($C36="답",0,IF($C36="대",0,IF($C36="임",0,IF($C36="과",0,IF($C36="목",0,IF($C36="장",0,IF($C36="창",0,1.766)))))))) -> 1.766 | AA36: 0
A37: 30 | L37: =K37/1000 -> 0 | M37: =IF(B37<>"",E37*L37,0) -> 0 | N37: =IF($B37<>"",L37*S37,0) -> 0 | O37: =IF($B37<>"",E37*N37,0) -> 0 | Q37: =CONCATENATE(C37,F37) | S37: =V37&W37&X37&Y37&Z37 -> 00001.766 | T37: 4 | U37: =T37&C37 -> 4 | V37: =IF($U37="4전","1.80",IF($U37="4과","1.80",IF($U37="4목","1.80",0))) -> 0 | W37: =IF($U37="4답","1.80",0) -> 0 | X37: =IF($U37="4대","1.65",IF($U37="4장","1.65",IF($U37="4창","1.65",0))) -> 0 | Y37: =IF($U37="4임","2.50",0) -> 0 | Z37: =IF($C37="전",0,IF($C37="답",0,IF($C37="대",0,IF($C37="임",0,IF($C37="과",0,IF($C37="목",0,IF($C37="장",0,IF($C37="창",0,1.766)))))))) -> 1.766 | AA37: 0
A38: 31 | L38: =K38/1000 -> 0 | M38: =IF(B38<>"",E38*L38,0) -> 0 | N38: =IF($B38<>"",L38*S38,0) -> 0 | O38: =IF($B38<>"",E38*N38,0) -> 0 | Q38: =CONCATENATE(C38,F38) | S38: =V38&W38&X38&Y38&Z38 -> 00001.766 | T38: 4 | U38: =T38&C38 -> 4 | V38: =IF($U38="4전","1.80",IF($U38="4과","1.80",IF($U38="4목","1.80",0))) -> 0 | W38: =IF($U38="4답","1.80",0) -> 0 | X38: =IF($U38="4대","1.65",IF($U38="4장","1.65",IF($U38="4창","1.65",0))) -> 0 | Y38: =IF($U38="4임","2.50",0) -> 0 | Z38: =IF($C38="전",0,IF($C38="답",0,IF($C38="대",0,IF($C38="임",0,IF($C38="과",0,IF($C38="목",0,IF($C38="장",0,IF($C38="창",0,1.766)))))))) -> 1.766 | AA38: 0
A39: 32 | L39: =K39/1000 -> 0 | M39: =IF(B39<>"",E39*L39,0) -> 0 | N39: =IF($B39<>"",L39*S39,0) -> 0 | O39: =IF($B39<>"",E39*N39,0) -> 0 | Q39: =CONCATENATE(C39,F39) | S39: =V39&W39&X39&Y39&Z39 -> 00001.766 | T39: 4 | U39: =T39&C39 -> 4 | V39: =IF($U39="4전","1.80",IF($U39="4과","1.80",IF($U39="4목","1.80",0))) -> 0 | W39: =IF($U39="4답","1.80",0) -> 0 | X39: =IF($U39="4대","1.65",IF($U39="4장","1.65",IF($U39="4창","1.65",0))) -> 0 | Y39: =IF($U39="4임","2.50",0) -> 0 | Z39: =IF($C39="전",0,IF($C39="답",0,IF($C39="대",0,IF($C39="임",0,IF($C39="과",0,IF($C39="목",0,IF($C39="장",0,IF($C39="창",0,1.766)))))))) -> 1.766 | AA39: 0
... A47: 40 | L47: =K47/1000 -> 0 | M47: =IF(B47<>"",E47*L47,0) -> 0 | N47: =IF($B47<>"",L47*S47,0) -> 0 | O47: =IF($B47<>"",E47*N47,0) -> 0 | Q47: =CONCATENATE(C47,F47) | S47: =V47&W47&X47&Y47&Z47 -> 00001.766 | T47: 4 | U47: =T47&C47 -> 4 | V47: =IF($U47="4전","1.80",IF($U47="4과","1.80",IF($U47="4목","1.80",0))) -> 0 | W47: =IF($U47="4답","1.80",0) -> 0 | X47: =IF($U47="4대","1.65",IF($U47="4장","1.65",IF($U47="4창","1.65",0))) -> 0 | Y47: =IF($U47="4임","2.50",0) -> 0 | Z47: =IF($C47="전",0,IF($C47="답",0,IF($C47="대",0,IF($C47="임",0,IF($C47="과",0,IF($C47="목",0,IF($C47="장",0,IF($C47="창",0,1.766)))))))) -> 1.766 | AA47: 0
B48: 소 계 | D48: =SUM(D28:D47) -> 0 | E48: =SUM(E28:E47) -> 0 | O48: =SUM(O28:O47) -> 0 | Q48: =CONCATENATE(C48,F48) | U48: =T48&C48 | V48: =IF($U48="4전","1.80",IF($U48="4과","1.80",IF($U48="4목","1.80",0))) -> 0 | W48: =IF($U48="4답","1.80",0) -> 0 | X48: =IF($U48="4대","1.65",IF($U48="4장","1.65",IF($U48="4창","1.65",0))) -> 0 | Y48: =IF($U48="4임","2.50",0) -> 0
A49: 41 | L49: =K49/1000 -> 0 | M49: =IF(B49<>"",E49*L49,0) -> 0 | N49: =IF($B49<>"",L49*S49,0) -> 0 | O49: =IF($B49<>"",E49*N49,0) -> 0 | Q49: =CONCATENATE(C49,F49) | S49: =V49&W49&X49&Y49&Z49 -> 00001.766 | T49: 4 | U49: =T49&C49 -> 4 | V49: =IF($U49="4전","1.80",IF($U49="4과","1.80",IF($U49="4목","1.80",0))) -> 0 | W49: =IF($U49="4답","1.80",0) -> 0 | X49: =IF($U49="4대","1.65",IF($U49="4장","1.65",IF($U49="4창","1.65",0))) -> 0 | Y49: =IF($U49="4임","2.50",0) -> 0 | Z49: =IF($C49="전",0,IF($C49="답",0,IF($C49="대",0,IF($C49="임",0,IF($C49="과",0,IF($C49="목",0,IF($C49="장",0,IF($C49="창",0,1.766)))))))) -> 1.766 | AA49: 0
A50: 42 | L50: =K50/1000 -> 0 | M50: =IF(B50<>"",E50*L50,0) -> 0 | N50: =IF($B50<>"",L50*S50,0) -> 0 | O50: =IF($B50<>"",E50*N50,0) -> 0 | Q50: =CONCATENATE(C50,F50) | S50: =V50&W50&X50&Y50&Z50 -> 00001.766 | T50: 4 | U50: =T50&C50 -> 4 | V50: =IF($U50="4전","1.80",IF($U50="4과","1.80",IF($U50="4목","1.80",0))) -> 0 | W50: =IF($U50="4답","1.80",0) -> 0 | X50: =IF($U50="4대","1.65",IF($U50="4장","1.65",IF($U50="4창","1.65",0))) -> 0 | Y50: =IF($U50="4임","2.50",0) -> 0 | Z50: =IF($C50="전",0,IF($C50="답",0,IF($C50="대",0,IF($C50="임",0,IF($C50="과",0,IF($C50="목",0,IF($C50="장",0,IF($C50="창",0,1.766)))))))) -> 1.766 | AA50: 0
A51: 43 | L51: =K51/1000 -> 0 | M51: =IF(B51<>"",E51*L51,0) -> 0 | N51: =IF($B51<>"",L51*S51,0) -> 0 | O51: =IF($B51<>"",E51*N51,0) -> 0 | Q51: =CONCATENATE(C51,F51) | S51: =V51&W51&X51&Y51&Z51 -> 00001.766 | T51: 4 | U51: =T51&C51 -> 4 | V51: =IF($U51="4전","1.80",IF($U51="4과","1.80",IF($U51="4목","1.80",0))) -> 0 | W51: =IF($U51="4답","1.80",0) -> 0 | X51: =IF($U51="4대","1.65",IF($U51="4장","1.65",IF($U51="4창","1.65",0))) -> 0 | Y51: =IF($U51="4임","2.50",0) -> 0 | Z51: =IF($C51="전",0,IF($C51="답",0,IF($C51="대",0,IF($C51="임",0,IF($C51="과",0,IF($C51="목",0,IF($C51="장",0,IF($C51="창",0,1.766)))))))) -> 1.766 | AA51: 0
A52: 44 | L52: =K52/1000 -> 0 | M52: =IF(B52<>"",E52*L52,0) -> 0 | N52: =IF($B52<>"",L52*S52,0) -> 0 | O52: =IF($B52<>"",E52*N52,0) -> 0 | Q52: =CONCATENATE(C52,F52) | S52: =V52&W52&X52&Y52&Z52 -> 00001.766 | T52: 4 | U52: =T52&C52 -> 4 | V52: =IF($U52="4전","1.80",IF($U52="4과","1.80",IF($U52="4목","1.80",0))) -> 0 | W52: =IF($U52="4답","1.80",0) -> 0 | X52: =IF($U52="4대","1.65",IF($U52="4장","1.65",IF($U52="4창","1.65",0))) -> 0 | Y52: =IF($U52="4임","2.50",0) -> 0 | Z52: =IF($C52="전",0,IF($C52="답",0,IF($C52="대",0,IF($C52="임",0,IF($C52="과",0,IF($C52="목",0,IF($C52="장",0,IF($C52="창",0,1.766)))))))) -> 1.766 | AA52: 0
A53: 45 | L53: =K53/1000 -> 0 | M53: =IF(B53<>"",E53*L53,0) -> 0 | N53: =IF($B53<>"",L53*S53,0) -> 0 | O53: =IF($B53<>"",E53*N53,0) -> 0 | Q53: =CONCATENATE(C53,F53) | S53: =V53&W53&X53&Y53&Z53 -> 00001.766 | T53: 4 | U53: =T53&C53 -> 4 | V53: =IF($U53="4전","1.80",IF($U53="4과","1.80",IF($U53="4목","1.80",0))) -> 0 | W53: =IF($U53="4답","1.80",0) -> 0 | X53: =IF($U53="4대","1.65",IF($U53="4장","1.65",IF($U53="4창","1.65",0))) -> 0 | Y53: =IF($U53="4임","2.50",0) -> 0 | Z53: =IF($C53="전",0,IF($C53="답",0,IF($C53="대",0,IF($C53="임",0,IF($C53="과",0,IF($C53="목",0,IF($C53="장",0,IF($C53="창",0,1.766)))))))) -> 1.766 | AA53: 0
A54: 46 | L54: =K54/1000 -> 0 | M54: =IF(B54<>"",E54*L54,0) -> 0 | N54: =IF($B54<>"",L54*S54,0) -> 0 | O54: =IF($B54<>"",E54*N54,0) -> 0 | Q54: =CONCATENATE(C54,F54) | S54: =V54&W54&X54&Y54&Z54 -> 00001.766 | T54: 4 | U54: =T54&C54 -> 4 | V54: =IF($U54="4전","1.80",IF($U54="4과","1.80",IF($U54="4목","1.80",0))) -> 0 | W54: =IF($U54="4답","1.80",0) -> 0 | X54: =IF($U54="4대","1.65",IF($U54="4장","1.65",IF($U54="4창","1.65",0))) -> 0 | Y54: =IF($U54="4임","2.50",0) -> 0 | Z54: =IF($C54="전",0,IF($C54="답",0,IF($C54="대",0,IF($C54="임",0,IF($C54="과",0,IF($C54="목",0,IF($C54="장",0,IF($C54="창",0,1.766)))))))) -> 1.766 | AA54: 0
A55: 47 | L55: =K55/1000 -> 0 | M55: =IF(B55<>"",E55*L55,0) -> 0 | N55: =IF($B55<>"",L55*S55,0) -> 0 | O55: =IF($B55<>"",E55*N55,0) -> 0 | Q55: =CONCATENATE(C55,F55) | S55: =V55&W55&X55&Y55&Z55 -> 00001.766 | T55: 4 | U55: =T55&C55 -> 4 | V55: =IF($U55="4전","1.80",IF($U55="4과","1.80",IF($U55="4목","1.80",0))) -> 0 | W55: =IF($U55="4답","1.80",0) -> 0 | X55: =IF($U55="4대","1.65",IF($U55="4장","1.65",IF($U55="4창","1.65",0))) -> 0 | Y55: =IF($U55="4임","2.50",0) -> 0 | Z55: =IF($C55="전",0,IF($C55="답",0,IF($C55="대",0,IF($C55="임",0,IF($C55="과",0,IF($C55="목",0,IF($C55="장",0,IF($C55="창",0,1.766)))))))) -> 1.766 | AA55: 0
A56: 48 | L56: =K56/1000 -> 0 | M56: =IF(B56<>"",E56*L56,0) -> 0 | N56: =IF($B56<>"",L56*S56,0) -> 0 | O56: =IF($B56<>"",E56*N56,0) -> 0 | Q56: =CONCATENATE(C56,F56) | S56: =V56&W56&X56&Y56&Z56 -> 00001.766 | T56: 4 | U56: =T56&C56 -> 4 | V56: =IF($U56="4전","1.80",IF($U56="4과","1.80",IF($U56="4목","1.80",0))) -> 0 | W56: =IF($U56="4답","1.80",0) -> 0 | X56: =IF($U56="4대","1.65",IF($U56="4장","1.65",IF($U56="4창","1.65",0))) -> 0 | Y56: =IF($U56="4임","2.50",0) -> 0 | Z56: =IF($C56="전",0,IF($C56="답",0,IF($C56="대",0,IF($C56="임",0,IF($C56="과",0,IF($C56="목",0,IF($C56="장",0,IF($C56="창",0,1.766)))))))) -> 1.766 | AA56: 0
A57: 49 | L57: =K57/1000 -> 0 | M57: =IF(B57<>"",E57*L57,0) -> 0 | N57: =IF($B57<>"",L57*S57,0) -> 0 | O57: =IF($B57<>"",E57*N57,0) -> 0 | Q57: =CONCATENATE(C57,F57) | S57: =V57&W57&X57&Y57&Z57 -> 00001.766 | T57: 4 | U57: =T57&C57 -> 4 | V57: =IF($U57="4전","1.80",IF($U57="4과","1.80",IF($U57="4목","1.80",0))) -> 0 | W57: =IF($U57="4답","1.80",0) -> 0 | X57: =IF($U57="4대","1.65",IF($U57="4장","1.65",IF($U57="4창","1.65",0))) -> 0 | Y57: =IF($U57="4임","2.50",0) -> 0 | Z57: =IF($C57="전",0,IF($C57="답",0,IF($C57="대",0,IF($C57="임",0,IF($C57="과",0,IF($C57="목",0,IF($C57="장",0,IF($C57="창",0,1.766)))))))) -> 1.766 | AA57: 0
A58: 50 | L58: =K58/1000 -> 0 | M58: =IF(B58<>"",E58*L58,0) -> 0 | N58: =IF($B58<>"",L58*S58,0) -> 0 | O58: =IF($B58<>"",E58*N58,0) -> 0 | Q58: =CONCATENATE(C58,F58) | S58: =V58&W58&X58&Y58&Z58 -> 00001.766 | T58: 4 | U58: =T58&C58 -> 4 | V58: =IF($U58="4전","1.80",IF($U58="4과","1.80",IF($U58="4목","1.80",0))) -> 0 | W58: =IF($U58="4답","1.80",0) -> 0 | X58: =IF($U58="4대","1.65",IF($U58="4장","1.65",IF($U58="4창","1.65",0))) -> 0 | Y58: =IF($U58="4임","2.50",0) -> 0 | Z58: =IF($C58="전",0,IF($C58="답",0,IF($C58="대",0,IF($C58="임",0,IF($C58="과",0,IF($C58="목",0,IF($C58="장",0,IF($C58="창",0,1.766)))))))) -> 1.766 | AA58: 0
A59: 51 | L59: =K59/1000 -> 0 | M59: =IF(B59<>"",E59*L59,0) -> 0 | N59: =IF($B59<>"",L59*S59,0) -> 0 | O59: =IF($B59<>"",E59*N59,0) -> 0 | Q59: =CONCATENATE(C59,F59) | S59: =V59&W59&X59&Y59&Z59 -> 00001.766 | T59: 4 | U59: =T59&C59 -> 4 | V59: =IF($U59="4전","1.80",IF($U59="4과","1.80",IF($U59="4목","1.80",0))) -> 0 | W59: =IF($U59="4답","1.80",0) -> 0 | X59: =IF($U59="4대","1.65",IF($U59="4장","1.65",IF($U59="4창","1.65",0))) -> 0 | Y59: =IF($U59="4임","2.50",0) -> 0 | Z59: =IF($C59="전",0,IF($C59="답",0,IF($C59="대",0,IF($C59="임",0,IF($C59="과",0,IF($C59="목",0,IF($C59="장",0,IF($C59="창",0,1.766)))))))) -> 1.766 | AA59: 0
A60: 52 | L60: =K60/1000 -> 0 | M60: =IF(B60<>"",E60*L60,0) -> 0 | N60: =IF($B60<>"",L60*S60,0) -> 0 | O60: =IF($B60<>"",E60*N60,0) -> 0 | Q60: =CONCATENATE(C60,F60) | S60: =V60&W60&X60&Y60&Z60 -> 00001.766 | T60: 4 | U60: =T60&C60 -> 4 | V60: =IF($U60="4전","1.80",IF($U60="4과","1.80",IF($U60="4목","1.80",0))) -> 0 | W60: =IF($U60="4답","1.80",0) -> 0 | X60: =IF($U60="4대","1.65",IF($U60="4장","1.65",IF($U60="4창","1.65",0))) -> 0 | Y60: =IF($U60="4임","2.50",0) -> 0 | Z60: =IF($C60="전",0,IF($C60="답",0,IF($C60="대",0,IF($C60="임",0,IF($C60="과",0,IF($C60="목",0,IF($C60="장",0,IF($C60="창",0,1.766)))))))) -> 1.766 | AA60: 0
... A68: 60 | L68: =K68/1000 -> 0 | M68: =IF(B68<>"",E68*L68,0) -> 0 | N68: =IF($B68<>"",L68*S68,0) -> 0 | O68: =IF($B68<>"",E68*N68,0) -> 0 | Q68: =CONCATENATE(C68,F68) | S68: =V68&W68&X68&Y68&Z68 -> 00001.766 | T68: 4 | U68: =T68&C68 -> 4 | V68: =IF($U68="4전","1.80",IF($U68="4과","1.80",IF($U68="4목","1.80",0))) -> 0 | W68: =IF($U68="4답","1.80",0) -> 0 | X68: =IF($U68="4대","1.65",IF($U68="4장","1.65",IF($U68="4창","1.65",0))) -> 0 | Y68: =IF($U68="4임","2.50",0) -> 0 | Z68: =IF($C68="전",0,IF($C68="답",0,IF($C68="대",0,IF($C68="임",0,IF($C68="과",0,IF($C68="목",0,IF($C68="장",0,IF($C68="창",0,1.766)))))))) -> 1.766 | AA68: 0
B69: 소 계 | D69: =SUM(D49:D68) -> 0 | E69: =SUM(E49:E68) -> 0 | O69: =SUM(O49:O68) -> 0 | Q69: =CONCATENATE(C69,F69) | U69: =T69&C69 | V69: =IF($U69="4전","1.80",IF($U69="4과","1.80",IF($U69="4목","1.80",0))) -> 0 | W69: =IF($U69="4답","1.80",0) -> 0 | X69: =IF($U69="4대","1.65",IF($U69="4장","1.65",IF($U69="4창","1.65",0))) -> 0 | Y69: =IF($U69="4임","2.50",0) -> 0
A70: 61 | L70: =K70/1000 -> 0 | M70: =IF(B70<>"",E70*L70,0) -> 0 | N70: =IF($B70<>"",L70*S70,0) -> 0 | O70: =IF($B70<>"",E70*N70,0) -> 0 | Q70: =CONCATENATE(C70,F70) | S70: =V70&W70&X70&Y70&Z70 -> 00001.766 | T70: 4 | U70: =T70&C70 -> 4 | V70: =IF($U70="4전","1.80",IF($U70="4과","1.80",IF($U70="4목","1.80",0))) -> 0 | W70: =IF($U70="4답","1.80",0) -> 0 | X70: =IF($U70="4대","1.65",IF($U70="4장","1.65",IF($U70="4창","1.65",0))) -> 0 | Y70: =IF($U70="4임","2.50",0) -> 0 | Z70: =IF($C70="전",0,IF($C70="답",0,IF($C70="대",0,IF($C70="임",0,IF($C70="과",0,IF($C70="목",0,IF($C70="장",0,IF($C70="창",0,1.766)))))))) -> 1.766 | AA70: 0
A71: 62 | L71: =K71/1000 -> 0 | M71: =IF(B71<>"",E71*L71,0) -> 0 | N71: =IF($B71<>"",L71*S71,0) -> 0 | O71: =IF($B71<>"",E71*N71,0) -> 0 | Q71: =CONCATENATE(C71,F71) | S71: =V71&W71&X71&Y71&Z71 -> 00001.766 | T71: 4 | U71: =T71&C71 -> 4 | V71: =IF($U71="4전","1.80",IF($U71="4과","1.80",IF($U71="4목","1.80",0))) -> 0 | W71: =IF($U71="4답","1.80",0) -> 0 | X71: =IF($U71="4대","1.65",IF($U71="4장","1.65",IF($U71="4창","1.65",0))) -> 0 | Y71: =IF($U71="4임","2.50",0) -> 0 | Z71: =IF($C71="전",0,IF($C71="답",0,IF($C71="대",0,IF($C71="임",0,IF($C71="과",0,IF($C71="목",0,IF($C71="장",0,IF($C71="창",0,1.766)))))))) -> 1.766 | AA71: 0
A72: 63 | L72: =K72/1000 -> 0 | M72: =IF(B72<>"",E72*L72,0) -> 0 | N72: =IF($B72<>"",L72*S72,0) -> 0 | O72: =IF($B72<>"",E72*N72,0) -> 0 | Q72: =CONCATENATE(C72,F72) | S72: =V72&W72&X72&Y72&Z72 -> 00001.766 | T72: 4 | U72: =T72&C72 -> 4 | V72: =IF($U72="4전","1.80",IF($U72="4과","1.80",IF($U72="4목","1.80",0))) -> 0 | W72: =IF($U72="4답","1.80",0) -> 0 | X72: =IF($U72="4대","1.65",IF($U72="4장","1.65",IF($U72="4창","1.65",0))) -> 0 | Y72: =IF($U72="4임","2.50",0) -> 0 | Z72: =IF($C72="전",0,IF($C72="답",0,IF($C72="대",0,IF($C72="임",0,IF($C72="과",0,IF($C72="목",0,IF($C72="장",0,IF($C72="창",0,1.766)))))))) -> 1.766 | AA72: 0
A73: 64 | L73: =K73/1000 -> 0 | M73: =IF(B73<>"",E73*L73,0) -> 0 | N73: =IF($B73<>"",L73*S73,0) -> 0 | O73: =IF($B73<>"",E73*N73,0) -> 0 | Q73: =CONCATENATE(C73,F73) | S73: =V73&W73&X73&Y73&Z73 -> 00001.766 | T73: 4 | U73: =T73&C73 -> 4 | V73: =IF($U73="4전","1.80",IF($U73="4과","1.80",IF($U73="4목","1.80",0))) -> 0 | W73: =IF($U73="4답","1.80",0) -> 0 | X73: =IF($U73="4대","1.65",IF($U73="4장","1.65",IF($U73="4창","1.65",0))) -> 0 | Y73: =IF($U73="4임","2.50",0) -> 0 | Z73: =IF($C73="전",0,IF($C73="답",0,IF($C73="대",0,IF($C73="임",0,IF($C73="과",0,IF($C73="목",0,IF($C73="장",0,IF($C73="창",0,1.766)))))))) -> 1.766 | AA73: 0
A74: 65 | L74: =K74/1000 -> 0 | M74: =IF(B74<>"",E74*L74,0) -> 0 | N74: =IF($B74<>"",L74*S74,0) -> 0 | O74: =IF($B74<>"",E74*N74,0) -> 0 | Q74: =CONCATENATE(C74,F74) | S74: =V74&W74&X74&Y74&Z74 -> 00001.766 | T74: 4 | U74: =T74&C74 -> 4 | V74: =IF($U74="4전","1.80",IF($U74="4과","1.80",IF($U74="4목","1.80",0))) -> 0 | W74: =IF($U74="4답","1.80",0) -> 0 | X74: =IF($U74="4대","1.65",IF($U74="4장","1.65",IF($U74="4창","1.65",0))) -> 0 | Y74: =IF($U74="4임","2.50",0) -> 0 | Z74: =IF($C74="전",0,IF($C74="답",0,IF($C74="대",0,IF($C74="임",0,IF($C74="과",0,IF($C74="목",0,IF($C74="장",0,IF($C74="창",0,1.766)))))))) -> 1.766 | AA74: 0
A75: 66 | L75: =K75/1000 -> 0 | M75: =IF(B75<>"",E75*L75,0) -> 0 | N75: =IF($B75<>"",L75*S75,0) -> 0 | O75: =IF($B75<>"",E75*N75,0) -> 0 | Q75: =CONCATENATE(C75,F75) | S75: =V75&W75&X75&Y75&Z75 -> 00001.766 | T75: 4 | U75: =T75&C75 -> 4 | V75: =IF($U75="4전","1.80",IF($U75="4과","1.80",IF($U75="4목","1.80",0))) -> 0 | W75: =IF($U75="4답","1.80",0) -> 0 | X75: =IF($U75="4대","1.65",IF($U75="4장","1.65",IF($U75="4창","1.65",0))) -> 0 | Y75: =IF($U75="4임","2.50",0) -> 0 | Z75: =IF($C75="전",0,IF($C75="답",0,IF($C75="대",0,IF($C75="임",0,IF($C75="과",0,IF($C75="목",0,IF($C75="장",0,IF($C75="창",0,1.766)))))))) -> 1.766 | AA75: 0
A76: 67 | L76: =K76/1000 -> 0 | M76: =IF(B76<>"",E76*L76,0) -> 0 | N76: =IF($B76<>"",L76*S76,0) -> 0 | O76: =IF($B76<>"",E76*N76,0) -> 0 | Q76: =CONCATENATE(C76,F76) | S76: =V76&W76&X76&Y76&Z76 -> 00001.766 | T76: 4 | U76: =T76&C76 -> 4 | V76: =IF($U76="4전","1.80",IF($U76="4과","1.80",IF($U76="4목","1.80",0))) -> 0 | W76: =IF($U76="4답","1.80",0) -> 0 | X76: =IF($U76="4대","1.65",IF($U76="4장","1.65",IF($U76="4창","1.65",0))) -> 0 | Y76: =IF($U76="4임","2.50",0) -> 0 | Z76: =IF($C76="전",0,IF($C76="답",0,IF($C76="대",0,IF($C76="임",0,IF($C76="과",0,IF($C76="목",0,IF($C76="장",0,IF($C76="창",0,1.766)))))))) -> 1.766 | AA76: 0
A77: 68 | L77: =K77/1000 -> 0 | M77: =IF(B77<>"",E77*L77,0) -> 0 | N77: =IF($B77<>"",L77*S77,0) -> 0 | O77: =IF($B77<>"",E77*N77,0) -> 0 | Q77: =CONCATENATE(C77,F77) | S77: =V77&W77&X77&Y77&Z77 -> 00001.766 | T77: 4 | U77: =T77&C77 -> 4 | V77: =IF($U77="4전","1.80",IF($U77="4과","1.80",IF($U77="4목","1.80",0))) -> 0 | W77: =IF($U77="4답","1.80",0) -> 0 | X77: =IF($U77="4대","1.65",IF($U77="4장","1.65",IF($U77="4창","1.65",0))) -> 0 | Y77: =IF($U77="4임","2.50",0) -> 0 | Z77: =IF($C77="전",0,IF($C77="답",0,IF($C77="대",0,IF($C77="임",0,IF($C77="과",0,IF($C77="목",0,IF($C77="장",0,IF($C77="창",0,1.766)))))))) -> 1.766 | AA77: 0
A78: 69 | L78: =K78/1000 -> 0 | M78: =IF(B78<>"",E78*L78,0) -> 0 | N78: =IF($B78<>"",L78*S78,0) -> 0 | O78: =IF($B78<>"",E78*N78,0) -> 0 | Q78: =CONCATENATE(C78,F78) | S78: =V78&W78&X78&Y78&Z78 -> 00001.766 | T78: 4 | U78: =T78&C78 -> 4 | V78: =IF($U78="4전","1.80",IF($U78="4과","1.80",IF($U78="4목","1.80",0))) -> 0 | W78: =IF($U78="4답","1.80",0) -> 0 | X78: =IF($U78="4대","1.65",IF($U78="4장","1.65",IF($U78="4창","1.65",0))) -> 0 | Y78: =IF($U78="4임","2.50",0) -> 0 | Z78: =IF($C78="전",0,IF($C78="답",0,IF($C78="대",0,IF($C78="임",0,IF($C78="과",0,IF($C78="목",0,IF($C78="장",0,IF($C78="창",0,1.766)))))))) -> 1.766 | AA78: 0
A79: 70 | L79: =K79/1000 -> 0 | M79: =IF(B79<>"",E79*L79,0) -> 0 | N79: =IF($B79<>"",L79*S79,0) -> 0 | O79: =IF($B79<>"",E79*N79,0) -> 0 | Q79: =CONCATENATE(C79,F79) | S79: =V79&W79&X79&Y79&Z79 -> 00001.766 | T79: 4 | U79: =T79&C79 -> 4 | V79: =IF($U79="4전","1.80",IF($U79="4과","1.80",IF($U79="4목","1.80",0))) -> 0 | W79: =IF($U79="4답","1.80",0) -> 0 | X79: =IF($U79="4대","1.65",IF($U79="4장","1.65",IF($U79="4창","1.65",0))) -> 0 | Y79: =IF($U79="4임","2.50",0) -> 0 | Z79: =IF($C79="전",0,IF($C79="답",0,IF($C79="대",0,IF($C79="임",0,IF($C79="과",0,IF($C79="목",0,IF($C79="장",0,IF($C79="창",0,1.766)))))))) -> 1.766 | AA79: 0
A80: 71 | L80: =K80/1000 -> 0 | M80: =IF(B80<>"",E80*L80,0) -> 0 | N80: =IF($B80<>"",L80*S80,0) -> 0 | O80: =IF($B80<>"",E80*N80,0) -> 0 | Q80: =CONCATENATE(C80,F80) | S80: =V80&W80&X80&Y80&Z80 -> 00001.766 | T80: 4 | U80: =T80&C80 -> 4 | V80: =IF($U80="4전","1.80",IF($U80="4과","1.80",IF($U80="4목","1.80",0))) -> 0 | W80: =IF($U80="4답","1.80",0) -> 0 | X80: =IF($U80="4대","1.65",IF($U80="4장","1.65",IF($U80="4창","1.65",0))) -> 0 | Y80: =IF($U80="4임","2.50",0) -> 0 | Z80: =IF($C80="전",0,IF($C80="답",0,IF($C80="대",0,IF($C80="임",0,IF($C80="과",0,IF($C80="목",0,IF($C80="장",0,IF($C80="창",0,1.766)))))))) -> 1.766 | AA80: 0
A81: 72 | L81: =K81/1000 -> 0 | M81: =IF(B81<>"",E81*L81,0) -> 0 | N81: =IF($B81<>"",L81*S81,0) -> 0 | O81: =IF($B81<>"",E81*N81,0) -> 0 | Q81: =CONCATENATE(C81,F81) | S81: =V81&W81&X81&Y81&Z81 -> 00001.766 | T81: 4 | U81: =T81&C81 -> 4 | V81: =IF($U81="4전","1.80",IF($U81="4과","1.80",IF($U81="4목","1.80",0))) -> 0 | W81: =IF($U81="4답","1.80",0) -> 0 | X81: =IF($U81="4대","1.65",IF($U81="4장","1.65",IF($U81="4창","1.65",0))) -> 0 | Y81: =IF($U81="4임","2.50",0) -> 0 | Z81: =IF($C81="전",0,IF($C81="답",0,IF($C81="대",0,IF($C81="임",0,IF($C81="과",0,IF($C81="목",0,IF($C81="장",0,IF($C81="창",0,1.766)))))))) -> 1.766 | AA81: 0
... A89: 80 | L89: =K89/1000 -> 0 | M89: =IF(B89<>"",E89*L89,0) -> 0 | N89: =IF($B89<>"",L89*S89,0) -> 0 | O89: =IF($B89<>"",E89*N89,0) -> 0 | Q89: =CONCATENATE(C89,F89) | S89: =V89&W89&X89&Y89&Z89 -> 00001.766 | T89: 4 | U89: =T89&C89 -> 4 | V89: =IF($U89="4전","1.80",IF($U89="4과","1.80",IF($U89="4목","1.80",0))) -> 0 | W89: =IF($U89="4답","1.80",0) -> 0 | X89: =IF($U89="4대","1.65",IF($U89="4장","1.65",IF($U89="4창","1.65",0))) -> 0 | Y89: =IF($U89="4임","2.50",0) -> 0 | Z89: =IF($C89="전",0,IF($C89="답",0,IF($C89="대",0,IF($C89="임",0,IF($C89="과",0,IF($C89="목",0,IF($C89="장",0,IF($C89="창",0,1.766)))))))) -> 1.766 | AA89: 0
B90: 소 계 | D90: =SUM(D70:D89) -> 0 | E90: =SUM(E70:E89) -> 0 | O90: =SUM(O70:O89) -> 0 | Q90: =CONCATENATE(C90,F90) | U90: =T90&C90 | V90: =IF($U90="4전","1.80",IF($U90="4과","1.80",IF($U90="4목","1.80",0))) -> 0 | W90: =IF($U90="4답","1.80",0) -> 0 | X90: =IF($U90="4대","1.65",IF($U90="4장","1.65",IF($U90="4창","1.65",0))) -> 0 | Y90: =IF($U90="4임","2.50",0) -> 0
A91: 81 | L91: =K91/1000 -> 0 | M91: =IF(B91<>"",E91*L91,0) -> 0 | N91: =IF($B91<>"",L91*S91,0) -> 0 | O91: =IF($B91<>"",E91*N91,0) -> 0 | Q91: =CONCATENATE(C91,F91) | S91: =V91&W91&X91&Y91&Z91 -> 00001.766 | T91: 4 | U91: =T91&C91 -> 4 | V91: =IF($U91="4전","1.80",IF($U91="4과","1.80",IF($U91="4목","1.80",0))) -> 0 | W91: =IF($U91="4답","1.80",0) -> 0 | X91: =IF($U91="4대","1.65",IF($U91="4장","1.65",IF($U91="4창","1.65",0))) -> 0 | Y91: =IF($U91="4임","2.50",0) -> 0 | Z91: =IF($C91="전",0,IF($C91="답",0,IF($C91="대",0,IF($C91="임",0,IF($C91="과",0,IF($C91="목",0,IF($C91="장",0,IF($C91="창",0,1.766)))))))) -> 1.766 | AA91: 0
