Workbook

Sheet 전체집계표
A1: 전 체 집 계 표
A3: 구 분 | B3: 총 계 | E3: 강원도 홍천군 | K3: 비 고
E4: 북방면
E5: 성동리 | H5: 명동리
B6: 필지 | C6: / | D6: 면적(㎡) | E6: 필지 | F6: / | G6: 면적(㎡) | H6: 필지 | I6: / | J6: 면적(㎡)
A7: 계 | B7: =SUM(B8:B32) -> 48 | C7: / | D7: =SUM(D8:D32) -> 8911 | E7: =SUM(E8:E32) -> 7 | F7: / | G7: =SUM(G8:G32) -> 1152 | H7: =SUM(H8:H32) -> 41 | I7: / | J7: =SUM(J8:J32) -> 7759
A8: 전 | B8: =E8+H8 -> 5 | C8: / | D8: =G8+J8 -> 1122 | E8: =편입집계표!$B$7 -> 4 | F8: / | G8: =편입집계표!$D$7 -> 689 | H8: =편입집계표!$B$37 -> 1 | I8: / | J8: =편입집계표!$D$37 -> 433
A9: 답 | B9: =E9+H9 -> 16 | C9: / | D9: =G9+J9 -> 4592 | E9: =편입집계표!$B$8 -> 0 | F9: / | G9: =편입집계표!$D$8 -> 0 | H9: =편입집계표!$B$38 -> 16 | I9: / | J9: =편입집계표!$D$38 -> 4592
A10: 임야 | B10: =E10+H10 -> 2 | C10: / | D10: =G10+J10 -> 447 | E10: =편입집계표!$B$9 -> 2 | F10: / | G10: =편입집계표!$D$9 -> 447 | H10: =편입집계표!$B$39 -> 0 | I10: / | J10: =편입집계표!$D$39 -> 0
A11: 대지 | B11: =E11+H11 -> 0 | C11: / | D11: =G11+J11 -> 0 | E11: =편입집계표!$B$10 -> 0 | F11: / | G11: =편입집계표!$D$10 -> 0 | H11: =편입집계표!$B$40 -> 0 | I11: / | J11: =편입집계표!$D$40 -> 0
A12: 도로 | B12: =E12+H12 -> 18 | C12: / | D12: =G12+J12 -> 1692 | E12: =편입집계표!$B$11 -> 1 | F12: / | G12: =편입집계표!$D$11 -> 16 | H12: =편입집계표!$B$41 -> 17 | I12: / | J12: =편입집계표!$D$41 -> 1676
A13: 구거 | B13: =E13+H13 -> 7 | C13: / | D13: =G13+J13 -> 1058 | E13: =편입집계표!$B$12 -> 0 | F13: / | G13: =편입집계표!$D$12 -> 0 | H13: =편입집계표!$B$42 -> 7 | I13: / | J13: =편입집계표!$D$42 -> 1058
A14: 하천 | B14: =E14+H14 -> 0 | C14: / | D14: =G14+J14 -> 0 | E14: =편입집계표!$B$13 -> 0 | F14: / | G14: =편입집계표!$D$13 -> 0 | H14: =편입집계표!$B$43 -> 0 | I14: / | J14: =편입집계표!$D$43 -> 0
A15: 유지 | B15: =E15+H15 -> 0 | C15: / | D15: =G15+J15 -> 0 | E15: =편입집계표!$B$14 -> 0 | F15: / | G15: =편입집계표!$D$14 -> 0 | H15: =편입집계표!$B$44 -> 0 | I15: / | J15: =편입집계표!$D$44 -> 0
A16: 제방 | B16: =E16+H16 -> 0 | C16: / | D16: =G16+J16 -> 0 | E16: =편입집계표!$B$15 -> 0 | F16: / | G16: =편입집계표!$D$15 -> 0 | H16: =편입집계표!$B$45 -> 0 | I16: / | J16: =편입집계표!$D$45 -> 0
A17: 과수원 | B17: =E17+H17 -> 0 | C17: / | D17: =G17+J17 -> 0 | E17: =편입집계표!$B$16 -> 0 | F17: / | G17: =편입집계표!$D$16 -> 0 | H17: =편입집계표!$B$46 -> 0 | I17: / | J17: =편입집계표!$D$46 -> 0
A18: 공장 | B18: =E18+H18 -> 0 | C18: / | D18: =G18+J18 -> 0 | E18: =편입집계표!$B$17 -> 0 | F18: / | G18: =편입집계표!$D$17 -> 0 | H18: =편입집계표!$B$47 -> 0 | I18: / | J18: =편입집계표!$D$47 -> 0
A19: 목장 | B19: =E19+H19 -> 0 | C19: / | D19: =G19+J19 -> 0 | E19: =편입집계표!$B$18 -> 0 | F19: / | G19: =편입집계표!$D$18 -> 0 | H19: =편입집계표!$B$48 -> 0 | I19: / | J19: =편입집계표!$D$48 -> 0
A20: 학교용지 | B20: =E20+H20 -> 0 | C20: / | D20: =G20+J20 -> 0 | E20: =편입집계표!$B$19 -> 0 | F20: / | G20: =편입집계표!$D$19 -> 0 | H20: =편입집계표!$B$49 -> 0 | I20: / | J20: =편입집계표!$D$49 -> 0
A21: 철도 | B21: =E21+H21 -> 0 | C21: / | D21: =G21+J21 -> 0 | E21: =편입집계표!$B$20 -> 0 | F21: / | G21: =편입집계표!$D$20 -> 0 | H21: =편입집계표!$B$50 -> 0 | I21: / | J21: =편입집계표!$D$50 -> 0
A22: 묘지 | B22: =E22+H22 -> 0 | C22: / | D22: =G22+J22 -> 0 | E22: =편입집계표!$B$21 -> 0 | F22: / | G22: =편입집계표!$D$21 -> 0 | H22: =편입집계표!$B$51 -> 0 | I22: / | J22: =편입집계표!$D$51 -> 0
A23: 주차장 | B23: =E23+H23 -> 0 | C23: / | D23: =G23+J23 -> 0 | E23: =편입집계표!$B$22 -> 0 | F23: / | G23: =편입집계표!$D$22 -> 0 | H23: =편입집계표!$B$52 -> 0 | I23: / | J23: =편입집계표!$D$52 -> 0
A24: 잡종지 | B24: =E24+H24 -> 0 | C24: / | D24: =G24+J24 -> 0 | E24: =편입집계표!$B$23 -> 0 | F24: / | G24: =편입집계표!$D$23 -> 0 | H24: =편입집계표!$B$53 -> 0 | I24: / | J24: =편입집계표!$D$53 -> 0
A25: 종교 | B25: =E25+H25 -> 0 | C25: / | D25: =G25+J25 -> 0 | E25: =편입집계표!$B$24 -> 0 | F25: / | G25: =편입집계표!$D$24 -> 0 | H25: =편입집계표!$B$54 -> 0 | I25: / | J25: =편입집계표!$D$54 -> 0
A26: 주유소 | B26: =E26+H26 -> 0 | C26: / | D26: =G26+J26 -> 0 | E26: =편입집계표!$B$25 -> 0 | F26: / | G26: =편입집계표!$D$25 -> 0 | H26: =편입집계표!$B$55 -> 0 | I26: / | J26: =편입집계표!$D$55 -> 0
A27: 공원 | B27: =E27+H27 -> 0 | C27: / | D27: =G27+J27 -> 0 | E27: =편입집계표!$B$26 -> 0 | F27: / | G27: =편입집계표!$D$26 -> 0 | H27: =편입집계표!$B$56 -> 0 | I27: / | J27: =편입집계표!$D$56 -> 0
A28: 체육 | B28: =E28+H28 -> 0 | C28: / | D28: =G28+J28 -> 0 | E28: =편입집계표!$B$27 -> 0 | F28: / | G28: =편입집계표!$D$27 -> 0 | H28: =편입집계표!$B$57 -> 0 | I28: / | J28: =편입집계표!$D$57 -> 0
A29: 유원지 | B29: =E29+H29 -> 0 | C29: / | D29: =G29+J29 -> 0 | E29: =편입집계표!$B$28 -> 0 | F29: / | G29: =편입집계표!$D$28 -> 0 | H29: =편입집계표!$B$58 -> 0 | I29: / | J29: =편입집계표!$D$58 -> 0
A30: 수도용지 | B30: =E30+H30 -> 0 | C30: / | D30: =G30+J30 -> 0 | E30: =편입집계표!$B$29 -> 0 | F30: / | G30: =편입집계표!$D$29 -> 0 | H30: =편입집계표!$B$59 -> 0 | I30: / | J30: =편입집계표!$D$59 -> 0
A31: 창 고 | B31: =E31+H31 -> 0 | C31: / | D31: =G31+J31 -> 0 | E31: =편입집계표!$B$30 -> 0 | F31: / | G31: =편입집계표!$D$30 -> 0 | H31: =편입집계표!B$60 -> 0 | I31: / | J31: =편입집계표!$D$60 -> 0
A32: 무 지 번 | B32: =E32+H32 -> 0 | C32: / | D32: =G32+J32 -> 0 | E32: =편입집계표!$B$31 -> 0 | F32: / | G32: =편입집계표!$D$31 -> 0 | H32: =편입집계표!$B$61 -> 0 | I32: / | J32: =편입집계표!$D$61 -> 0
A33: 국유지 전체집계표
A35: 구 분 | B35: 총 계 | E35: 강원도 홍천군 | K35: 비 고
E36: 북방면
E37: 성동리 | H37: 명동리
B38: 필지 | C38: / | D38: 면적(㎡) | E38: 필지 | F38: / | G38: 면적(㎡) | H38: 필지 | I38: / | J38: 면적(㎡)
A39: 계 | B39: =SUM(B40:B64) -> 9 | C39: / | D39: =SUM(D40:D64) -> 927 | E39: =SUM(E40:E64) -> 1 | F39: / | G39: =SUM(G40:G64) -> 16 | H39: =SUM(H40:H64) -> 8 | I39: / | J39: =SUM(J40:J64) -> 911
A40: 전 | B40: =E40+H40 -> 0 | C40: / | D40: =G40+J40 -> 0 | E40: =편입집계표!E7 -> 0 | F40: / | G40: =편입집계표!G7 -> 0 | H40: =편입집계표!E37 -> 0 | I40: / | J40: =편입집계표!G37 -> 0
A41: 답 | B41: =E41+H41 -> 1 | C41: / | D41: =G41+J41 -> 6 | E41: =편입집계표!E8 -> 0 | F41: / | G41: =편입집계표!G8 -> 0 | H41: =편입집계표!E38 -> 1 | I41: / | J41: =편입집계표!G38 -> 6
A42: 임야 | B42: =E42+H42 -> 0 | C42: / | D42: =G42+J42 -> 0 | E42: =편입집계표!E9 -> 0 | F42: / | G42: =편입집계표!G9 -> 0 | H42: =편입집계표!E39 -> 0 | I42: / | J42: =편입집계표!G39 -> 0
...

Sheet 집계표
A1: 편 입 용 지 집 계 표
A2: =IF(EXACT(O6,O7),,"검산확인요!!!") -> 0 | K2: =IF(ISBLANK(거룡리!I3),,거룡리!I3) -> 전남 진도군 의신면 거룡리
A4: 구분 | B4: 계 | E4: 국 유 지 | H4: 공 유 지 | K4: 사 유 지 | N4: 비고
B5: 필지 | C5: / | D5: 면 적 (㎡) | E5: 필지 | F5: / | G5: 면 적 (㎡) | H5: 필지 | I5: / | J5: 면 적 (㎡) | K5: 필지 | L5: / | M5: 면 적 (㎡) | Q5: 총계 | R5: 국유지 | S5: 사유지 | T5: 국유지+사유지
A6: 계 | B6: =SUM(B7:B31) -> 41 | C6: / | D6: =SUM(D7:D31) -> 7759 | E6: =SUM(E7:E31) -> 8 | F6: / | G6: =SUM(G7:G31) -> 911 | H6: =SUM(H7:H31) -> 7 | I6: / | J6: =SUM(J7:J31) -> 1275 | K6: =SUM(K7:K31) -> 26 | L6: / | M6: =SUM(M7:M31) -> 5573 | O6: =IF(EXACT(Q6,T6),"맞음","틀림") -> 틀림 | P6: 필지 | Q6: =SUM(B7:B31) -> 41 | R6: =SUM(E7:E31) -> 8 | S6: =SUM(K7:K31) -> 26 | T6: =K6+E6 -> 34
A7: 전 | B7: =COUNTIF(거룡리!$D$7:$D$547,"전") -> 1 | C7: / | D7: =SUMIF(거룡리!$D$7:$D$547,"전",거룡리!$F$7:$F$547) -> 433 | E7: =COUNTIF(거룡리!$M$7:$M$547,"전국") -> 0 | F7: / | G7: =SUMIF(거룡리!$M$7:$M$547,"전국",거룡리!$F$7:$F$547) -> 0 | H7: =COUNTIF(거룡리!$M$7:$M$547,"전공") -> 0 | I7: / | J7: =SUMIF(거룡리!$M$7:$M$547,"전공",거룡리!$F$7:$F$547) -> 0 | K7: =B7-E7-H7 -> 1 | L7: / | M7: =D7-G7-J7 -> 433 | O7: =IF(EXACT(Q7,T7),"맞음","틀림") -> 틀림 | P7: 면적 | Q7: =SUM(D7:D31) -> 7759 | R7: =SUM(G7:G31) -> 911 | S7: =SUM(M7:M31) -> 5573 | T7: =G6+M6 -> 6484
A8: 답 | B8: =COUNTIF(거룡리!$D$7:$D$547,"답") -> 16 | C8: / | D8: =SUMIF(거룡리!$D$7:$D$547,"답",거룡리!$F$7:$F$547) -> 4592 | E8: =COUNTIF(거룡리!$M$7:$M$547,"답국") -> 1 | F8: / | G8: =SUMIF(거룡리!$M$7:$M$547,"답국",거룡리!$F$7:$F$547) -> 6 | H8: =COUNTIF(거룡리!$M$7:$M$547,"답공") -> 0 | I8: / | J8: =SUMIF(거룡리!$M$7:$M$547,"답공",거룡리!$F$7:$F$547) -> 0 | K8: =B8-E8-H8 -> 15 | L8: / | M8: =D8-G8-J8 -> 4586
A9: 임야 | B9: =COUNTIF(거룡리!$D$7:$D$547,"임") -> 0 | C9: / | D9: =SUMIF(거룡리!$D$7:$D$547,"임",거룡리!$F$7:$F$547) -> 0 | E9: =COUNTIF(거룡리!$M$7:$M$547,"임국") -> 0 | F9: / | G9: =SUMIF(거룡리!$M$7:$M$547,"임국",거룡리!$F$7:$F$547) -> 0 | H9: =COUNTIF(거룡리!$M$7:$M$547,"임공") -> 0 | I9: / | J9: =SUMIF(거룡리!$M$7:$M$547,"임공",거룡리!$F$7:$F$547) -> 0 | K9: =B9-E9-H9 -> 0 | L9: / | M9: =D9-G9-J9 -> 0
A10: 대지 | B10: =COUNTIF(거룡리!$D$7:$D$547,"대") -> 0 | C10: / | D10: =SUMIF(거룡리!$D$7:$D$547,"대",거룡리!$F$7:$F$547) -> 0 | E10: =COUNTIF(거룡리!$M$7:$M$547,"대국") -> 0 | F10: / | G10: =SUMIF(거룡리!$M$7:$M$547,"대국",거룡리!$F$7:$F$547) -> 0 | H10: =COUNTIF(거룡리!$M$7:$M$547,"대공") -> 0 | I10: / | J10: =SUMIF(거룡리!$M$7:$M$547,"대공",거룡리!$F$7:$F$547) -> 0 | K10: =B10-E10-H10 -> 0 | L10: / | M10: =D10-G10-J10 -> 0
A11: 도로 | B11: =COUNTIF(거룡리!$D$7:$D$547,"도") -> 17 | C11: / | D11: =SUMIF(거룡리!$D$7:$D$547,"도",거룡리!$F$7:$F$547) -> 1676 | E11: =COUNTIF(거룡리!$M$7:$M$547,"도국") -> 3 | F11: / | G11: =SUMIF(거룡리!$M$7:$M$547,"도국",거룡리!$F$7:$F$547) -> 93 | H11: =COUNTIF(거룡리!$M$7:$M$547,"도공") -> 7 | I11: / | J11: =SUMIF(거룡리!$M$7:$M$547,"도공",거룡리!$F$7:$F$547) -> 1275 | K11: =B11-E11-H11 -> 7 | L11: / | M11: =D11-G11-J11 -> 308
A12: 구거 | B12: =COUNTIF(거룡리!$D$7:$D$547,"구") -> 7 | C12: / | D12: =SUMIF(거룡리!$D$7:$D$547,"구",거룡리!$F$7:$F$547) -> 1058 | E12: =COUNTIF(거룡리!$M$7:$M$547,"구국") -> 4 | F12: / | G12: =SUMIF(거룡리!$M$7:$M$547,"구국",거룡리!$F$7:$F$547) -> 812 | H12: =COUNTIF(거룡리!$M$7:$M$547,"구공") -> 0 | I12: / | J12: =SUMIF(거룡리!$M$7:$M$547,"구공",거룡리!$F$7:$F$547) -> 0 | K12: =B12-E12-H12 -> 3 | L12: / | M12: =D12-G12-J12 -> 246
A13: 하천 | B13: =COUNTIF(거룡리!$D$7:$D$547,"천") -> 0 | C13: / | D13: =SUMIF(거룡리!$D$7:$D$547,"천",거룡리!$F$7:$F$547) -> 0 | E13: =COUNTIF(거룡리!$M$7:$M$547,"천국") -> 0 | F13: / | G13: =SUMIF(거룡리!$M$7:$M$547,"천국",거룡리!$F$7:$F$547) -> 0 | H13: =COUNTIF(거룡리!$M$7:$M$547,"천공") -> 0 | I13: / | J13: =SUMIF(거룡리!$M$7:$M$547,"천공",거룡리!$F$7:$F$547) -> 0 | K13: =B13-E13-H13 -> 0 | L13: / | M13: =D13-G13-J13 -> 0
A14: 유지 | B14: =COUNTIF(거룡리!$D$7:$D$547,"유") -> 0 | C14: / | D14: =SUMIF(거룡리!$D$7:$D$547,"유",거룡리!$F$7:$F$547) -> 0 | E14: =COUNTIF(거룡리!$M$7:$M$547,"유국") -> 0 | F14: / | G14: =SUMIF(거룡리!$M$7:$M$547,"유국",거룡리!$F$7:$F$547) -> 0 | H14: =COUNTIF(거룡리!$M$7:$M$547,"유공") -> 0 | I14: / | J14: =SUMIF(거룡리!$M$7:$M$547,"유공",거룡리!$F$7:$F$547) -> 0 | K14: =B14-E14-H14 -> 0 | L14: / | M14: =D14-G14-J14 -> 0
A15: 제방 | B15: =COUNTIF(거룡리!$D$7:$D$547,"제") -> 0 | C15: / | D15: =SUMIF(거룡리!$D$7:$D$547,"제",거룡리!$F$7:$F$547) -> 0 | E15: =COUNTIF(거룡리!$M$7:$M$547,"제국") -> 0 | F15: / | G15: =SUMIF(거룡리!$M$7:$M$547,"제국",거룡리!$F$7:$F$547) -> 0 | H15: =COUNTIF(거룡리!$M$7:$M$547,"제공") -> 0 | I15: / | J15: =SUMIF(거룡리!$M$7:$M$547,"제공",거룡리!$F$7:$F$547) -> 0 | K15: =B15-E15-H15 -> 0 | L15: / | M15: =D15-G15-J15 -> 0
A16: 과수원 | B16: =COUNTIF(거룡리!$D$7:$D$547,"과") -> 0 | C16: / | D16: =SUMIF(거룡리!$D$7:$D$547,"과",거룡리!$F$7:$F$547) -> 0 | E16: =COUNTIF(거룡리!$M$7:$M$547,"과국") -> 0 | F16: / | G16: =SUMIF(거룡리!$M$7:$M$547,"과국",거룡리!$F$7:$F$547) -> 0 | H16: =COUNTIF(거룡리!$M$7:$M$547,"과공") -> 0 | I16: / | J16: =SUMIF(거룡리!$M$7:$M$547,"과공",거룡리!$F$7:$F$547) -> 0 | K16: =B16-E16-H16 -> 0 | L16: / | M16: =D16-G16-J16 -> 0
A17: 공장 | B17: =COUNTIF(거룡리!$D$7:$D$547,"장") -> 0 | C17: / | D17: =SUMIF(거룡리!$D$7:$D$547,"장",거룡리!$F$7:$F$547) -> 0 | E17: =COUNTIF(거룡리!$M$7:$M$547,"장국") -> 0 | F17: / | G17: =SUMIF(거룡리!$M$7:$M$547,"장국",거룡리!$F$7:$F$547) -> 0 | H17: =COUNTIF(거룡리!$M$7:$M$547,"장공") -> 0 | I17: / | J17: =SUMIF(거룡리!$M$7:$M$547,"장공",거룡리!$F$7:$F$547) -> 0 | K17: =B17-E17-H17 -> 0 | L17: / | M17: =D17-G17-J17 -> 0
A18: 목장 | B18: =COUNTIF(거룡리!$D$7:$D$547,"목") -> 0 | C18: / | D18: =SUMIF(거룡리!$D$7:$D$547,"목",거룡리!$F$7:$F$547) -> 0 | E18: =COUNTIF(거룡리!$M$7:$M$547,"목국") -> 0 | F18: / | G18: =SUMIF(거룡리!$M$7:$M$547,"목국",거룡리!$F$7:$F$547) -> 0 | H18: =COUNTIF(거룡리!$M$7:$M$547,"목공") -> 0 | I18: / | J18: =SUMIF(거룡리!$M$7:$M$547,"목공",거룡리!$F$7:$F$547) -> 0 | K18: =B18-E18-H18 -> 0 | L18: / | M18: =D18-G18-J18 -> 0
A19: 학교용지 | B19: =COUNTIF(거룡리!$D$7:$D$547,"학") -> 0 | C19: / | D19: =SUMIF(거룡리!$D$7:$D$547,"학",거룡리!$F$7:$F$547) -> 0 | E19: =COUNTIF(거룡리!$M$7:$M$547,"학국") -> 0 | F19: / | G19: =SUMIF(거룡리!$M$7:$M$547,"학국",거룡리!$F$7:$F$547) -> 0 | H19: =COUNTIF(거룡리!$M$7:$M$547,"학공") -> 0 | I19: / | J19: =SUMIF(거룡리!$M$7:$M$547,"학공",거룡리!$F$7:$F$547) -> 0 | K19: =B19-E19-H19 -> 0 | L19: / | M19: =D19-G19-J19 -> 0
A20: 철도 | B20: =COUNTIF(거룡리!$D$7:$D$547,"철") -> 0 | C20: / | D20: =SUMIF(거룡리!$D$7:$D$547,"철",거룡리!$F$7:$F$547) -> 0 | E20: =COUNTIF(거룡리!$M$7:$M$547,"철국") -> 0 | F20: / | G20: =SUMIF(거룡리!$M$7:$M$547,"철국",거룡리!$F$7:$F$547) -> 0 | H20: =COUNTIF(거룡리!$M$7:$M$547,"철공") -> 0 | I20: / | J20: =SUMIF(거룡리!$M$7:$M$547,"철공",거룡리!$F$7:$F$547) -> 0 | K20: =B20-E20-H20 -> 0 | L20: / | M20: =D20-G20-J20 -> 0
A21: 묘지 | B21: =COUNTIF(거룡리!$D$7:$D$547,"묘") -> 0 | C21: / | D21: =SUMIF(거룡리!$D$7:$D$547,"묘",거룡리!$F$7:$F$547) -> 0 | E21: =COUNTIF(거룡리!$M$7:$M$547,"묘국") -> 0 | F21: / | G21: =SUMIF(거룡리!$M$7:$M$547,"묘국",거룡리!$F$7:$F$547) -> 0 | H21: =COUNTIF(거룡리!$M$7:$M$547,"묘공") -> 0 | I21: / | J21: =SUMIF(거룡리!$M$7:$M$547,"묘공",거룡리!$F$7:$F$547) -> 0 | K21: =B21-E21-H21 -> 0 | L21: / | M21: =D21-G21-J21 -> 0
A22: 주차장 | B22: =COUNTIF(거룡리!$D$7:$D$547,"차") -> 0 | C22: / | D22: =SUMIF(거룡리!$D$7:$D$547,"차",거룡리!$F$7:$F$547) -> 0 | E22: =COUNTIF(거룡리!$M$7:$M$547,"차국") -> 0 | F22: / | G22: =SUMIF(거룡리!$M$7:$M$547,"차국",거룡리!$F$7:$F$547) -> 0 | H22: =COUNTIF(거룡리!$M$7:$M$547,"차공") -> 0 | I22: / | J22: =SUMIF(거룡리!$M$7:$M$547,"차공",거룡리!$F$7:$F$547) -> 0 | K22: =B22-E22-H22 -> 0 | L22: / | M22: =D22-G22-J22 -> 0
A23: 잡종지 | B23: =COUNTIF(거룡리!$D$7:$D$547,"잡") -> 0 | C23: / | D23: =SUMIF(거룡리!$D$7:$D$547,"잡",거룡리!$F$7:$F$547) -> 0 | E23: =COUNTIF(거룡리!$M$7:$M$547,"잡국") -> 0 | F23: / | G23: =SUMIF(거룡리!$M$7:$M$547,"잡국",거룡리!$F$7:$F$547) -> 0 | H23: =COUNTIF(거룡리!$M$7:$M$547,"잡공") -> 0 | I23: / | J23: =SUMIF(거룡리!$M$7:$M$547,"잡공",거룡리!$F$7:$F$547) -> 0 | K23: =B23-E23-H23 -> 0 | L23: / | M23: =D23-G23-J23 -> 0
A24: 종교 | B24: =COUNTIF(거룡리!$D$7:$D$547,"종") -> 0 | C24: / | D24: =SUMIF(거룡리!$D$7:$D$547,"종",거룡리!$F$7:$F$547) -> 0 | E24: =COUNTIF(거룡리!$M$7:$M$547,"종국") -> 0 | F24: / | G24: =SUMIF(거룡리!$M$7:$M$547,"종국",거룡리!$F$7:$F$547) -> 0 | H24: =COUNTIF(거룡리!$M$7:$M$547,"종공") -> 0 | I24: / | J24: =SUMIF(거룡리!$M$7:$M$547,"종공",거룡리!$F$7:$F$547) -> 0 | K24: =B24-E24-H24 -> 0 | L24: / | M24: =D24-G24-J24 -> 0
A25: 주유소 | B25: =COUNTIF(거룡리!$D$7:$D$547,"주") -> 0 | C25: / | D25: =SUMIF(거룡리!$D$7:$D$547,"주",거룡리!$F$7:$F$547) -> 0 | E25: =COUNTIF(거룡리!$M$7:$M$547,"주국") -> 0 | F25: / | G25: =SUMIF(거룡리!$M$7:$M$547,"주국",거룡리!$F$7:$F$547) -> 0 | H25: =COUNTIF(거룡리!$M$7:$M$547,"주공") -> 0 | I25: / | J25: =SUMIF(거룡리!$M$7:$M$547,"주공",거룡리!$F$7:$F$547) -> 0 | K25: =B25-E25-H25 -> 0 | L25: / | M25: =D25-G25-J25 -> 0
A26: 공원 | B26: =COUNTIF(거룡리!$D$7:$D$547,"공") -> 0 | C26: / | D26: =SUMIF(거룡리!$D$7:$D$547,"공",거룡리!$F$7:$F$547) -> 0 | E26: =COUNTIF(거룡리!$M$7:$M$547,"공국") -> 0 | F26: / | G26: =SUMIF(거룡리!$M$7:$M$547,"공국",거룡리!$F$7:$F$547) -> 0 | H26: =COUNTIF(거룡리!$M$7:$M$547,"공공") -> 0 | I26: / | J26: =SUMIF(거룡리!$M$7:$M$547,"공공",거룡리!$F$7:$F$547) -> 0 | K26: =B26-E26-H26 -> 0 | L26: / | M26: =D26-G26-J26 -> 0
A27: 체육 | B27: =COUNTIF(거룡리!$D$7:$D$547,"체") -> 0 | C27: / | D27: =SUMIF(거룡리!$D$7:$D$547,"체",거룡리!$F$7:$F$547) -> 0 | E27: =COUNTIF(거룡리!$M$7:$M$547,"체국") -> 0 | F27: / | G27: =SUMIF(거룡리!$M$7:$M$547,"체국",거룡리!$F$7:$F$547) -> 0 | H27: =COUNTIF(거룡리!$M$7:$M$547,"체공") -> 0 | I27: / | J27: =SUMIF(거룡리!$M$7:$M$547,"체공",거룡리!$F$7:$F$547) -> 0 | K27: =B27-E27-H27 -> 0 | L27: / | M27: =D27-G27-J27 -> 0
A28: 유원지 | B28: =COUNTIF(거룡리!$D$7:$D$547,"원") -> 0 | C28: / | D28: =SUMIF(거룡리!$D$7:$D$547,"원",거룡리!$F$7:$F$547) -> 0 | E28: =COUNTIF(거룡리!$M$7:$M$547,"원국") -> 0 | F28: / | G28: =SUMIF(거룡리!$M$7:$M$547,"원국",거룡리!$F$7:$F$547) -> 0 | H28: =COUNTIF(거룡리!$M$7:$M$547,"원공") -> 0 | I28: / | J28: =SUMIF(거룡리!$M$7:$M$547,"원공",거룡리!$F$7:$F$547) -> 0 | K28: =B28-E28-H28 -> 0 | L28: / | M28: =D28-G28-J28 -> 0
A29: 수도용지 | B29: =COUNTIF(거룡리!$D$7:$D$547,"수") -> 0 | C29: / | D29: =SUMIF(거룡리!$D$7:$D$547,"수",거룡리!$F$7:$F$547) -> 0 | E29: =COUNTIF(거룡리!$M$7:$M$547,"수국") -> 0 | F29: / | G29: =SUMIF(거룡리!$M$7:$M$547,"수국",거룡리!$F$7:$F$547) -> 0 | H29: =COUNTIF(거룡리!$M$7:$M$547,"수공") -> 0 | I29: / | J29: =SUMIF(거룡리!$M$7:$M$547,"수공",거룡리!$F$7:$F$547) -> 0 | K29: =B29-E29-H29 -> 0 | L29: / | M29: =D29-G29-J29 -> 0
A30: 창 고 | B30: =COUNTIF(거룡리!$D$7:$D$547,"창") -> 0 | C30: / | D30: =SUMIF(거룡리!$D$7:$D$547,"창",거룡리!$F$7:$F$547) -> 0 | E30: =COUNTIF(거룡리!$M$7:$M$547,"창국") -> 0 | F30: / | G30: =SUMIF(거룡리!$M$7:$M$547,"창국",거룡리!$F$7:$F$547) -> 0 | H30: =COUNTIF(거룡리!$M$7:$M$547,"창공") -> 0 | I30: / | J30: =SUMIF(거룡리!$M$7:$M$547,"창공",거룡리!$F$7:$F$547) -> 0 | K30: =B30-E30-H30 -> 0 | L30: / | M30: =D30-G30-J30 -> 0
A31: 무 지 번 | B31: =COUNTIF(거룡리!$D$7:$D$547,"가") -> 0 | C31: / | D31: =SUMIF(거룡리!$D$7:$D$547,"가",거룡리!$F$7:$F$547) -> 0 | E31: =COUNTIF(거룡리!$M$7:$M$547,"국") -> 0 | F31: / | G31: =SUMIF(거룡리!$M$7:$M$547,"국",거룡리!$F$7:$F$547) -> 0 | H31: =COUNTIF(거룡리!$M$7:$M$547,"공") -> 0 | I31: / | J31: =SUMIF(거룡리!$M$7:$M$547,"공",거룡리!$F$7:$F$547) -> 0 | K31: =B31-E31-H31 -> 0 | L31: / | M31: =D31-G31-J31 -> 0
A32: =IF(EXACT(O36,O37),,"검산확인요!!!") -> 0 | K32: =IF(ISBLANK('0리'!H3),,'0리'!H3) -> 경상북도 예천군 용궁면 무지리
A34: 구분 | B34: 계 | E34: 국 유 지 | H34: 공 유 지 | K34: 사 유 지 | N34: 비고
B35: 필지 | C35: / | D35: 면 적 (㎡) | E35: 필지 | F35: / | G35: 면 적 (㎡) | H35: 필지 | I35: / | J35: 면 적 (㎡) | K35: 필지 | L35: / | M35: 면 적 (㎡) | Q35: 총계 | R35: 국유지 | S35: 사유지 | T35: 국유지+사유지
A36: 계 | B36: =SUM(B37:B61) -> 0 | C36: / | D36: =SUM(D37:D61) -> 0 | E36: =SUM(E37:E61) -> 0 | F36: / | G36: =SUM(G37:G61) -> 0 | H36: =SUM(H37:H61) -> 0 | I36: / | J36: =SUM(J37:J61) -> 0 | K36: =SUM(K37:K61) -> 0 | L36: / | M36: =SUM(M37:M61) -> 0 | O36: =IF(EXACT(Q36,T36),"맞음","틀림") -> 맞음 | P36: 필지 | Q36: =SUM(B37:B61) -> 0 | R36: =SUM(E37:E61) -> 0 | S36: =SUM(K37:K61) -> 0 | T36: =K36+E36 -> 0
A37: 전 | B37: =COUNTIF('0리'!$C$7:$C$501,"전") -> 0 | C37: / | D37: =SUMIF('0리'!$C$7:$C$501,"전",'0리'!$E$7:$E$501) -> 0 | E37: =COUNTIF('0리'!$Q$7:$Q$501,"전국") -> 0 | F37: / | G37: =SUMIF('0리'!$Q$7:$Q$501,"전국",'0리'!$E$7:$E$501) -> 0 | H37: =COUNTIF('0리'!$Q$7:$Q$501,"전공") -> 0 | I37: / | J37: =SUMIF('0리'!$Q$7:$Q$501,"전공",'0리'!$E$7:$E$501) -> 0 | K37: =B37-E37-H37 -> 0 | L37: / | M37: =D37-G37-J37 -> 0 | O37: =IF(EXACT(Q37,T37),"맞음","틀림") -> 맞음 | P37: 면적 | Q37: =SUM(D37:D61) -> 0 | R37: =SUM(G37:G61) -> 0 | S37: =SUM(M37:M61) -> 0 | T37: =G36+M36 -> 0
A38: 답 | B38: =COUNTIF('0리'!$C$7:$C$501,"답") -> 0 | C38: / | D38: =SUMIF('0리'!$C$7:$C$501,"답",'0리'!$E$7:$E$501) -> 0 | E38: =COUNTIF('0리'!$Q$7:$Q$501,"답국") -> 0 | F38: / | G38: =SUMIF('0리'!$Q$7:$Q$501,"답국",'0리'!$E$7:$E$501) -> 0 | H38: =COUNTIF('0리'!$Q$7:$Q$501,"답공") -> 0 | I38: / | J38: =SUMIF('0리'!$Q$7:$Q$501,"답공",'0리'!$E$7:$E$501) -> 0 | K38: =B38-E38-H38 -> 0 | L38: / | M38: =D38-G38-J38 -> 0
A39: 임야 | B39: =COUNTIF('0리'!$C$7:$C$501,"임") -> 0 | C39: / | D39: =SUMIF('0리'!$C$7:$C$501,"임",'0리'!$E$7:$E$501) -> 0 | E39: =COUNTIF('0리'!$Q$7:$Q$501,"임국") -> 0 | F39: / | G39: =SUMIF('0리'!$Q$7:$Q$501,"임국",'0리'!$E$7:$E$501) -> 0 | H39: =COUNTIF('0리'!$Q$7:$Q$501,"임공") -> 0 | I39: / | J39: =SUMIF('0리'!$Q$7:$Q$501,"임공",'0리'!$E$7:$E$501) -> 0 | K39: =B39-E39-H39 -> 0 | L39: / | M39: =D39-G39-J39 -> 0
A40: 대지 | B40: =COUNTIF('0리'!$C$7:$C$501,"대") -> 0 | C40: / | D40: =SUMIF('0리'!$C$7:$C$501,"대",'0리'!$E$7:$E$501) -> 0 | E40: =COUNTIF('0리'!$Q$7:$Q$501,"대국") -> 0 | F40: / | G40: =SUMIF('0리'!$Q$7:$Q$501,"대국",'0리'!$E$7:$E$501) -> 0 | H40: =COUNTIF('0리'!$Q$7:$Q$501,"대공") -> 0 | I40: / | J40: =SUMIF('0리'!$Q$7:$Q$501,"대공",'0리'!$E$7:$E$501) -> 0 | K40: =B40-E40-H40 -> 0 | L40: / | M40: =D40-G40-J40 -> 0
A41: 도로 | B41: =COUNTIF('0리'!$C$7:$C$501,"도") -> 0 | C41: / | D41: =SUMIF('0리'!$C$7:$C$501,"도",'0리'!$E$7:$E$501) -> 0 | E41: =COUNTIF('0리'!$Q$7:$Q$501,"도국") -> 0 | F41: / | G41: =SUMIF('0리'!$Q$7:$Q$501,"도국",'0리'!$E$7:$E$501) -> 0 | H41: =COUNTIF('0리'!$Q$7:$Q$501,"도공") -> 0 | I41: / | J41: =SUMIF('0리'!$Q$7:$Q$501,"도공",'0리'!$E$7:$E$501) -> 0 | K41: =B41-E41-H41 -> 0 | L41: / | M41: =D41-G41-J41 -> 0
A42: 구거 | B42: =COUNTIF('0리'!$C$7:$C$501,"구") -> 0 | C42: / | D42: =SUMIF('0리'!$C$7:$C$501,"구",'0리'!$E$7:$E$501) -> 0 | E42: =COUNTIF('0리'!$Q$7:$Q$501,"구국") -> 0 | F42: / | G42: =SUMIF('0리'!$Q$7:$Q$501,"구국",'0리'!$E$7:$E$501) -> 0 | H42: =COUNTIF('0리'!$Q$7:$Q$501,"구공") -> 0 | I42: / | J42: =SUMIF('0리'!$Q$7:$Q$501,"구공",'0리'!$E$7:$E$501) -> 0 | K42: =B42-E42-H42 -> 0 | L42: / | M42: =D42-G42-J42 -> 0
...

Sheet 진도군전체집계표
A1: 진도군 용지 집계표
A3: 구 분 | B3: 총 계 | E3: 전남 진도군 의신면 | K3: 비 고
E4: 만길리 | H4: 거룡리
B5: 필지 | C5: / | D5: 면적(㎡) | E5: 필지 | F5: / | G5: 면적(㎡) | H5: 필지 | I5: / | J5: 면적(㎡)
A6: 계 | B6: =SUM(B7:B31) -> 48 | C6: / | D6: =SUM(D7:D31) -> 8911 | E6: =SUM(E7:E31) -> 7 | F6: / | G6: =SUM(G7:G31) -> 1152 | H6: =SUM(H7:H31) -> 41 | I6: / | J6: =SUM(J7:J31) -> 7759
A7: 전 | B7: =E7+H7 -> 5 | C7: / | D7: =G7+J7 -> 1122 | E7: =편입집계표!$B7 -> 4 | F7: / | G7: =편입집계표!$D7 -> 689 | H7: =편입집계표!$B37 -> 1 | I7: / | J7: =편입집계표!$D37 -> 433
A8: 답 | B8: =E8+H8 -> 16 | C8: / | D8: =G8+J8 -> 4592 | E8: =편입집계표!$B8 -> 0 | F8: / | G8: =편입집계표!$D8 -> 0 | H8: =편입집계표!$B38 -> 16 | I8: / | J8: =편입집계표!$D38 -> 4592
A9: 임야 | B9: =E9+H9 -> 2 | C9: / | D9: =G9+J9 -> 447 | E9: =편입집계표!$B9 -> 2 | F9: / | G9: =편입집계표!$D9 -> 447 | H9: =편입집계표!$B39 -> 0 | I9: / | J9: =편입집계표!$D39 -> 0
A10: 대지 | B10: =E10+H10 -> 0 | C10: / | D10: =G10+J10 -> 0 | E10: =편입집계표!$B10 -> 0 | F10: / | G10: =편입집계표!$D10 -> 0 | H10: =편입집계표!$B40 -> 0 | I10: / | J10: =편입집계표!$D40 -> 0
A11: 도로 | B11: =E11+H11 -> 18 | C11: / | D11: =G11+J11 -> 1692 | E11: =편입집계표!$B11 -> 1 | F11: / | G11: =편입집계표!$D11 -> 16 | H11: =편입집계표!$B41 -> 17 | I11: / | J11: =편입집계표!$D41 -> 1676
A12: 구거 | B12: =E12+H12 -> 7 | C12: / | D12: =G12+J12 -> 1058 | E12: =편입집계표!$B12 -> 0 | F12: / | G12: =편입집계표!$D12 -> 0 | H12: =편입집계표!$B42 -> 7 | I12: / | J12: =편입집계표!$D42 -> 1058
A13: 하천 | B13: =E13+H13 -> 0 | C13: / | D13: =G13+J13 -> 0 | E13: =편입집계표!$B13 -> 0 | F13: / | G13: =편입집계표!$D13 -> 0 | H13: =편입집계표!$B43 -> 0 | I13: / | J13: =편입집계표!$D43 -> 0
A14: 유지 | B14: =E14+H14 -> 0 | C14: / | D14: =G14+J14 -> 0 | E14: =편입집계표!$B14 -> 0 | F14: / | G14: =편입집계표!$D14 -> 0 | H14: =편입집계표!$B44 -> 0 | I14: / | J14: =편입집계표!$D44 -> 0
A15: 제방 | B15: =E15+H15 -> 0 | C15: / | D15: =G15+J15 -> 0 | E15: =편입집계표!$B15 -> 0 | F15: / | G15: =편입집계표!$D15 -> 0 | H15: =편입집계표!$B45 -> 0 | I15: / | J15: =편입집계표!$D45 -> 0
A16: 과수원 | B16: =E16+H16 -> 0 | C16: / | D16: =G16+J16 -> 0 | E16: =편입집계표!$B16 -> 0 | F16: / | G16: =편입집계표!$D16 -> 0 | H16: =편입집계표!$B46 -> 0 | I16: / | J16: =편입집계표!$D46 -> 0
A17: 공장 | B17: =E17+H17 -> 0 | C17: / | D17: =G17+J17 -> 0 | E17: =편입집계표!$B17 -> 0 | F17: / | G17: =편입집계표!$D17 -> 0 | H17: =편입집계표!$B47 -> 0 | I17: / | J17: =편입집계표!$D47 -> 0
A18: 목장 | B18: =E18+H18 -> 0 | C18: / | D18: =G18+J18 -> 0 | E18: =편입집계표!$B18 -> 0 | F18: / | G18: =편입집계표!$D18 -> 0 | H18: =편입집계표!$B48 -> 0 | I18: / | J18: =편입집계표!$D48 -> 0
... A31: 무 지 번 | B31: =E31+H31 -> 0 | C31: / | D31: =G31+J31 -> 0 | E31: =편입집계표!$B31 -> 0 | F31: / | G31: =편입집계표!$D31 -> 0 | H31: =편입집계표!$B61 -> 0 | I31: / | J31: =편입집계표!$D61 -> 0
A32: 국유지 집계표
A34: 구 분 | B34: 총 계 | E34: =E3 -> 전남 진도군 의신면 | K34: 비 고
E35: =E4 -> 만길리 | H35: =H4 -> 거룡리
B36: 필지 | C36: / | D36: 면적(㎡) | E36: 필지 | F36: / | G36: 면적(㎡) | H36: 필지 | I36: / | J36: 면적(㎡)
A37: 계 | B37: =SUM(B38:B62) -> 9 | C37: / | D37: =SUM(D38:D62) -> 927 | E37: =SUM(E38:E62) -> 1 | F37: / | G37: =SUM(G38:G62) -> 16 | H37: =SUM(H38:H62) -> 8 | I37: / | J37: =SUM(J38:J62) -> 911
A38: 전 | B38: =E38+H38 -> 0 | C38: / | D38: =G38+J38 -> 0 | E38: =편입집계표!$E7 -> 0 | F38: / | G38: =편입집계표!$G7 -> 0 | H38: =편입집계표!$E37 -> 0 | I38: / | J38: =편입집계표!$G37 -> 0
A39: 답 | B39: =E39+H39 -> 1 | C39: / | D39: =G39+J39 -> 6 | E39: =편입집계표!$E8 -> 0 | F39: / | G39: =편입집계표!$G8 -> 0 | H39: =편입집계표!$E38 -> 1 | I39: / | J39: =편입집계표!$G38 -> 6
A40: 임야 | B40: =E40+H40 -> 0 | C40: / | D40: =G40+J40 -> 0 | E40: =편입집계표!$E9 -> 0 | F40: / | G40: =편입집계표!$G9 -> 0 | H40: =편입집계표!$E39 -> 0 | I40: / | J40: =편입집계표!$G39 -> 0
A41: 대지 | B41: =E41+H41 -> 0 | C41: / | D41: =G41+J41 -> 0 | E41: =편입집계표!$E10 -> 0 | F41: / | G41: =편입집계표!$G10 -> 0 | H41: =편입집계표!$E40 -> 0 | I41: / | J41: =편입집계표!$G40 -> 0
A42: 도로 | B42: =E42+H42 -> 4 | C42: / | D42: =G42+J42 -> 109 | E42: =편입집계표!$E11 -> 1 | F42: / | G42: =편입집계표!$G11 -> 16 | H42: =편입집계표!$E41 -> 3 | I42: / | J42: =편입집계표!$G41 -> 93
A43: 구거 | B43: =E43+H43 -> 4 | C43: / | D43: =G43+J43 -> 812 | E43: =편입집계표!$E12 -> 0 | F43: / | G43: =편입집계표!$G12 -> 0 | H43: =편입집계표!$E42 -> 4 | I43: / | J43: =편입집계표!$G42 -> 812
A44: 하천 | B44: =E44+H44 -> 0 | C44: / | D44: =G44+J44 -> 0 | E44: =편입집계표!$E13 -> 0 | F44: / | G44: =편입집계표!$G13 -> 0 | H44: =편입집계표!$E43 -> 0 | I44: / | J44: =편입집계표!$G43 -> 0
A45: 유지 | B45: =E45+H45 -> 0 | C45: / | D45: =G45+J45 -> 0 | E45: =편입집계표!$E14 -> 0 | F45: / | G45: =편입집계표!$G14 -> 0 | H45: =편입집계표!$E44 -> 0 | I45: / | J45: =편입집계표!$G44 -> 0
A46: 제방 | B46: =E46+H46 -> 0 | C46: / | D46: =G46+J46 -> 0 | E46: =편입집계표!$E15 -> 0 | F46: / | G46: =편입집계표!$G15 -> 0 | H46: =편입집계표!$E45 -> 0 | I46: / | J46: =편입집계표!$G45 -> 0
A47: 과수원 | B47: =E47+H47 -> 0 | C47: / | D47: =G47+J47 -> 0 | E47: =편입집계표!$E16 -> 0 | F47: / | G47: =편입집계표!$G16 -> 0 | H47: =편입집계표!$E46 -> 0 | I47: / | J47: =편입집계표!$G46 -> 0
A48: 공장 | B48: =E48+H48 -> 0 | C48: / | D48: =G48+J48 -> 0 | E48: =편입집계표!$E17 -> 0 | F48: / | G48: =편입집계표!$G17 -> 0 | H48: =편입집계표!$E47 -> 0 | I48: / | J48: =편입집계표!$G47 -> 0
A49: 목장 | B49: =E49+H49 -> 0 | C49: / | D49: =G49+J49 -> 0 | E49: =편입집계표!$E18 -> 0 | F49: / | G49: =편입집계표!$G18 -> 0 | H49: =편입집계표!$E48 -> 0 | I49: / | J49: =편입집계표!$G48 -> 0
... A62: 무 지 번 | B62: =E62+H62 -> 0 | C62: / | D62: =G62+J62 -> 0 | E62: =편입집계표!$E31 -> 0 | F62: / | G62: =편입집계표!$G31 -> 0 | H62: =편입집계표!$E61 -> 0 | I62: / | J62: =편입집계표!$G61 -> 0
A63: 공유지 집계표
A65: 구 분 | B65: 총 계 | E65: =E3 -> 전남 진도군 의신면 | K65: 비 고
E66: =E4 -> 만길리 | H66: =H4 -> 거룡리
B67: 필지 | C67: / | D67: 면적(㎡) | E67: 필지 | F67: / | G67: 면적(㎡) | H67: 필지 | I67: / | J67: 면적(㎡)
...

Sheet 편입집계표
A1: 편입용지 집계표
M2: =만길리!I3 -> 전남 진도군 의신면 만길리
A4: 구분 | B4: 계 | E4: 국 유 지 | H4: 공 유 지 | K4: 사 유 지 | N4: 비고
B5: 필지 | C5: / | D5: 면 적 (㎡) | E5: 필지 | F5: / | G5: 면 적 (㎡) | H5: 필지 | I5: / | J5: 면 적 (㎡) | K5: 필지 | L5: / | M5: 면 적 (㎡)
A6: 계 | B6: =SUM(B7:B31) -> 7 | C6: / | D6: =SUM(D7:D31) -> 1152 | E6: =SUM(E7:E31) -> 1 | F6: / | G6: =SUM(G7:G31) -> 16 | H6: =SUM(H7:H31) -> 0 | I6: / | J6: =SUM(J7:J31) -> 0 | K6: =SUM(K7:K31) -> 6 | L6: / | M6: =SUM(M7:M31) -> 1136 | Q6: 구분 | R6: 지 목 별 현 황 | W6: 비 고
A7: 전 | B7: =COUNTIF(만길리!$D$7:$D$531,"전") -> 4 | C7: / | D7: =SUMIF(만길리!$D$7:$D$531,"전",만길리!$F$7:$F$531) -> 689 | E7: =COUNTIF(만길리!$M$7:$M$531,"전국") -> 0 | F7: / | G7: =SUMIF(만길리!$M$7:$M$531,"전국",만길리!$F$7:$F$531) -> 0 | H7: =COUNTIF(만길리!$M$7:$M$531,"전공") -> 0 | I7: / | J7: =SUMIF(만길리!$M$7:$M$531,"전공",만길리!$F$7:$F$531) -> 0 | K7: =B7-E7-H7 -> 4 | L7: / | M7: =D7-G7-J7 -> 689 | R7: 계 | S7: 대지 | T7: 구거 | U7: 하천 | V7: 제방
A8: 답 | B8: =COUNTIF(만길리!$D$7:$D$531,"답") -> 0 | C8: / | D8: =SUMIF(만길리!$D$7:$D$531,"답",만길리!$F$7:$F$531) -> 0 | E8: =COUNTIF(만길리!$M$7:$M$531,"답국") -> 0 | F8: / | G8: =SUMIF(만길리!$M$7:$M$531,"답국",만길리!$F$7:$F$531) -> 0 | H8: =COUNTIF(만길리!$M$7:$M$531,"답공") -> 0 | I8: / | J8: =SUMIF(만길리!$M$7:$M$531,"답공",만길리!$F$7:$F$531) -> 0 | K8: =B8-E8-H8 -> 0 | L8: / | M8: =D8-G8-J8 -> 0 | Q8: 편입면적(㎡) | R8: =SUM(S8:V8) -> 0 | S8: =D10 -> 0 | T8: =D12 -> 0 | U8: =D13 -> 0 | V8: =D15 -> 0
A9: 임야 | B9: =COUNTIF(만길리!$D$7:$D$531,"임") -> 2 | C9: / | D9: =SUMIF(만길리!$D$7:$D$531,"임",만길리!$F$7:$F$531) -> 447 | E9: =COUNTIF(만길리!$M$7:$M$531,"임국") -> 0 | F9: / | G9: =SUMIF(만길리!$M$7:$M$531,"임국",만길리!$F$7:$F$531) -> 0 | H9: =COUNTIF(만길리!$M$7:$M$531,"임공") -> 0 | I9: / | J9: =SUMIF(만길리!$M$7:$M$531,"임공",만길리!$F$7:$F$531) -> 0 | K9: =B9-E9-H9 -> 2 | L9: / | M9: =D9-G9-J9 -> 447 | Q9: 구성비(%) | R9: =SUM(S9:V9) -> #DIV/0! | S9: =(S8/$R$8)*100 -> #DIV/0! | T9: =(T8/$R$8)*100 -> #DIV/0! | U9: =(U8/$R$8)*100 -> #DIV/0! | V9: =(V8/$R$8)*100 -> #DIV/0!
A10: 대지 | B10: =COUNTIF(만길리!$D$7:$D$531,"대") -> 0 | C10: / | D10: =SUMIF(만길리!$D$7:$D$531,"대",만길리!$F$7:$F$531) -> 0 | E10: =COUNTIF(만길리!$M$7:$M$531,"대국") -> 0 | F10: / | G10: =SUMIF(만길리!$M$7:$M$531,"대국",만길리!$F$7:$F$531) -> 0 | H10: =COUNTIF(만길리!$M$7:$M$531,"대공") -> 0 | I10: / | J10: =SUMIF(만길리!$M$7:$M$531,"대공",만길리!$F$7:$F$531) -> 0 | K10: =B10-E10-H10 -> 0 | L10: / | M10: =D10-G10-J10 -> 0
A11: 도로 | B11: =COUNTIF(만길리!$D$7:$D$531,"도") -> 1 | C11: / | D11: =SUMIF(만길리!$D$7:$D$531,"도",만길리!$F$7:$F$531) -> 16 | E11: =COUNTIF(만길리!$M$7:$M$531,"도국") -> 1 | F11: / | G11: =SUMIF(만길리!$M$7:$M$531,"도국",만길리!$F$7:$F$531) -> 16 | H11: =COUNTIF(만길리!$M$7:$M$531,"도공") -> 0 | I11: / | J11: =SUMIF(만길리!$M$7:$M$531,"도공",만길리!$F$7:$F$531) -> 0 | K11: =B11-E11-H11 -> 0 | L11: / | M11: =D11-G11-J11 -> 0
A12: 구거 | B12: =COUNTIF(만길리!$D$7:$D$531,"구") -> 0 | C12: / | D12: =SUMIF(만길리!$D$7:$D$531,"구",만길리!$F$7:$F$531) -> 0 | E12: =COUNTIF(만길리!$M$7:$M$531,"구국") -> 0 | F12: / | G12: =SUMIF(만길리!$M$7:$M$531,"구국",만길리!$F$7:$F$531) -> 0 | H12: =COUNTIF(만길리!$M$7:$M$531,"구공") -> 0 | I12: / | J12: =SUMIF(만길리!$M$7:$M$531,"구공",만길리!$F$7:$F$531) -> 0 | K12: =B12-E12-H12 -> 0 | L12: / | M12: =D12-G12-J12 -> 0 | Q12: 구분 | R12: 용도지역별 현황 | U12: 비 고
A13: 하천 | B13: =COUNTIF(만길리!$D$7:$D$531,"천") -> 0 | C13: / | D13: =SUMIF(만길리!$D$7:$D$531,"천",만길리!$F$7:$F$531) -> 0 | E13: =COUNTIF(만길리!$M$7:$M$531,"천국") -> 0 | F13: / | G13: =SUMIF(만길리!$M$7:$M$531,"천국",만길리!$F$7:$F$531) -> 0 | H13: =COUNTIF(만길리!$M$7:$M$531,"천공") -> 0 | I13: / | J13: =SUMIF(만길리!$M$7:$M$531,"천공",만길리!$F$7:$F$531) -> 0 | K13: =B13-E13-H13 -> 0 | L13: / | M13: =D13-G13-J13 -> 0 | R13: 계 | S13: 제2종일반주거지역 | T13: 보전녹지지역
A14: 유지 | B14: =COUNTIF(만길리!$D$7:$D$531,"유") -> 0 | C14: / | D14: =SUMIF(만길리!$D$7:$D$531,"유",만길리!$F$7:$F$531) -> 0 | E14: =COUNTIF(만길리!$M$7:$M$531,"유국") -> 0 | F14: / | G14: =SUMIF(만길리!$M$7:$M$531,"유국",만길리!$F$7:$F$531) -> 0 | H14: =COUNTIF(만길리!$M$7:$M$531,"유공") -> 0 | I14: / | J14: =SUMIF(만길리!$M$7:$M$531,"유공",만길리!$F$7:$F$531) -> 0 | K14: =B14-E14-H14 -> 0 | L14: / | M14: =D14-G14-J14 -> 0 | Q14: 편입면적(㎡) | R14: =SUM(S14:T14) -> 224 | S14: =SUMIF(만길리!$O$7:$O$18,"제2종일반주거지역",만길리!$F$7:$F$18)+13 -> 13 | T14: =SUMIF(만길리!$O$7:$O$18,"보전녹지지역",만길리!$F$7:$F$18)+211 -> 211
A15: 제방 | B15: =COUNTIF(만길리!$D$7:$D$531,"제") -> 0 | C15: / | D15: =SUMIF(만길리!$D$7:$D$531,"제",만길리!$F$7:$F$531) -> 0 | E15: =COUNTIF(만길리!$M$7:$M$531,"제국") -> 0 | F15: / | G15: =SUMIF(만길리!$M$7:$M$531,"제국",만길리!$F$7:$F$531) -> 0 | H15: =COUNTIF(만길리!$M$7:$M$531,"제공") -> 0 | I15: / | J15: =SUMIF(만길리!$M$7:$M$531,"제공",만길리!$F$7:$F$531) -> 0 | K15: =B15-E15-H15 -> 0 | L15: / | M15: =D15-G15-J15 -> 0 | Q15: 구성비(%) | R15: 100 | S15: =(S14/$R$14)*100 -> 5.8035714 | T15: =(T14/$R$14)*100 -> 94.196429
A16: 과수원 | B16: =COUNTIF(만길리!$D$7:$D$531,"과") -> 0 | C16: / | D16: =SUMIF(만길리!$D$7:$D$531,"과",만길리!$F$7:$F$531) -> 0 | E16: =COUNTIF(만길리!$M$7:$M$531,"과국") -> 0 | F16: / | G16: =SUMIF(만길리!$M$7:$M$531,"과국",만길리!$F$7:$F$531) -> 0 | H16: =COUNTIF(만길리!$M$7:$M$531,"과공") -> 0 | I16: / | J16: =SUMIF(만길리!$M$7:$M$531,"과공",만길리!$F$7:$F$531) -> 0 | K16: =B16-E16-H16 -> 0 | L16: / | M16: =D16-G16-J16 -> 0
A17: 공장 | B17: =COUNTIF(만길리!$D$7:$D$531,"장") -> 0 | C17: / | D17: =SUMIF(만길리!$D$7:$D$531,"장",만길리!$F$7:$F$531) -> 0 | E17: =COUNTIF(만길리!$M$7:$M$531,"장국") -> 0 | F17: / | G17: =SUMIF(만길리!$M$7:$M$531,"장국",만길리!$F$7:$F$531) -> 0 | H17: =COUNTIF(만길리!$M$7:$M$531,"장공") -> 0 | I17: / | J17: =SUMIF(만길리!$M$7:$M$531,"장공",만길리!$F$7:$F$531) -> 0 | K17: =B17-E17-H17 -> 0 | L17: / | M17: =D17-G17-J17 -> 0
A18: 목장 | B18: =COUNTIF(만길리!$D$7:$D$531,"목") -> 0 | C18: / | D18: =SUMIF(만길리!$D$7:$D$531,"목",만길리!$F$7:$F$531) -> 0 | E18: =COUNTIF(만길리!$M$7:$M$531,"목국") -> 0 | F18: / | G18: =SUMIF(만길리!$M$7:$M$531,"목국",만길리!$F$7:$F$531) -> 0 | H18: =COUNTIF(만길리!$M$7:$M$531,"목공") -> 0 | I18: / | J18: =SUMIF(만길리!$M$7:$M$531,"목공",만길리!$F$7:$F$531) -> 0 | K18: =B18-E18-H18 -> 0 | L18: / | M18: =D18-G18-J18 -> 0
A19: 학교용지 | B19: =COUNTIF(만길리!$D$7:$D$531,"학") -> 0 | C19: / | D19: =SUMIF(만길리!$D$7:$D$531,"학",만길리!$F$7:$F$531) -> 0 | E19: =COUNTIF(만길리!$M$7:$M$531,"학국") -> 0 | F19: / | G19: =SUMIF(만길리!$M$7:$M$531,"학국",만길리!$F$7:$F$531) -> 0 | H19: =COUNTIF(만길리!$M$7:$M$531,"학공") -> 0 | I19: / | J19: =SUMIF(만길리!$M$7:$M$531,"학공",만길리!$F$7:$F$531) -> 0 | K19: =B19-E19-H19 -> 0 | L19: / | M19: =D19-G19-J19 -> 0
A20: 철도 | B20: =COUNTIF(만길리!$D$7:$D$531,"철") -> 0 | C20: / | D20: =SUMIF(만길리!$D$7:$D$531,"철",만길리!$F$7:$F$531) -> 0 | E20: =COUNTIF(만길리!$M$7:$M$531,"철국") -> 0 | F20: / | G20: =SUMIF(만길리!$M$7:$M$531,"철국",만길리!$F$7:$F$531) -> 0 | H20: =COUNTIF(만길리!$M$7:$M$531,"철공") -> 0 | I20: / | J20: =SUMIF(만길리!$M$7:$M$531,"철공",만길리!$F$7:$F$531) -> 0 | K20: =B20-E20-H20 -> 0 | L20: / | M20: =D20-G20-J20 -> 0
A21: 묘지 | B21: =COUNTIF(만길리!$D$7:$D$531,"묘") -> 0 | C21: / | D21: =SUMIF(만길리!$D$7:$D$531,"묘",만길리!$F$7:$F$531) -> 0 | E21: =COUNTIF(만길리!$M$7:$M$531,"묘국") -> 0 | F21: / | G21: =SUMIF(만길리!$M$7:$M$531,"묘국",만길리!$F$7:$F$531) -> 0 | H21: =COUNTIF(만길리!$M$7:$M$531,"묘공") -> 0 | I21: / | J21: =SUMIF(만길리!$M$7:$M$531,"묘공",만길리!$F$7:$F$531) -> 0 | K21: =B21-E21-H21 -> 0 | L21: / | M21: =D21-G21-J21 -> 0
A22: 주차장 | B22: =COUNTIF(만길리!$D$7:$D$531,"차") -> 0 | C22: / | D22: =SUMIF(만길리!$D$7:$D$531,"차",만길리!$F$7:$F$531) -> 0 | E22: =COUNTIF(만길리!$M$7:$M$531,"차국") -> 0 | F22: / | G22: =SUMIF(만길리!$M$7:$M$531,"차국",만길리!$F$7:$F$531) -> 0 | H22: =COUNTIF(만길리!$M$7:$M$531,"차공") -> 0 | I22: / | J22: =SUMIF(만길리!$M$7:$M$531,"차공",만길리!$F$7:$F$531) -> 0 | K22: =B22-E22-H22 -> 0 | L22: / | M22: =D22-G22-J22 -> 0
A23: 잡종지 | B23: =COUNTIF(만길리!$D$7:$D$531,"잡") -> 0 | C23: / | D23: =SUMIF(만길리!$D$7:$D$531,"잡",만길리!$F$7:$F$531) -> 0 | E23: =COUNTIF(만길리!$M$7:$M$531,"잡국") -> 0 | F23: / | G23: =SUMIF(만길리!$M$7:$M$531,"잡국",만길리!$F$7:$F$531) -> 0 | H23: =COUNTIF(만길리!$M$7:$M$531,"잡공") -> 0 | I23: / | J23: =SUMIF(만길리!$M$7:$M$531,"잡공",만길리!$F$7:$F$531) -> 0 | K23: =B23-E23-H23 -> 0 | L23: / | M23: =D23-G23-J23 -> 0
A24: 종교 | B24: =COUNTIF(만길리!$D$7:$D$531,"종") -> 0 | C24: / | D24: =SUMIF(만길리!$D$7:$D$531,"종",만길리!$F$7:$F$531) -> 0 | E24: =COUNTIF(만길리!$M$7:$M$531,"종국") -> 0 | F24: / | G24: =SUMIF(만길리!$M$7:$M$531,"종국",만길리!$F$7:$F$531) -> 0 | H24: =COUNTIF(만길리!$M$7:$M$531,"종공") -> 0 | I24: / | J24: =SUMIF(만길리!$M$7:$M$531,"종공",만길리!$F$7:$F$531) -> 0 | K24: =B24-E24-H24 -> 0 | L24: / | M24: =D24-G24-J24 -> 0
A25: 주유소 | B25: =COUNTIF(만길리!$D$7:$D$531,"주") -> 0 | C25: / | D25: =SUMIF(만길리!$D$7:$D$531,"주",만길리!$F$7:$F$531) -> 0 | E25: =COUNTIF(만길리!$M$7:$M$531,"주국") -> 0 | F25: / | G25: =SUMIF(만길리!$M$7:$M$531,"주국",만길리!$F$7:$F$531) -> 0 | H25: =COUNTIF(만길리!$M$7:$M$531,"주공") -> 0 | I25: / | J25: =SUMIF(만길리!$M$7:$M$531,"주공",만길리!$F$7:$F$531) -> 0 | K25: =B25-E25-H25 -> 0 | L25: / | M25: =D25-G25-J25 -> 0
A26: 공원 | B26: =COUNTIF(만길리!$D$7:$D$531,"공") -> 0 | C26: / | D26: =SUMIF(만길리!$D$7:$D$531,"공",만길리!$F$7:$F$531) -> 0 | E26: =COUNTIF(만길리!$M$7:$M$531,"국국") -> 0 | F26: / | G26: =SUMIF(만길리!$M$7:$M$531,"공국",만길리!$F$7:$F$531) -> 0 | H26: =COUNTIF(만길리!$M$7:$M$531,"공공") -> 0 | I26: / | J26: =SUMIF(만길리!$M$7:$M$531,"공공",만길리!$F$7:$F$531) -> 0 | K26: =B26-E26-H26 -> 0 | L26: / | M26: =D26-G26-J26 -> 0
A27: 체육 | B27: =COUNTIF(만길리!$D$7:$D$531,"체") -> 0 | C27: / | D27: =SUMIF(만길리!$D$7:$D$531,"체",만길리!$F$7:$F$531) -> 0 | E27: =COUNTIF(만길리!$M$7:$M$531,"체국") -> 0 | F27: / | G27: =SUMIF(만길리!$M$7:$M$531,"체국",만길리!$F$7:$F$531) -> 0 | H27: =COUNTIF(만길리!$M$7:$M$531,"체공") -> 0 | I27: / | J27: =SUMIF(만길리!$M$7:$M$531,"체공",만길리!$F$7:$F$531) -> 0 | K27: =B27-E27-H27 -> 0 | L27: / | M27: =D27-G27-J27 -> 0
A28: 유원지 | B28: =COUNTIF(만길리!$D$7:$D$531,"원") -> 0 | C28: / | D28: =SUMIF(만길리!$D$7:$D$531,"원",만길리!$F$7:$F$531) -> 0 | E28: =COUNTIF(만길리!$M$7:$M$531,"원국") -> 0 | F28: / | G28: =SUMIF(만길리!$M$7:$M$531,"원국",만길리!$F$7:$F$531) -> 0 | H28: =COUNTIF(만길리!$M$7:$M$531,"원공") -> 0 | I28: / | J28: =SUMIF(만길리!$M$7:$M$531,"원공",만길리!$F$7:$F$531) -> 0 | K28: =B28-E28-H28 -> 0 | L28: / | M28: =D28-G28-J28 -> 0
A29: 수도용지 | B29: =COUNTIF(만길리!$D$7:$D$531,"수") -> 0 | C29: / | D29: =SUMIF(만길리!$D$7:$D$531,"수",만길리!$F$7:$F$531) -> 0 | E29: =COUNTIF(만길리!$M$7:$M$531,"수국") -> 0 | F29: / | G29: =SUMIF(만길리!$M$7:$M$531,"수국",만길리!$F$7:$F$531) -> 0 | H29: =COUNTIF(만길리!$M$7:$M$531,"수공") -> 0 | I29: / | J29: =SUMIF(만길리!$M$7:$M$531,"수공",만길리!$F$7:$F$531) -> 0 | K29: =B29-E29-H29 -> 0 | L29: / | M29: =D29-G29-J29 -> 0
A30: 창 고 | B30: =COUNTIF(만길리!$D$7:$D$531,"창") -> 0 | C30: / | D30: =SUMIF(만길리!$D$7:$D$531,"창",만길리!$F$7:$F$531) -> 0 | E30: =COUNTIF(만길리!$M$7:$M$531,"창국") -> 0 | F30: / | G30: =SUMIF(만길리!$M$7:$M$531,"창국",만길리!$F$7:$F$531) -> 0 | H30: =COUNTIF(만길리!$M$7:$M$531,"창공") -> 0 | I30: / | J30: =SUMIF(만길리!$M$7:$M$531,"창공",만길리!$F$7:$F$531) -> 0 | K30: =B30-E30-H30 -> 0 | L30: / | M30: =D30-G30-J30 -> 0
A31: 무 지 번 | B31: =COUNTIF(만길리!$D$7:$D$531,"가") -> 0 | C31: / | D31: =SUMIF(만길리!$D$7:$D$531,"가",만길리!$F$7:$F$531) -> 0 | E31: =COUNTIF(만길리!$M$7:$M$531,"가국") -> 0 | F31: / | G31: =SUMIF(만길리!$M$7:$M$531,"가국",만길리!$F$7:$F$531) -> 0 | H31: =COUNTIF(만길리!$M$7:$M$531,"가공") -> 0 | I31: / | J31: =SUMIF(만길리!$M$7:$M$531,"가공",만길리!$F$7:$F$531) -> 0 | K31: =B31-E31-H31 -> 0 | L31: / | M31: =D31-G31-J31 -> 0
M32: =거룡리!I3 -> 전남 진도군 의신면 거룡리
A34: 구분 | B34: 계 | E34: 국 유 지 | H34: 공 유 지 | K34: 사 유 지 | N34: 비고
B35: 필지 | C35: / | D35: 면 적 (㎡) | E35: 필지 | F35: / | G35: 면 적 (㎡) | H35: 필지 | I35: / | J35: 면 적 (㎡) | K35: 필지 | L35: / | M35: 면 적 (㎡)
A36: 계 | B36: =SUM(B37:B61) -> 41 | C36: / | D36: =SUM(D37:D61) -> 7759 | E36: =SUM(E37:E61) -> 8 | F36: / | G36: =SUM(G37:G61) -> 911 | H36: =SUM(H37:H61) -> 7 | I36: / | J36: =SUM(J37:J61) -> 1275 | K36: =SUM(K37:K61) -> 26 | L36: / | M36: =SUM(M37:M61) -> 5573
A37: 전 | B37: =COUNTIF(거룡리!$D$7:$D$526,"전") -> 1 | C37: / | D37: =SUMIF(거룡리!$D$7:$D$526,"전",거룡리!$F$7:$F$526) -> 433 | E37: =COUNTIF(거룡리!$M$7:$M$526,"전국") -> 0 | F37: / | G37: =SUMIF(거룡리!$M$7:$M$526,"전국",거룡리!$F$7:$F$526) -> 0 | H37: =COUNTIF(거룡리!$M$7:$M$526,"전공") -> 0 | I37: / | J37: =SUMIF(거룡리!$M$7:$M$526,"전공",거룡리!$F$7:$F$526) -> 0 | K37: =B37-E37-H37 -> 1 | L37: / | M37: =D37-G37-J37 -> 433
A38: 답 | B38: =COUNTIF(거룡리!$D$7:$D$526,"답") -> 16 | C38: / | D38: =SUMIF(거룡리!$D$7:$D$526,"답",거룡리!$F$7:$F$526) -> 4592 | E38: =COUNTIF(거룡리!$M$7:$M$526,"답국") -> 1 | F38: / | G38: =SUMIF(거룡리!$M$7:$M$526,"답국",거룡리!$F$7:$F$526) -> 6 | H38: =COUNTIF(거룡리!$M$7:$M$526,"답공") -> 0 | I38: / | J38: =SUMIF(거룡리!$M$7:$M$526,"답공",거룡리!$F$7:$F$526) -> 0 | K38: =B38-E38-H38 -> 15 | L38: / | M38: =D38-G38-J38 -> 4586
A39: 임야 | B39: =COUNTIF(거룡리!$D$7:$D$526,"임") -> 0 | C39: / | D39: =SUMIF(거룡리!$D$7:$D$526,"임",거룡리!$F$7:$F$526) -> 0 | E39: =COUNTIF(거룡리!$M$7:$M$526,"임국") -> 0 | F39: / | G39: =SUMIF(거룡리!$M$7:$M$526,"임국",거룡리!$F$7:$F$526) -> 0 | H39: =COUNTIF(거룡리!$M$7:$M$526,"임공") -> 0 | I39: / | J39: =SUMIF(거룡리!$M$7:$M$526,"임공",거룡리!$F$7:$F$526) -> 0 | K39: =B39-E39-H39 -> 0 | L39: / | M39: =D39-G39-J39 -> 0
A40: 대지 | B40: =COUNTIF(거룡리!$D$7:$D$526,"대") -> 0 | C40: / | D40: =SUMIF(거룡리!$D$7:$D$526,"대",거룡리!$F$7:$F$526) -> 0 | E40: =COUNTIF(거룡리!$M$7:$M$526,"대국") -> 0 | F40: / | G40: =SUMIF(거룡리!$M$7:$M$526,"대국",거룡리!$F$7:$F$526) -> 0 | H40: =COUNTIF(거룡리!$M$7:$M$526,"대공") -> 0 | I40: / | J40: =SUMIF(거룡리!$M$7:$M$526,"대공",거룡리!$F$7:$F$526) -> 0 | K40: =B40-E40-H40 -> 0 | L40: / | M40: =D40-G40-J40 -> 0
A41: 도로 | B41: =COUNTIF(거룡리!$D$7:$D$526,"도") -> 17 | C41: / | D41: =SUMIF(거룡리!$D$7:$D$526,"도",거룡리!$F$7:$F$526) -> 1676 | E41: =COUNTIF(거룡리!$M$7:$M$526,"도국") -> 3 | F41: / | G41: =SUMIF(거룡리!$M$7:$M$526,"도국",거룡리!$F$7:$F$526) -> 93 | H41: =COUNTIF(거룡리!$M$7:$M$526,"도공") -> 7 | I41: / | J41: =SUMIF(거룡리!$M$7:$M$526,"도공",거룡리!$F$7:$F$526) -> 1275 | K41: =B41-E41-H41 -> 7 | L41: / | M41: =D41-G41-J41 -> 308
A42: 구거 | B42: =COUNTIF(거룡리!$D$7:$D$526,"구") -> 7 | C42: / | D42: =SUMIF(거룡리!$D$7:$D$526,"구",거룡리!$F$7:$F$526) -> 1058 | E42: =COUNTIF(거룡리!$M$7:$M$526,"구국") -> 4 | F42: / | G42: =SUMIF(거룡리!$M$7:$M$526,"구국",거룡리!$F$7:$F$526) -> 812 | H42: =COUNTIF(거룡리!$M$7:$M$526,"구공") -> 0 | I42: / | J42: =SUMIF(거룡리!$M$7:$M$526,"구공",거룡리!$F$7:$F$526) -> 0 | K42: =B42-E42-H42 -> 3 | L42: / | M42: =D42-G42-J42 -> 246
...

Sheet 만길리
B1: 용 지 조 서 | T1: 지역 | U1: 전(과.목) | V1: 답 | W1: 대지(장.창) | X1: 임야 | Y1: 기타 | Z1: 참고문헌:도로.철도부문사업의 예비서타당성조사 표준지ㅣ침 수정.보완연구(제5판)
S2: 수도권 | T2: ①시부 | U2: 1.5 | V2: 1.5 | W2: 1.4 | X2: 2 | Y2: 2 | Z2: - 한국개발연구원 발행 2008.12
I3: 전남 진도군 의신면 만길리 | T3: ②군부 | U3: 1.75 | V3: 1.75 | W3: 1.5 | X3: 2.5 | Y3: 2.5 | Z3: - <표3-52> 지역별 지목별 보상배율
A5: 구 | B5: 일련 | C5: 지 번 | D5: 지목 | E5: 지 적 | F5: 편입면적 | G5: 소 유 자 | I5: 관 계 인 | L5: 비고 | R5: 요율적용 | S5: 수도권외 | T5: ③시부 | U5: 1.75 | V5: 1.75 | W5: 1.65 | X5: 2.3 | Y5: 2.3 | Z5: 본사업적용 | AA5: 전(과.목) | AB5: 답 | AC5: 대지(장.창) | AD5: 임야 | AE5: 기타
A6: 분 | B6: 번호 | E6: ( ㎡ ) | F6: ( ㎡ ) | G6: 성 명 | H6: 주 소 | I6: 성 명 | J6: 주 소 | K6: 권리 관계 | O6: 국계법에 따른 용도지역 | P6: 개별공시지가(2019.01) | T6: ④군부 | U6: 1.8 | V6: 1.8 | W6: 1.65 | X6: 2.5 | Y6: 2.5 | Z6: 수도권 군부 | AA6: 1.8 | AB6: 1.8 | AC6: 1.65 | AD6: 2.5 | AE6: 2.5
A7: 1 | B7: 15 | C7: 1530-3 | D7: 임 | E7: 7293 | F7: 329 | G7: 김*완 | H7: 서울시 강남구 대치동 316 은마아파트 19동 307 | M7: =CONCATENATE(D7,G7) -> 임김*완 | O7: 보전관리지역 | R7: =U7&V7&W7&X7&Y7 -> 0002.500 | S7: 4 | T7: =S7&D7 -> 4임 | U7: =IF($T7="4전","1.80",IF($T7="4과","1.80",IF($T7="4목","1.80",0))) -> 0 | V7: =IF($T7="4답","1.80",0) -> 0 | W7: =IF($T7="4대","1.65",IF($T7="4장","1.65",IF($T7="4창","1.65",0))) -> 0 | X7: =IF($T7="4임","2.50",0) -> 2.50 | Y7: =IF($D7="전",0,IF($D7="답",0,IF($D7="대",0,IF($D7="임",0,IF($D7="과",0,IF($D7="목",0,IF($D7="장",0,IF($D7="창",0,2.5)))))))) -> 0
A8: 2 | B8: 16 | C8: 1534-1 | D8: 전 | E8: 2456 | F8: 301 | G8: 김*경 | H8: 경기도 고양시 덕양구 삼원로2길 14-7 301호(삼송동) | M8: =CONCATENATE(D8,G8) -> 전김*경 | O8: 보전관리지역 | P8: 1790 | R8: =U8&V8&W8&X8&Y8 -> 1.800000 | S8: 4 | T8: =S8&D8 -> 4전 | U8: =IF($T8="4전","1.80",IF($T8="4과","1.80",IF($T8="4목","1.80",0))) -> 1.80 | V8: =IF($T8="4답","1.80",0) -> 0 | W8: =IF($T8="4대","1.65",IF($T8="4장","1.65",IF($T8="4창","1.65",0))) -> 0 | X8: =IF($T8="4임","2.50",0) -> 0 | Y8: =IF($D8="전",0,IF($D8="답",0,IF($D8="대",0,IF($D8="임",0,IF($D8="과",0,IF($D8="목",0,IF($D8="장",0,IF($D8="창",0,2.5)))))))) -> 0 | Z8: 0
A9: 3 | B9: 19 | C9: 1548-3 | D9: 전 | E9: 334 | F9: 153 | G9: 문*언 | H9: 1338 | M9: =CONCATENATE(D9,G9) -> 전문*언 | O9: 계획관리지역 | P9: 5090 | R9: =U9&V9&W9&X9&Y9 -> 1.800000 | S9: 4 | T9: =S9&D9 -> 4전 | U9: =IF($T9="4전","1.80",IF($T9="4과","1.80",IF($T9="4목","1.80",0))) -> 1.80 | V9: =IF($T9="4답","1.80",0) -> 0 | W9: =IF($T9="4대","1.65",IF($T9="4장","1.65",IF($T9="4창","1.65",0))) -> 0 | X9: =IF($T9="4임","2.50",0) -> 0 | Y9: =IF($D9="전",0,IF($D9="답",0,IF($D9="대",0,IF($D9="임",0,IF($D9="과",0,IF($D9="목",0,IF($D9="장",0,IF($D9="창",0,2.5)))))))) -> 0 | Z9: 0
A10: 4 | B10: 20 | C10: 1547 | D10: 임 | E10: 841 | F10: 118 | G10: 문*옥 | H10: 전라남도 진도군 의신면 만길리 1018 | M10: =CONCATENATE(D10,G10) -> 임문*옥 | O10: 계획관리지역 | P10: 2640
A11: 5 | B11: 21 | C11: 1546-1 | D11: 전 | E11: 585 | F11: 192 | G11: 곽*자 | H11: 전라남도 목포시 대성동 34-4 | M11: =CONCATENATE(D11,G11) -> 전곽*자 | O11: 계획관리지역 | P11: 5090
A12: 6 | B12: 22 | C12: 1545 | D12: 전 | E12: 1362 | F12: 43 | G12: 윤*식 | H12: 전라남도 진도군 의신면 송군길 39 | M12: =CONCATENATE(D12,G12) -> 전윤*식 | O12: 계획관리지역 | P12: 5090
A13: 7 | B13: 23 | C13: 1718-32 | D13: 도 | E13: 631 | F13: 16 | G13: 국 | H13: 국토교통부 | M13: =CONCATENATE(D13,G13) -> 도국 | O13: 계획관리지역 | P13: 1250
M14: =CONCATENATE(D14,G14) | R14: =U14&V14&W14&X14&Y14 -> 00002.5 | S14: 4 | T14: =S14&D14 -> 4 | U14: =IF($T14="4전","1.80",IF($T14="4과","1.80",IF($T14="4목","1.80",0))) -> 0 | V14: =IF($T14="4답","1.80",0) -> 0 | W14: =IF($T14="4대","1.65",IF($T14="4장","1.65",IF($T14="4창","1.65",0))) -> 0 | X14: =IF($T14="4임","2.50",0) -> 0 | Y14: =IF($D14="전",0,IF($D14="답",0,IF($D14="대",0,IF($D14="임",0,IF($D14="과",0,IF($D14="목",0,IF($D14="장",0,IF($D14="창",0,2.5)))))))) -> 2.5 | Z14: 0
M15: =CONCATENATE(D15,G15) | Y15: =IF($D11="전",0,IF($D11="답",0,IF($D11="대",0,IF($D11="임",0,IF($D11="과",0,IF($D11="목",0,IF($D11="장",0,IF($D11="창",0,2.5)))))))) -> 0
M16: =CONCATENATE(D16,G16) | Y16: =IF($D16="전",0,IF($D16="답",0,IF($D16="대",0,IF($D16="임",0,IF($D16="과",0,IF($D16="목",0,IF($D16="장",0,IF($D16="창",0,2.5)))))))) -> 2.5
M17: =CONCATENATE(D17,G17) | Y17: =IF($D13="전",0,IF($D13="답",0,IF($D13="대",0,IF($D13="임",0,IF($D13="과",0,IF($D13="목",0,IF($D13="장",0,IF($D13="창",0,2.5)))))))) -> 2.5
M18: =CONCATENATE(D18,G18) | Y18: =IF($D18="전",0,IF($D18="답",0,IF($D18="대",0,IF($D18="임",0,IF($D18="과",0,IF($D18="목",0,IF($D18="장",0,IF($D18="창",0,2.5)))))))) -> 2.5
M19: =CONCATENATE(D19,G19)
M20: =CONCATENATE(D20,G20)
M21: =CONCATENATE(D21,G21)
M22: =CONCATENATE(D22,G22)
M24: =CONCATENATE(D24,G24)
M25: =CONCATENATE(D25,G25)
A26: 합계 | E26: =SUM(E7:E25) -> 13502 | F26: =SUM(F7:F25) -> 1152 | M26: =CONCATENATE(D26,G26) | T26: =S26&D26 | U26: =IF($T26="4전","1.80",IF($T26="4과","1.80",IF($T26="4목","1.80",0))) -> 0 | V26: =IF($T26="4답","1.80",0) -> 0 | W26: =IF($T26="4대","1.65",IF($T26="4장","1.65",IF($T26="4창","1.65",0))) -> 0 | X26: =IF($T26="4임","2.50",0) -> 0 | Y26: =IF($D26="전",0,IF($D26="답",0,IF($D26="대",0,IF($D26="임",0,IF($D26="과",0,IF($D26="목",0,IF($D26="장",0,IF($D26="창",0,2.5)))))))) -> 2.5
M27: =CONCATENATE(D27,G27)
M28: =CONCATENATE(D28,G28)
M29: =CONCATENATE(D29,G29)
M30: =CONCATENATE(D30,G30)
M31: =CONCATENATE(D31,G31)
M32: =CONCATENATE(D32,G32)
M33: =CONCATENATE(D33,G33)
M34: =CONCATENATE(D34,G34)
M35: =CONCATENATE(D35,G35)
M36: =CONCATENATE(D36,G36)
M37: =CONCATENATE(D37,G37)
M38: =CONCATENATE(D38,G38)
... M46: =CONCATENATE(D46,G46)
C47: 소 계 | E47: =SUM(E27:E46) -> 0 | F47: =SUM(F27:F46) -> 0 | M47: =CONCATENATE(D47,G47) | T47: =S47&D47 | U47: =IF($T47="4전","1.80",IF($T47="4과","1.80",IF($T47="4목","1.80",0))) -> 0 | V47: =IF($T47="4답","1.80",0) -> 0 | W47: =IF($T47="4대","1.65",IF($T47="4장","1.65",IF($T47="4창","1.65",0))) -> 0 | X47: =IF($T47="4임","2.50",0) -> 0 | Y47: =IF($D47="전",0,IF($D47="답",0,IF($D47="대",0,IF($D47="임",0,IF($D47="과",0,IF($D47="목",0,IF($D47="장",0,IF($D47="창",0,2.5)))))))) -> 2.5
M48: =CONCATENATE(D48,G48)
M49: =CONCATENATE(D49,G49)
...

Sheet 거룡리
B1: 용 지 조 서 | T1: 지역 | U1: 전(과.목) | V1: 답 | W1: 대지(장.창) | X1: 임야 | Y1: 기타 | Z1: 참고문헌:도로.철도부문사업의 예비서타당성조사 표준지ㅣ침 수정.보완연구(제5판)
S2: 수도권 | T2: ①시부 | U2: 1.5 | V2: 1.5 | W2: 1.4 | X2: 2 | Y2: 2 | Z2: - 한국개발연구원 발행 2008.12
I3: 전남 진도군 의신면 거룡리 | T3: ②군부 | U3: 1.75 | V3: 1.75 | W3: 1.5 | X3: 2.5 | Y3: 2.5 | Z3: - <표3-52> 지역별 지목별 보상배율
A5: 구 | B5: 일련 | C5: 지 번 | D5: 지목 | E5: 지 적 | F5: 편입면적 | G5: 소 유 자 | I5: 관 계 인 | L5: 비고 | R5: 요율적용 | S5: 수도권외 | T5: ③시부 | U5: 1.75 | V5: 1.75 | W5: 1.65 | X5: 2.3 | Y5: 2.3 | Z5: 본사업적용 | AA5: 전(과.목) | AB5: 답 | AC5: 대지(장.창) | AD5: 임야 | AE5: 기타
A6: 분 | B6: 번호 | E6: ( ㎡ ) | F6: ( ㎡ ) | G6: 성 명 | H6: 주 소 | I6: 성 명 | J6: 주 소 | K6: 권리 관계 | O6: 국계법에 따른 용도지역 | P6: 개별공시지가(2019.01) | T6: ④군부 | U6: 1.8 | V6: 1.8 | W6: 1.65 | X6: 2.5 | Y6: 2.5 | Z6: 수도권 군부 | AA6: 1.8 | AB6: 1.8 | AC6: 1.65 | AD6: 2.5 | AE6: 2.5
A7: 1 | B7: 1 | C7: 490-3 | D7: 답 | E7: 172 | F7: 6 | G7: 국 | H7: 기획재정부 | M7: =CONCATENATE(D7,G7) -> 답국 | O7: 농림지역 | P7: 5570 | R7: =U7&V7&W7&X7&Y7 -> 01.80000 | S7: 4 | T7: =S7&D7 -> 4답 | U7: =IF($T7="4전","1.80",IF($T7="4과","1.80",IF($T7="4목","1.80",0))) -> 0 | V7: =IF($T7="4답","1.80",0) -> 1.80 | W7: =IF($T7="4대","1.65",IF($T7="4장","1.65",IF($T7="4창","1.65",0))) -> 0 | X7: =IF($T7="4임","2.50",0) -> 0 | Y7: =IF($D7="전",0,IF($D7="답",0,IF($D7="대",0,IF($D7="임",0,IF($D7="과",0,IF($D7="목",0,IF($D7="장",0,IF($D7="창",0,2.5)))))))) -> 0
A8: 2 | B8: 2 | C8: 489-1 | D8: 답 | E8: 1702 | F8: 769 | G8: 최*심 | H8: 전라남도 진도군 의신면 의신송정길 33-7 | M8: =CONCATENATE(D8,G8) -> 답최*심 | O8: 농림지역 | P8: 5860
A9: 3 | B9: 3 | C9: 484-1 | D9: 답 | E9: 2594 | F9: 427 | G9: 한*교 외1인 | H9: 진도면 성내리 183 | M9: =CONCATENATE(D9,G9) -> 답한*교 외1인 | O9: 농림지역 | P9: 5160 | R9: =U9&V9&W9&X9&Y9 -> 01.80000 | S9: 4 | T9: =S9&D9 -> 4답 | U9: =IF($T9="4전","1.80",IF($T9="4과","1.80",IF($T9="4목","1.80",0))) -> 0 | V9: =IF($T9="4답","1.80",0) -> 1.80 | W9: =IF($T9="4대","1.65",IF($T9="4장","1.65",IF($T9="4창","1.65",0))) -> 0 | X9: =IF($T9="4임","2.50",0) -> 0 | Y9: =IF($D9="전",0,IF($D9="답",0,IF($D9="대",0,IF($D9="임",0,IF($D9="과",0,IF($D9="목",0,IF($D9="장",0,IF($D9="창",0,2.5)))))))) -> 0 | Z9: 0
A10: 4 | B10: 4 | C10: 482-3 | D10: 전 | E10: 801 | F10: 433 | G10: 김*자 | H10: 의신면 거룡리763 | M10: =CONCATENATE(D10,G10) -> 전김*자 | O10: 농림지역 | P10: 5160 | R10: =U10&V10&W10&X10&Y10 -> 1.800000 | S10: 4 | T10: =S10&D10 -> 4전 | U10: =IF($T10="4전","1.80",IF($T10="4과","1.80",IF($T10="4목","1.80",0))) -> 1.80 | V10: =IF($T10="4답","1.80",0) -> 0 | W10: =IF($T10="4대","1.65",IF($T10="4장","1.65",IF($T10="4창","1.65",0))) -> 0 | X10: =IF($T10="4임","2.50",0) -> 0 | Y10: =IF($D10="전",0,IF($D10="답",0,IF($D10="대",0,IF($D10="임",0,IF($D10="과",0,IF($D10="목",0,IF($D10="장",0,IF($D10="창",0,2.5)))))))) -> 0 | Z10: 0
A11: 5 | B11: 5 | C11: 482-11 | D11: 구 | E11: 396 | F11: 156 | G11: 농업기반공사 | H11: 경기도 의왕시 포일동 487 | M11: =CONCATENATE(D11,G11) -> 구농업기반공사 | O11: 농림지역 | P11: 1710
A12: 6 | B12: 6 | C12: 482-8 | D12: 구 | E12: 13 | F12: 13 | G12: 농업기반공사 | H12: 경기도 의왕시 포일동 487 | M12: =CONCATENATE(D12,G12) -> 구농업기반공사 | O12: 농림지역 | P12: 1710
A13: 7 | B13: 7 | C13: 1024-8 | D13: 도 | E13: 111 | F13: 21 | G13: 국 | H13: 국토교통부 | M13: =CONCATENATE(D13,G13) -> 도국 | O13: 농림지역 | P13: 1710
A14: 8 | B14: 8 | C14: 1025-5 | D14: 구 | E14: 175 | F14: 27 | G14: 국 | H14: 기획재정부 | M14: =CONCATENATE(D14,G14) -> 구국 | O14: 농림지역 | P14: 1710
A15: 9 | B15: 9 | C15: 481-4 | D15: 구 | E15: 545 | F15: 77 | G15: 농업기반공사 | H15: 경기도 의왕시 포일동 487 | M15: =CONCATENATE(D15,G15) -> 구농업기반공사 | O15: 농림지역 | P15: 1710 | R15: =U15&V15&W15&X15&Y15 -> 00002.5 | S15: 4 | T15: =S15&D15 -> 4구 | U15: =IF($T15="4전","1.80",IF($T15="4과","1.80",IF($T15="4목","1.80",0))) -> 0 | V15: =IF($T15="4답","1.80",0) -> 0 | W15: =IF($T15="4대","1.65",IF($T15="4장","1.65",IF($T15="4창","1.65",0))) -> 0 | X15: =IF($T15="4임","2.50",0) -> 0 | Y15: =IF($D15="전",0,IF($D15="답",0,IF($D15="대",0,IF($D15="임",0,IF($D15="과",0,IF($D15="목",0,IF($D15="장",0,IF($D15="창",0,2.5)))))))) -> 2.5 | Z15: 0
A16: 10 | B16: 10 | C16: 481-1 | D16: 답 | E16: 2145 | F16: 159 | G16: 문*윤 | H16: 의신면 거룡리 996 | M16: =CONCATENATE(D16,G16) -> 답문*윤 | O16: 보전관리지역 | P16: 6200 | Y16: =IF($D12="전",0,IF($D12="답",0,IF($D12="대",0,IF($D12="임",0,IF($D12="과",0,IF($D12="목",0,IF($D12="장",0,IF($D12="창",0,2.5)))))))) -> 2.5
A17: 11 | B17: 11 | C17: 480-8 | D17: 도 | E17: 20 | F17: 20 | G17: 공 | H17: 전라남도 | M17: =CONCATENATE(D17,G17) -> 도공 | O17: 보전관리지역 | P17: 1380 | Y17: =IF($D17="전",0,IF($D17="답",0,IF($D17="대",0,IF($D17="임",0,IF($D17="과",0,IF($D17="목",0,IF($D17="장",0,IF($D17="창",0,2.5)))))))) -> 2.5
A18: 12 | B18: 12 | C18: 480-9 | D18: 도 | E18: 88 | F18: 88 | G18: 박*례 | H18: 전라남도 진도군 의신면 신정길 36-3 | M18: =CONCATENATE(D18,G18) -> 도박*례 | O18: 보전관리지역 | P18: 1380 | Y18: =IF($D14="전",0,IF($D14="답",0,IF($D14="대",0,IF($D14="임",0,IF($D14="과",0,IF($D14="목",0,IF($D14="장",0,IF($D14="창",0,2.5)))))))) -> 2.5
A19: 13 | B19: 13 | C19: 480-3 | D19: 답 | E19: 603 | F19: 261 | G19: 박*례 | H19: 전라남도 진도군 의신면 신정길 36-3 | M19: =CONCATENATE(D19,G19) -> 답박*례 | O19: 보전관리지역 | P19: 6200 | Y19: =IF($D19="전",0,IF($D19="답",0,IF($D19="대",0,IF($D19="임",0,IF($D19="과",0,IF($D19="목",0,IF($D19="장",0,IF($D19="창",0,2.5)))))))) -> 0
A20: 14 | B20: 14 | C20: 480-5 | D20: 도 | E20: 36 | F20: 36 | G20: 공 | H20: 진도군 | M20: =CONCATENATE(D20,G20) -> 도공 | O20: 보전관리지역 | P20: 1380
A21: 15 | B21: 17 | C21: 433-3 | D21: 답 | E21: 501 | F21: 295 | G21: 진*덕 | H21: 송정리 813 | M21: =CONCATENATE(D21,G21) -> 답진*덕 | O21: 계획관리지역 | P21: 5500
A22: 16 | B22: 18 | C22: 424-3 | D22: 답 | E22: 127 | F22: 127 | G22: 진*덕 | H22: 송정리 813 | M22: =CONCATENATE(D22,G22) -> 답진*덕 | O22: 계획관리지역 | P22: 5500
A23: 17 | B23: 24 | C23: 419-3 | D23: 답 | E23: 185 | F23: 80 | G23: 서*옥 | H23: 의신면 거룡리 226 | M23: =CONCATENATE(D23,G23) -> 답서*옥 | O23: 보전관리지역 | P23: 5660
A24: 18 | B24: 25 | C24: 418-3 | D24: 답 | E24: 486 | F24: 181 | G24: 양*영 | H24: 전라남도 진도군 의신면 거룡길 39-14 | M24: =CONCATENATE(D24,G24) -> 답양*영 | O24: 보전관리지역 | P24: 4980
A25: 19 | B25: 26 | C25: 417-1 | D25: 답 | E25: 1339 | F25: 519 | G25: 양*영 | H25: 전라남도 진도군 의신면 거룡길 39-14 | M25: =CONCATENATE(D25,G25) -> 답양*영 | O25: 보전관리지역 | P25: 4600
A26: 소계 | E26: =SUM(E7:E25) -> 12039 | F26: =SUM(F7:F25) -> 3695
A27: 20 | B27: 27 | C27: 416-3 | D27: 답 | E27: 1051 | F27: 489 | G27: 채*원 | H27: 의신면 거룡리 375 | M27: =CONCATENATE(D27,G27) -> 답채*원 | O27: 보전관리지역 | P27: 5660
A28: 21 | B28: 28 | C28: 397-5 | D28: 답 | E28: 131 | F28: 131 | G28: 박*식 | H28: 인천 남구 도화동 223-21 | M28: =CONCATENATE(D28,G28) -> 답박*식 | O28: 보전관리지역 | P28: 5660
A29: 22 | B29: 29 | C29: 413-2 | D29: 답 | E29: 972 | F29: 135 | G29: 채*원 | H29: 의신면 거룡리 375 | M29: =CONCATENATE(D29,G29) -> 답채*원 | O29: 보전관리지역 | P29: 5660
A30: 23 | B30: 30 | C30: 399-2 | D30: 도 | E30: 7 | F30: 7 | G30: 서*현 | H30: 의신면 거룡리 192 | M30: =CONCATENATE(D30,G30) -> 도서*현 | O30: 보전관리지역 | P30: 0
A31: 24 | B31: 31 | C31: 397-4 | D31: 도 | E31: 165 | F31: 96 | G31: 서*중 | M31: =CONCATENATE(D31,G31) -> 도서*중 | O31: 보전관리지역
A32: 25 | B32: 32 | C32: 396-4 | D32: 도 | E32: 1150 | F32: 497 | G32: 공 | H32: 진도군 | M32: =CONCATENATE(D32,G32) -> 도공 | O32: 보전관리지역 | P32: 1350
A33: 26 | B33: 33 | C33: 1042 | D33: 도 | E33: 528 | F33: 44 | G33: 국 | H33: 농림축산부 | M33: =CONCATENATE(D33,G33) -> 도국 | O33: 농림지역,보전관리지역 | P33: 1350
A34: 27 | B34: 34 | C34: 1039-15 | D34: 도 | E34: 50 | F34: 32 | G34: 공 | H34: 진도군 | M34: =CONCATENATE(D34,G34) -> 도공 | O34: 농림지역 | P34: 1780
A35: 28 | B35: 35 | C35: 1041-1 | D35: 구 | E35: 1064 | F35: 344 | G35: 국 | H35: 농림축산부 | M35: =CONCATENATE(D35,G35) -> 구국 | O35: 농림지역 | P35: 1780
A36: 29 | B36: 36 | C36: 1039-14 | D36: 도 | E36: 433 | F36: 433 | G36: 공 | H36: 전라남도 | M36: =CONCATENATE(D36,G36) -> 도공 | O36: 농림지역 | P36: 1780
A37: 30 | B37: 37 | C37: 1039 | D37: 답 | E37: 1896 | F37: 677 | G37: 이* | H37: 경기도 부천시 역곡로 471번가길 5, 2층 1호(고강동) | M37: =CONCATENATE(D37,G37) -> 답이* | O37: 농림지역 | P37: 6470
A38: 31 | B38: 38 | C38: 1041 | D38: 구 | E38: 2328 | F38: 112 | G38: 국 | H38: 농림축산부 | M38: =CONCATENATE(D38,G38) -> 구국 | O38: 농림지역 | P38: 1780
A39: 32 | B39: 39 | C39: 1040 | D39: 답 | E39: 3303 | F39: 13 | G39: 박*태 | H39: 진도군 의신면 거룡리 218 | M39: =CONCATENATE(D39,G39) -> 답박*태 | O39: 농림지역 | P39: 6290
A40: 33 | B40: 40 | C40: 1042-1 | D40: 도 | E40: 1352 | F40: 28 | G40: 국 | H40: 농림축산부 | M40: =CONCATENATE(D40,G40) -> 도국 | O40: 농림지역 | P40: 1780
A41: 34 | B41: 41 | C41: 482-4 | D41: 도 | E41: 2504 | F41: 240 | G41: 공 | H41: 진도군 | M41: =CONCATENATE(D41,G41) -> 도공 | O41: 농림지역 | P41: 1710
...

Sheet 명동리
A1: 용 지 조 서 | R1: 지역 | S1: 전(과.목) | T1: 답 | U1: 대지(장.창) | V1: 임야 | W1: 기타 | X1: 참고문헌:도로.철도부문사업의 예비서타당성조사 표준지ㅣ침 수정.보완연구(제5판)
Q2: 수도권 | R2: ①시부 | S2: 1.5 | T2: 1.5 | U2: 1.4 | V2: 2 | W2: 2 | X2: - 한국개발연구원 발행 2008.12
J3: 홍천군 남면 명동리 | R3: ②군부 | S3: 1.75 | T3: 1.75 | U3: 1.5 | V3: 2.5 | W3: 2.5 | X3: - <표3-52> 지역별 지목별 보상배율
A5: 일련 | B5: 소재지 | C5: 소재지 | D5: 지 번 | E5: 지목 | F5: 지 적 | G5: 편입면적 | H5: 소 유 자 | J5: 관 계 인 | M5: 비고 | P5: 요율적용 | Q5: 수도권외 | R5: ③시부 | S5: 1.75 | T5: 1.75 | U5: 1.65 | V5: 2.3 | W5: 2.3 | X5: 본사업적용 | Y5: 전(과.목) | Z5: 답 | AA5: 대지(장.창) | AB5: 임야 | AC5: 기타
A6: 번호 | B6: 읍·면 | C6: 리 | F6: ( ㎡ ) | G6: ( ㎡ ) | H6: 성 명 | I6: 주 소 | J6: 성 명 | K6: 주 소 | L6: 권리관계 | R6: ④군부 | S6: 1.8 | T6: 1.8 | U6: 1.65 | V6: 2.5 | W6: 2.5 | X6: 수도권 군부 | Y6: 1.8 | Z6: 1.8 | AA6: 1.65 | AB6: 2.5 | AC6: 2.5
A7: 9 | B7: 남면 | C7: 명동리 | D7: 산13-1 | E7: 임 | F7: 6219 | G7: 2231 | H7: 공 | I7: 홍천군 | N7: =CONCATENATE(E7,H7) -> 임공 | P7: =S7&T7&U7&V7&W7 -> 0002.500 | Q7: 4 | R7: =Q7&E7 -> 4임 | S7: =IF($R7="4전","1.80",IF($R7="4과","1.80",IF($R7="4목","1.80",0))) -> 0 | T7: =IF($R7="4답","1.80",0) -> 0 | U7: =IF($R7="4대","1.65",IF($R7="4장","1.65",IF($R7="4창","1.65",0))) -> 0 | V7: =IF($R7="4임","2.50",0) -> 2.50 | W7: =IF($E7="전",0,IF($E7="답",0,IF($E7="대",0,IF($E7="임",0,IF($E7="과",0,IF($E7="목",0,IF($E7="장",0,IF($E7="창",0,2.5)))))))) -> 0
N8: =CONCATENATE(E8,H8) | P8: =S8&T8&U8&V8&W8 -> 00002.5 | Q8: 4 | R8: =Q8&E8 -> 4 | S8: =IF($R8="4전","1.80",IF($R8="4과","1.80",IF($R8="4목","1.80",0))) -> 0 | T8: =IF($R8="4답","1.80",0) -> 0 | U8: =IF($R8="4대","1.65",IF($R8="4장","1.65",IF($R8="4창","1.65",0))) -> 0 | V8: =IF($R8="4임","2.50",0) -> 0 | W8: =IF($E8="전",0,IF($E8="답",0,IF($E8="대",0,IF($E8="임",0,IF($E8="과",0,IF($E8="목",0,IF($E8="장",0,IF($E8="창",0,2.5)))))))) -> 2.5 | X8: 0
N9: =CONCATENATE(E9,H9) | P9: =S9&T9&U9&V9&W9 -> 00002.5 | Q9: 4 | R9: =Q9&E9 -> 4 | S9: =IF($R9="4전","1.80",IF($R9="4과","1.80",IF($R9="4목","1.80",0))) -> 0 | T9: =IF($R9="4답","1.80",0) -> 0 | U9: =IF($R9="4대","1.65",IF($R9="4장","1.65",IF($R9="4창","1.65",0))) -> 0 | V9: =IF($R9="4임","2.50",0) -> 0 | W9: =IF($E9="전",0,IF($E9="답",0,IF($E9="대",0,IF($E9="임",0,IF($E9="과",0,IF($E9="목",0,IF($E9="장",0,IF($E9="창",0,2.5)))))))) -> 2.5 | X9: 0
N10: =CONCATENATE(E10,H10) | P10: =S10&T10&U10&V10&W10 -> 00002.5 | Q10: 4 | R10: =Q10&E10 -> 4 | S10: =IF($R10="4전","1.80",IF($R10="4과","1.80",IF($R10="4목","1.80",0))) -> 0 | T10: =IF($R10="4답","1.80",0) -> 0 | U10: =IF($R10="4대","1.65",IF($R10="4장","1.65",IF($R10="4창","1.65",0))) -> 0 | V10: =IF($R10="4임","2.50",0) -> 0 | W10: =IF($E10="전",0,IF($E10="답",0,IF($E10="대",0,IF($E10="임",0,IF($E10="과",0,IF($E10="목",0,IF($E10="장",0,IF($E10="창",0,2.5)))))))) -> 2.5 | X10: 0
N11: =CONCATENATE(E11,H11) | P11: =S11&T11&U11&V11&W11 -> 00002.5 | Q11: 4 | R11: =Q11&E11 -> 4 | S11: =IF($R11="4전","1.80",IF($R11="4과","1.80",IF($R11="4목","1.80",0))) -> 0 | T11: =IF($R11="4답","1.80",0) -> 0 | U11: =IF($R11="4대","1.65",IF($R11="4장","1.65",IF($R11="4창","1.65",0))) -> 0 | V11: =IF($R11="4임","2.50",0) -> 0 | W11: =IF($E11="전",0,IF($E11="답",0,IF($E11="대",0,IF($E11="임",0,IF($E11="과",0,IF($E11="목",0,IF($E11="장",0,IF($E11="창",0,2.5)))))))) -> 2.5 | X11: 0
N12: =CONCATENATE(E12,H12) | P12: =S12&T12&U12&V12&W12 -> 00002.5 | Q12: 4 | R12: =Q12&E12 -> 4 | S12: =IF($R12="4전","1.80",IF($R12="4과","1.80",IF($R12="4목","1.80",0))) -> 0 | T12: =IF($R12="4답","1.80",0) -> 0 | U12: =IF($R12="4대","1.65",IF($R12="4장","1.65",IF($R12="4창","1.65",0))) -> 0 | V12: =IF($R12="4임","2.50",0) -> 0 | W12: =IF($E12="전",0,IF($E12="답",0,IF($E12="대",0,IF($E12="임",0,IF($E12="과",0,IF($E12="목",0,IF($E12="장",0,IF($E12="창",0,2.5)))))))) -> 2.5 | X12: 0
N13: =CONCATENATE(E13,H13) | P13: =S13&T13&U13&V13&W13 -> 00002.5 | Q13: 4 | R13: =Q13&E13 -> 4 | S13: =IF($R13="4전","1.80",IF($R13="4과","1.80",IF($R13="4목","1.80",0))) -> 0 | T13: =IF($R13="4답","1.80",0) -> 0 | U13: =IF($R13="4대","1.65",IF($R13="4장","1.65",IF($R13="4창","1.65",0))) -> 0 | V13: =IF($R13="4임","2.50",0) -> 0 | W13: =IF($E13="전",0,IF($E13="답",0,IF($E13="대",0,IF($E13="임",0,IF($E13="과",0,IF($E13="목",0,IF($E13="장",0,IF($E13="창",0,2.5)))))))) -> 2.5 | X13: 0
N14: =CONCATENATE(E14,H14) | P14: =S14&T14&U14&V14&W14 -> 00002.5 | Q14: 4 | R14: =Q14&E14 -> 4 | S14: =IF($R14="4전","1.80",IF($R14="4과","1.80",IF($R14="4목","1.80",0))) -> 0 | T14: =IF($R14="4답","1.80",0) -> 0 | U14: =IF($R14="4대","1.65",IF($R14="4장","1.65",IF($R14="4창","1.65",0))) -> 0 | V14: =IF($R14="4임","2.50",0) -> 0 | W14: =IF($E14="전",0,IF($E14="답",0,IF($E14="대",0,IF($E14="임",0,IF($E14="과",0,IF($E14="목",0,IF($E14="장",0,IF($E14="창",0,2.5)))))))) -> 2.5 | X14: 0
D26: 소 계 | F26: =SUM(F7:F25) -> 6219 | G26: =SUM(G7:G25) -> 2231 | R26: =Q26&E26 | S26: =IF($R26="4전","1.80",IF($R26="4과","1.80",IF($R26="4목","1.80",0))) -> 0 | T26: =IF($R26="4답","1.80",0) -> 0 | U26: =IF($R26="4대","1.65",IF($R26="4장","1.65",IF($R26="4창","1.65",0))) -> 0 | V26: =IF($R26="4임","2.50",0) -> 0 | W26: =IF($E26="전",0,IF($E26="답",0,IF($E26="대",0,IF($E26="임",0,IF($E26="과",0,IF($E26="목",0,IF($E26="장",0,IF($E26="창",0,2.5)))))))) -> 2.5
A28: 41 | N28: =CONCATENATE(E28,H28) | P28: =S28&T28&U28&V28&W28 -> 00002.5 | Q28: 4 | R28: =Q28&E28 -> 4 | S28: =IF($R28="4전","1.80",IF($R28="4과","1.80",IF($R28="4목","1.80",0))) -> 0 | T28: =IF($R28="4답","1.80",0) -> 0 | U28: =IF($R28="4대","1.65",IF($R28="4장","1.65",IF($R28="4창","1.65",0))) -> 0 | V28: =IF($R28="4임","2.50",0) -> 0 | W28: =IF($E28="전",0,IF($E28="답",0,IF($E28="대",0,IF($E28="임",0,IF($E28="과",0,IF($E28="목",0,IF($E28="장",0,IF($E28="창",0,2.5)))))))) -> 2.5 | X28: 0
A29: 42 | N29: =CONCATENATE(E29,H29) | P29: =S29&T29&U29&V29&W29 -> 00002.5 | Q29: 4 | R29: =Q29&E29 -> 4 | S29: =IF($R29="4전","1.80",IF($R29="4과","1.80",IF($R29="4목","1.80",0))) -> 0 | T29: =IF($R29="4답","1.80",0) -> 0 | U29: =IF($R29="4대","1.65",IF($R29="4장","1.65",IF($R29="4창","1.65",0))) -> 0 | V29: =IF($R29="4임","2.50",0) -> 0 | W29: =IF($E29="전",0,IF($E29="답",0,IF($E29="대",0,IF($E29="임",0,IF($E29="과",0,IF($E29="목",0,IF($E29="장",0,IF($E29="창",0,2.5)))))))) -> 2.5 | X29: 0
A30: 43 | N30: =CONCATENATE(E30,H30) | P30: =S30&T30&U30&V30&W30 -> 00002.5 | Q30: 4 | R30: =Q30&E30 -> 4 | S30: =IF($R30="4전","1.80",IF($R30="4과","1.80",IF($R30="4목","1.80",0))) -> 0 | T30: =IF($R30="4답","1.80",0) -> 0 | U30: =IF($R30="4대","1.65",IF($R30="4장","1.65",IF($R30="4창","1.65",0))) -> 0 | V30: =IF($R30="4임","2.50",0) -> 0 | W30: =IF($E30="전",0,IF($E30="답",0,IF($E30="대",0,IF($E30="임",0,IF($E30="과",0,IF($E30="목",0,IF($E30="장",0,IF($E30="창",0,2.5)))))))) -> 2.5 | X30: 0
A31: 44 | N31: =CONCATENATE(E31,H31) | P31: =S31&T31&U31&V31&W31 -> 00002.5 | Q31: 4 | R31: =Q31&E31 -> 4 | S31: =IF($R31="4전","1.80",IF($R31="4과","1.80",IF($R31="4목","1.80",0))) -> 0 | T31: =IF($R31="4답","1.80",0) -> 0 | U31: =IF($R31="4대","1.65",IF($R31="4장","1.65",IF($R31="4창","1.65",0))) -> 0 | V31: =IF($R31="4임","2.50",0) -> 0 | W31: =IF($E31="전",0,IF($E31="답",0,IF($E31="대",0,IF($E31="임",0,IF($E31="과",0,IF($E31="목",0,IF($E31="장",0,IF($E31="창",0,2.5)))))))) -> 2.5 | X31: 0
